BEGIN:VCALENDAR
VERSION:2.0
PRODID:-//PrimeTimers of Kansas City - ECPv6.15.20//NONSGML v1.0//EN
CALSCALE:GREGORIAN
METHOD:PUBLISH
X-ORIGINAL-URL:https://chapters.theprimetimersww.com/kansascity
X-WR-CALDESC:Events for PrimeTimers of Kansas City
REFRESH-INTERVAL;VALUE=DURATION:PT1H
X-Robots-Tag:noindex
X-PUBLISHED-TTL:PT1H
BEGIN:VTIMEZONE
TZID:America/Chicago
BEGIN:DAYLIGHT
TZOFFSETFROM:-0600
TZOFFSETTO:-0500
TZNAME:CDT
DTSTART:20250309T080000
END:DAYLIGHT
BEGIN:STANDARD
TZOFFSETFROM:-0500
TZOFFSETTO:-0600
TZNAME:CST
DTSTART:20251102T070000
END:STANDARD
BEGIN:DAYLIGHT
TZOFFSETFROM:-0600
TZOFFSETTO:-0500
TZNAME:CDT
DTSTART:20260308T080000
END:DAYLIGHT
BEGIN:STANDARD
TZOFFSETFROM:-0500
TZOFFSETTO:-0600
TZNAME:CST
DTSTART:20261101T070000
END:STANDARD
BEGIN:DAYLIGHT
TZOFFSETFROM:-0600
TZOFFSETTO:-0500
TZNAME:CDT
DTSTART:20270314T080000
END:DAYLIGHT
BEGIN:STANDARD
TZOFFSETFROM:-0500
TZOFFSETTO:-0600
TZNAME:CST
DTSTART:20271107T070000
END:STANDARD
END:VTIMEZONE
BEGIN:VEVENT
DTSTART;TZID=America/Chicago:20260314T190000
DTEND;TZID=America/Chicago:20260314T213000
DTSTAMP:20260423T172759
CREATED:20260120T070524Z
LAST-MODIFIED:20260314T155557Z
UID:10004208-1773514800-1773523800@chapters.theprimetimersww.com
SUMMARY:Movie Night\, Part 1 @ Jim & Sam's!
DESCRIPTION:Ah\, the PTKC Movie Night.  It’s a classic\, much loved event hosted by our equally beloved board members\, Jim and Sam.  Our gracious hosts provide a few nibbles\, popcorn\, water and ice tea but if you’re so inclined\, indulge us with something delicious that you’d like to bring. After all\, we’re the guys who love to eat!  Now tonight we’re doing something special. Our feature film tonight is actual a six part series; Heated Rivalry. Heated Rivalry is a Canadian sports romance television series created\, written\, and directed by Jacob Tierney for Crave. The series stars Hudson Williams as Shane Hollander and Connor Storrie as Ilya Rozanov\, two professional hockey players who maintain a secret\, long-term romantic relationship while playing for rival teams. Tonight we’re showing episodes 1-3.  But hold on to your popcorn\, guys! We’re showing the final three episodes on Saturday\, March 28 also at Jim and Sam’s place. You don’t want to miss it!\nNow you know the drill. Keep an eye out for the Punch Bowl invite ’cause we get a great crowd here. Stay healthy\, fellas\, and be sure to join us!\n 
URL:https://chapters.theprimetimersww.com/kansascity/event/movie-night-jim-sams/
LOCATION:Jim and Sam’s home\, 9708 Lee Boulevard\, Leawood\, KS\, 66206\, United States
END:VEVENT
END:VCALENDAR