BEGIN:VCALENDAR
VERSION:2.0
PRODID:-//PrimeTimers of Kansas City - ECPv6.15.20//NONSGML v1.0//EN
CALSCALE:GREGORIAN
METHOD:PUBLISH
X-WR-CALNAME:PrimeTimers of Kansas City
X-ORIGINAL-URL:https://chapters.theprimetimersww.com/kansascity
X-WR-CALDESC:Events for PrimeTimers of Kansas City
REFRESH-INTERVAL;VALUE=DURATION:PT1H
X-Robots-Tag:noindex
X-PUBLISHED-TTL:PT1H
BEGIN:VTIMEZONE
TZID:America/Chicago
BEGIN:DAYLIGHT
TZOFFSETFROM:-0600
TZOFFSETTO:-0500
TZNAME:CDT
DTSTART:20250309T080000
END:DAYLIGHT
BEGIN:STANDARD
TZOFFSETFROM:-0500
TZOFFSETTO:-0600
TZNAME:CST
DTSTART:20251102T070000
END:STANDARD
BEGIN:DAYLIGHT
TZOFFSETFROM:-0600
TZOFFSETTO:-0500
TZNAME:CDT
DTSTART:20260308T080000
END:DAYLIGHT
BEGIN:STANDARD
TZOFFSETFROM:-0500
TZOFFSETTO:-0600
TZNAME:CST
DTSTART:20261101T070000
END:STANDARD
BEGIN:DAYLIGHT
TZOFFSETFROM:-0600
TZOFFSETTO:-0500
TZNAME:CDT
DTSTART:20270314T080000
END:DAYLIGHT
BEGIN:STANDARD
TZOFFSETFROM:-0500
TZOFFSETTO:-0600
TZNAME:CST
DTSTART:20271107T070000
END:STANDARD
END:VTIMEZONE
BEGIN:VEVENT
DTSTART;TZID=America/Chicago:20260329T113000
DTEND;TZID=America/Chicago:20260329T133000
DTSTAMP:20260423T013858
CREATED:20260205T202332Z
LAST-MODIFIED:20260407T054409Z
UID:10004275-1774783800-1774791000@chapters.theprimetimersww.com
SUMMARY:The National Museum of Toys and Miniatures
DESCRIPTION:Now for the inner kids in all of us\, let’s revel in our childhoods a bit. A superb place to do that in Kansas City is The National Museum of Toys and Miniatures! From dollhouses and games to green army men\, Barbie dolls\, and video game consoles\, the Museum’s toy collection explores social and cultural history through the lens of toys from about 1690 to the present day. Plus we can further indulge in ogling the fine-scale miniatures handmade by artists and often inspired by an existing full-scale objects.  Even better we’re getting a museum tour guide and PTKC is pickin’ up the tab for the tour and admission. Oh\, and there’s plenty of free parking\, too. Pretty great stuff\, right?!\nSo let’s meet in the entrance hall at 11:30. Our tour starts at noon. After that we can meander around on our own or feel free to grab a pal or two and grab a bite to eat. We’ll keep it easy going.\nGet a couple of arm jabs guys if you want to join us\, please. Lots of nasty stuff still going around. We’ll see ‘ya there!\n 
URL:https://chapters.theprimetimersww.com/kansascity/event/the-national-museum-of-toys-and-miniatures/
LOCATION:The National Museum of Toys and Miniatures\, 5235 Oak Street\, Kansas City\, MO\, 64112\, United States
END:VEVENT
END:VCALENDAR