BEGIN:VCALENDAR
VERSION:2.0
PRODID:-//PrimeTimers of Kansas City - ECPv6.15.20//NONSGML v1.0//EN
CALSCALE:GREGORIAN
METHOD:PUBLISH
X-WR-CALNAME:PrimeTimers of Kansas City
X-ORIGINAL-URL:https://chapters.theprimetimersww.com/kansascity
X-WR-CALDESC:Events for PrimeTimers of Kansas City
REFRESH-INTERVAL;VALUE=DURATION:PT1H
X-Robots-Tag:noindex
X-PUBLISHED-TTL:PT1H
BEGIN:VTIMEZONE
TZID:America/Chicago
BEGIN:DAYLIGHT
TZOFFSETFROM:-0600
TZOFFSETTO:-0500
TZNAME:CDT
DTSTART:20250309T080000
END:DAYLIGHT
BEGIN:STANDARD
TZOFFSETFROM:-0500
TZOFFSETTO:-0600
TZNAME:CST
DTSTART:20251102T070000
END:STANDARD
BEGIN:DAYLIGHT
TZOFFSETFROM:-0600
TZOFFSETTO:-0500
TZNAME:CDT
DTSTART:20260308T080000
END:DAYLIGHT
BEGIN:STANDARD
TZOFFSETFROM:-0500
TZOFFSETTO:-0600
TZNAME:CST
DTSTART:20261101T070000
END:STANDARD
BEGIN:DAYLIGHT
TZOFFSETFROM:-0600
TZOFFSETTO:-0500
TZNAME:CDT
DTSTART:20270314T080000
END:DAYLIGHT
BEGIN:STANDARD
TZOFFSETFROM:-0500
TZOFFSETTO:-0600
TZNAME:CST
DTSTART:20271107T070000
END:STANDARD
END:VTIMEZONE
BEGIN:VEVENT
DTSTART;TZID=America/Chicago:20260401T100000
DTEND;TZID=America/Chicago:20260401T113000
DTSTAMP:20260423T042951
CREATED:20251102T214704Z
LAST-MODIFIED:20251102T214704Z
UID:10001982-1775037600-1775043000@chapters.theprimetimersww.com
SUMMARY:Coffee Talk at Denny's
DESCRIPTION:Okay. So\, by now you might know that Denny’s is closing many restaurants nationwide. But how do WE respond to this outrage? “HELL NO\, WE WON’T GO! HELL NO\, WE WON’T GO!” So\, be sure to join us at 105th and Metcalf with your fellow PTKC rebels! The food is fine\, prices are reasonable\, the coffee is hot and there’s a bunch of guys talkin’ away like crazy! Plus I finally subscribed to AARP so I get a discount!  Nothing is sacred here so come and enjoy yourselves.\nOh\, last thing. Cold and flu season is upon us. Guys\, please make sure you’re current with vaccines. Don’t make me sic Vinnie\, our Vaccine Fairy\, on ‘ya!\nSee you there!\n \n 
URL:https://chapters.theprimetimersww.com/kansascity/event/coffee-talk-at-dennys-every-wednesday-at-10-am-2-2-2/2026-04-01/
LOCATION:Denny’s on Metcalf Avenue\, 10480 Metcalf Avenue\, Overland Park\, 66212\, United States
ORGANIZER;CN="PTKC-Events Committee":MAILTO:primetimerskc@gmail.com
END:VEVENT
BEGIN:VEVENT
DTSTART;TZID=America/Chicago:20260401T190000
DTEND;TZID=America/Chicago:20260401T210000
DTSTAMP:20260423T042951
CREATED:20260315T171358Z
LAST-MODIFIED:20260315T171603Z
UID:10004296-1775070000-1775077200@chapters.theprimetimersww.com
SUMMARY:Hump Day Dinner @ Red Lobster in OP
DESCRIPTION:So\, when I was a kid my maternal grandfather used to take us to some really fancy-schmancy restaurants in NY. I adore lobster and I vividly remember a couple of tuxedoed waiters wheeling an enormous fish tank to our table where we could hand pick our lobsters. Cruel\, yeah\, maybe. But toss in some melted butter when that crustacean arrived on my plate and I was in heaven. Now just to be clear\, Red Lobster is NOT that kind of eatery but who cares!? There are plenty of choices\, prices are reasonable and even better\, the company is stellar!\nDon’t stay home tonight and join us!\n \n 
URL:https://chapters.theprimetimersww.com/kansascity/event/hump-day-dinner-red-lobster-in-op/
LOCATION:Red Lobster\, 9475 Metcalf Avenue\, Overland Park\, KS\, 66212\, United States
END:VEVENT
END:VCALENDAR