BEGIN:VCALENDAR
VERSION:2.0
PRODID:-//PrimeTimers of Kansas City - ECPv6.15.20//NONSGML v1.0//EN
CALSCALE:GREGORIAN
METHOD:PUBLISH
X-ORIGINAL-URL:https://chapters.theprimetimersww.com/kansascity
X-WR-CALDESC:Events for PrimeTimers of Kansas City
REFRESH-INTERVAL;VALUE=DURATION:PT1H
X-Robots-Tag:noindex
X-PUBLISHED-TTL:PT1H
BEGIN:VTIMEZONE
TZID:America/Chicago
BEGIN:DAYLIGHT
TZOFFSETFROM:-0600
TZOFFSETTO:-0500
TZNAME:CDT
DTSTART:20250309T080000
END:DAYLIGHT
BEGIN:STANDARD
TZOFFSETFROM:-0500
TZOFFSETTO:-0600
TZNAME:CST
DTSTART:20251102T070000
END:STANDARD
BEGIN:DAYLIGHT
TZOFFSETFROM:-0600
TZOFFSETTO:-0500
TZNAME:CDT
DTSTART:20260308T080000
END:DAYLIGHT
BEGIN:STANDARD
TZOFFSETFROM:-0500
TZOFFSETTO:-0600
TZNAME:CST
DTSTART:20261101T070000
END:STANDARD
BEGIN:DAYLIGHT
TZOFFSETFROM:-0600
TZOFFSETTO:-0500
TZNAME:CDT
DTSTART:20270314T080000
END:DAYLIGHT
BEGIN:STANDARD
TZOFFSETFROM:-0500
TZOFFSETTO:-0600
TZNAME:CST
DTSTART:20271107T070000
END:STANDARD
END:VTIMEZONE
BEGIN:VEVENT
DTSTART;TZID=America/Chicago:20260415T100000
DTEND;TZID=America/Chicago:20260415T113000
DTSTAMP:20260423T055935
CREATED:20251102T214704Z
LAST-MODIFIED:20251102T214704Z
UID:10001984-1776247200-1776252600@chapters.theprimetimersww.com
SUMMARY:Coffee Talk at Denny's
DESCRIPTION:Okay. So\, by now you might know that Denny’s is closing many restaurants nationwide. But how do WE respond to this outrage? “HELL NO\, WE WON’T GO! HELL NO\, WE WON’T GO!” So\, be sure to join us at 105th and Metcalf with your fellow PTKC rebels! The food is fine\, prices are reasonable\, the coffee is hot and there’s a bunch of guys talkin’ away like crazy! Plus I finally subscribed to AARP so I get a discount!  Nothing is sacred here so come and enjoy yourselves.\nOh\, last thing. Cold and flu season is upon us. Guys\, please make sure you’re current with vaccines. Don’t make me sic Vinnie\, our Vaccine Fairy\, on ‘ya!\nSee you there!\n \n 
URL:https://chapters.theprimetimersww.com/kansascity/event/coffee-talk-at-dennys-every-wednesday-at-10-am-2-2-2/2026-04-15/
LOCATION:Denny’s on Metcalf Avenue\, 10480 Metcalf Avenue\, Overland Park\, 66212\, United States
ORGANIZER;CN="PTKC-Events Committee":MAILTO:primetimerskc@gmail.com
END:VEVENT
BEGIN:VEVENT
DTSTART;TZID=America/Chicago:20260415T190000
DTEND;TZID=America/Chicago:20260415T210000
DTSTAMP:20260423T055935
CREATED:20260319T150944Z
LAST-MODIFIED:20260319T152125Z
UID:10004311-1776279600-1776286800@chapters.theprimetimersww.com
SUMMARY:Hump Day Dinner @ Tupelo Honey in Lenexa
DESCRIPTION:Tonight I began to wonder about southern food. I mean what the heck is it anyway? So\, I queried the stalwart round ball on my desk\, aka Alexa\, for details. Wow! Southern food is a culinary tradition from the American South that combines influences from African\, Native American\, European\, and Caribbean cuisines\, focusing on comfort foods like fried chicken\, grits\, and barbecue. It is known for its rich flavors and hearty dishes that reflect the region’s history and culture. In short\, this is really\, really good stuff! And\, that takes us to tonight’s venue; Tupelo Honey in Lenexa. What a menu and far too many options to list. Just be warned that you won’t leave hungry. But you will leave fully sated because you spent a fantastic evening with your PTKC family at a fine\, fun place to dine. What’s better than that?!\nSo\, join us\, fellas!
URL:https://chapters.theprimetimersww.com/kansascity/event/hump-day-dinner-tupelo-honey-in-lenexa/
LOCATION:Tupelo Honey\, 16720 City Center Drive\, Lenexa\, KS\, 66219\, United States
END:VEVENT
END:VCALENDAR