BEGIN:VCALENDAR
VERSION:2.0
PRODID:-//PrimeTimers of Kansas City - ECPv6.15.20//NONSGML v1.0//EN
CALSCALE:GREGORIAN
METHOD:PUBLISH
X-WR-CALNAME:PrimeTimers of Kansas City
X-ORIGINAL-URL:https://chapters.theprimetimersww.com/kansascity
X-WR-CALDESC:Events for PrimeTimers of Kansas City
REFRESH-INTERVAL;VALUE=DURATION:PT1H
X-Robots-Tag:noindex
X-PUBLISHED-TTL:PT1H
BEGIN:VTIMEZONE
TZID:America/Chicago
BEGIN:DAYLIGHT
TZOFFSETFROM:-0600
TZOFFSETTO:-0500
TZNAME:CDT
DTSTART:20250309T080000
END:DAYLIGHT
BEGIN:STANDARD
TZOFFSETFROM:-0500
TZOFFSETTO:-0600
TZNAME:CST
DTSTART:20251102T070000
END:STANDARD
BEGIN:DAYLIGHT
TZOFFSETFROM:-0600
TZOFFSETTO:-0500
TZNAME:CDT
DTSTART:20260308T080000
END:DAYLIGHT
BEGIN:STANDARD
TZOFFSETFROM:-0500
TZOFFSETTO:-0600
TZNAME:CST
DTSTART:20261101T070000
END:STANDARD
BEGIN:DAYLIGHT
TZOFFSETFROM:-0600
TZOFFSETTO:-0500
TZNAME:CDT
DTSTART:20270314T080000
END:DAYLIGHT
BEGIN:STANDARD
TZOFFSETFROM:-0500
TZOFFSETTO:-0600
TZNAME:CST
DTSTART:20271107T070000
END:STANDARD
END:VTIMEZONE
BEGIN:VEVENT
DTSTART;TZID=America/Chicago:20260422T100000
DTEND;TZID=America/Chicago:20260422T113000
DTSTAMP:20260423T192316
CREATED:20251102T214704Z
LAST-MODIFIED:20251102T214704Z
UID:10001985-1776852000-1776857400@chapters.theprimetimersww.com
SUMMARY:Coffee Talk at Denny's
DESCRIPTION:Okay. So\, by now you might know that Denny’s is closing many restaurants nationwide. But how do WE respond to this outrage? “HELL NO\, WE WON’T GO! HELL NO\, WE WON’T GO!” So\, be sure to join us at 105th and Metcalf with your fellow PTKC rebels! The food is fine\, prices are reasonable\, the coffee is hot and there’s a bunch of guys talkin’ away like crazy! Plus I finally subscribed to AARP so I get a discount!  Nothing is sacred here so come and enjoy yourselves.\nOh\, last thing. Cold and flu season is upon us. Guys\, please make sure you’re current with vaccines. Don’t make me sic Vinnie\, our Vaccine Fairy\, on ‘ya!\nSee you there!\n \n 
URL:https://chapters.theprimetimersww.com/kansascity/event/coffee-talk-at-dennys-every-wednesday-at-10-am-2-2-2/2026-04-22/
LOCATION:Denny’s on Metcalf Avenue\, 10480 Metcalf Avenue\, Overland Park\, 66212\, United States
ORGANIZER;CN="PTKC-Events Committee":MAILTO:primetimerskc@gmail.com
END:VEVENT
BEGIN:VEVENT
DTSTART;TZID=America/Chicago:20260422T190000
DTEND;TZID=America/Chicago:20260422T210000
DTSTAMP:20260423T192316
CREATED:20260315T200642Z
LAST-MODIFIED:20260315T201329Z
UID:10004299-1776884400-1776891600@chapters.theprimetimersww.com
SUMMARY:Hump Day Dinner @ Legend of Asia in Blue Springs
DESCRIPTION:Uh\, oh. Now we’re in for it. Legend of Asia has an enormous……….buffet.  I mean 80 Chinese Dishes and over 25 varieties of authentic Japanese Sushi! Plus multiple soups and Mongolian cuisine as well! Wait\, I’m not done yet….Legend of Asia also has special a la carte dishes that are cooked in front of you such as Pan Fried Dumplings\, Fried Rice\, Lo Mein\, and Egg Foo Young\, along with many kinds of Barbecue.\nSo\, don those elastic waist pants and meet the gang in Blue Springs! For now\, I’ll leave you with this fitting Mongolian phrase:\nБуфетийг дайраад идээрэй — бид таныг машинд чинь үүрч хүргэнэ\n“Attack the buffet and we’ll carry you to your car!”\nJoin us!\n \n  \n 
URL:https://chapters.theprimetimersww.com/kansascity/event/hump-day-dinner-legend-of-asia-in-blue-springs/
LOCATION:Legend of Asia\, 1853 Southwest 7 Highway\, Blue Springs\, MO\, 64014\, United States
END:VEVENT
END:VCALENDAR