BEGIN:VCALENDAR
VERSION:2.0
PRODID:-//PrimeTimers of Kansas City - ECPv6.15.20//NONSGML v1.0//EN
CALSCALE:GREGORIAN
METHOD:PUBLISH
X-ORIGINAL-URL:https://chapters.theprimetimersww.com/kansascity
X-WR-CALDESC:Events for PrimeTimers of Kansas City
REFRESH-INTERVAL;VALUE=DURATION:PT1H
X-Robots-Tag:noindex
X-PUBLISHED-TTL:PT1H
BEGIN:VTIMEZONE
TZID:America/Chicago
BEGIN:DAYLIGHT
TZOFFSETFROM:-0600
TZOFFSETTO:-0500
TZNAME:CDT
DTSTART:20250309T080000
END:DAYLIGHT
BEGIN:STANDARD
TZOFFSETFROM:-0500
TZOFFSETTO:-0600
TZNAME:CST
DTSTART:20251102T070000
END:STANDARD
BEGIN:DAYLIGHT
TZOFFSETFROM:-0600
TZOFFSETTO:-0500
TZNAME:CDT
DTSTART:20260308T080000
END:DAYLIGHT
BEGIN:STANDARD
TZOFFSETFROM:-0500
TZOFFSETTO:-0600
TZNAME:CST
DTSTART:20261101T070000
END:STANDARD
BEGIN:DAYLIGHT
TZOFFSETFROM:-0600
TZOFFSETTO:-0500
TZNAME:CDT
DTSTART:20270314T080000
END:DAYLIGHT
BEGIN:STANDARD
TZOFFSETFROM:-0500
TZOFFSETTO:-0600
TZNAME:CST
DTSTART:20271107T070000
END:STANDARD
END:VTIMEZONE
BEGIN:VEVENT
DTSTART;TZID=America/Chicago:20260427T170000
DTEND;TZID=America/Chicago:20260427T190000
DTSTAMP:20260423T043040
CREATED:20260315T163040Z
LAST-MODIFIED:20260315T163040Z
UID:10004294-1777309200-1777316400@chapters.theprimetimersww.com
SUMMARY:Happy Hour Dinner @ Firebirds in Lee's Summit
DESCRIPTION:Now Firebirds Wood Fired Grill is best known as a fine American Steakhouse. But wait\, there’s more! Firebirds has glowing reviews not only for their hand-cut\, aged steaks but the fresh seafood\, specialty crafted cocktails and select wines are also highly regarded. What’s not to like?\nSo\, let’s head up to Lee’s Summit for the evening. You’re gonna like this place and your presence only adds to the fun!  See ‘ya there.
URL:https://chapters.theprimetimersww.com/kansascity/event/happy-hour-dinner-firebirds-in-lees-summit/
LOCATION:Firebirds in Lee’s Summit\, 920 NW Pryor Road\, Lee's Summit\, MO\, 64081\, United States
END:VEVENT
END:VCALENDAR