BEGIN:VCALENDAR
VERSION:2.0
PRODID:-//PrimeTimers of Kansas City - ECPv6.15.20//NONSGML v1.0//EN
CALSCALE:GREGORIAN
METHOD:PUBLISH
X-WR-CALNAME:PrimeTimers of Kansas City
X-ORIGINAL-URL:https://chapters.theprimetimersww.com/kansascity
X-WR-CALDESC:Events for PrimeTimers of Kansas City
REFRESH-INTERVAL;VALUE=DURATION:PT1H
X-Robots-Tag:noindex
X-PUBLISHED-TTL:PT1H
BEGIN:VTIMEZONE
TZID:America/Chicago
BEGIN:DAYLIGHT
TZOFFSETFROM:-0600
TZOFFSETTO:-0500
TZNAME:CDT
DTSTART:20250309T080000
END:DAYLIGHT
BEGIN:STANDARD
TZOFFSETFROM:-0500
TZOFFSETTO:-0600
TZNAME:CST
DTSTART:20251102T070000
END:STANDARD
BEGIN:DAYLIGHT
TZOFFSETFROM:-0600
TZOFFSETTO:-0500
TZNAME:CDT
DTSTART:20260308T080000
END:DAYLIGHT
BEGIN:STANDARD
TZOFFSETFROM:-0500
TZOFFSETTO:-0600
TZNAME:CST
DTSTART:20261101T070000
END:STANDARD
BEGIN:DAYLIGHT
TZOFFSETFROM:-0600
TZOFFSETTO:-0500
TZNAME:CDT
DTSTART:20270314T080000
END:DAYLIGHT
BEGIN:STANDARD
TZOFFSETFROM:-0500
TZOFFSETTO:-0600
TZNAME:CST
DTSTART:20271107T070000
END:STANDARD
END:VTIMEZONE
BEGIN:VEVENT
DTSTART;TZID=America/Chicago:20260517T120000
DTEND;TZID=America/Chicago:20260517T160000
DTSTAMP:20260423T132308
CREATED:20260314T204533Z
LAST-MODIFIED:20260314T205540Z
UID:10004288-1779019200-1779033600@chapters.theprimetimersww.com
SUMMARY:Summer is comin’ Picnic & Potluck at Shawnee Mission Park!
DESCRIPTION:We did this last year and really had a blast!  Hamdan is once again manning the grill as we frolic in the great outdoors. Sounds pretty darn good to me! This year we’ve reserved Shelter# 8 for our great group. It’s BIGGER! IT’S BETTER! IT’S CLOSER TO THE REST ROOMS (See? We DO listen!)! 😀\nYou know the PTKC Potluck drill\, guys.  Keep an eye out for the Punchbowl invite\, sign up for what succulent sustenance you’re bringing and don’t forget a tube of sun screen! Oh\, and fellas? We always need a few people to help with set up and clean up. The more the merrier here\, so let us know if you can pitch in.\nFun is guaranteed as we take in beautiful Shawnee Mission Park! Oh\, and stay healthy\, guys and we’ll see ‘ya there!\n 
URL:https://chapters.theprimetimersww.com/kansascity/event/summer-is-comin-picnic-potluck-at-shawnee-mission-park/
LOCATION:Shawnee Mission Park Shelter 8\, 7900 Renner Road\, Shawnee\, KS\, 66219\, United States
END:VEVENT
END:VCALENDAR