BEGIN:VCALENDAR
VERSION:2.0
PRODID:-//PrimeTimers of Kansas City - ECPv6.15.20//NONSGML v1.0//EN
CALSCALE:GREGORIAN
METHOD:PUBLISH
X-ORIGINAL-URL:https://chapters.theprimetimersww.com/kansascity
X-WR-CALDESC:Events for PrimeTimers of Kansas City
REFRESH-INTERVAL;VALUE=DURATION:PT1H
X-Robots-Tag:noindex
X-PUBLISHED-TTL:PT1H
BEGIN:VTIMEZONE
TZID:America/Chicago
BEGIN:DAYLIGHT
TZOFFSETFROM:-0600
TZOFFSETTO:-0500
TZNAME:CDT
DTSTART:20250309T080000
END:DAYLIGHT
BEGIN:STANDARD
TZOFFSETFROM:-0500
TZOFFSETTO:-0600
TZNAME:CST
DTSTART:20251102T070000
END:STANDARD
BEGIN:DAYLIGHT
TZOFFSETFROM:-0600
TZOFFSETTO:-0500
TZNAME:CDT
DTSTART:20260308T080000
END:DAYLIGHT
BEGIN:STANDARD
TZOFFSETFROM:-0500
TZOFFSETTO:-0600
TZNAME:CST
DTSTART:20261101T070000
END:STANDARD
BEGIN:DAYLIGHT
TZOFFSETFROM:-0600
TZOFFSETTO:-0500
TZNAME:CDT
DTSTART:20270314T080000
END:DAYLIGHT
BEGIN:STANDARD
TZOFFSETFROM:-0500
TZOFFSETTO:-0600
TZNAME:CST
DTSTART:20271107T070000
END:STANDARD
END:VTIMEZONE
BEGIN:VEVENT
DTSTART;TZID=America/Chicago:20260523T190000
DTEND;TZID=America/Chicago:20260523T220000
DTSTAMP:20260423T084615
CREATED:20260316T154447Z
LAST-MODIFIED:20260316T154447Z
UID:10004306-1779562800-1779573600@chapters.theprimetimersww.com
SUMMARY:Movie Night @ Sam & Jim's!
DESCRIPTION:Ah\, the PTKC Movie Night.  It’s a classic\, much loved event hosted by our equally beloved board members\, Jim and Sam.  Our gracious hosts provide a few nibbles\, popcorn\, water and ice tea but if you’re so inclined\, indulge us with something delicious that you’d like to bring. After all\, we’re the guys who love to eat.\nAs you know we show two movies in their spacious abode; one upstairs and the second is featured downstairs. Choices are a good thing! So\, stayed tuned for updates. I’ll post what movies are on tap as soon as someone tells me what they are.\nNow you know the drill. Keep an eye out for the Punch Bowl invite ’cause we get a great crowd here. Stay healthy\, fellas\, and be sure to join us!
URL:https://chapters.theprimetimersww.com/kansascity/event/movie-night-sam-jims/
LOCATION:Jim and Sam’s home\, 9708 Lee Boulevard\, Leawood\, KS\, 66206\, United States
END:VEVENT
END:VCALENDAR