BEGIN:VCALENDAR
VERSION:2.0
PRODID:-//PrimeTimers of Kansas City - ECPv6.15.20//NONSGML v1.0//EN
CALSCALE:GREGORIAN
METHOD:PUBLISH
X-WR-CALNAME:PrimeTimers of Kansas City
X-ORIGINAL-URL:https://chapters.theprimetimersww.com/kansascity
X-WR-CALDESC:Events for PrimeTimers of Kansas City
REFRESH-INTERVAL;VALUE=DURATION:PT1H
X-Robots-Tag:noindex
X-PUBLISHED-TTL:PT1H
BEGIN:VTIMEZONE
TZID:America/Chicago
BEGIN:DAYLIGHT
TZOFFSETFROM:-0600
TZOFFSETTO:-0500
TZNAME:CDT
DTSTART:20250309T080000
END:DAYLIGHT
BEGIN:STANDARD
TZOFFSETFROM:-0500
TZOFFSETTO:-0600
TZNAME:CST
DTSTART:20251102T070000
END:STANDARD
BEGIN:DAYLIGHT
TZOFFSETFROM:-0600
TZOFFSETTO:-0500
TZNAME:CDT
DTSTART:20260308T080000
END:DAYLIGHT
BEGIN:STANDARD
TZOFFSETFROM:-0500
TZOFFSETTO:-0600
TZNAME:CST
DTSTART:20261101T070000
END:STANDARD
BEGIN:DAYLIGHT
TZOFFSETFROM:-0600
TZOFFSETTO:-0500
TZNAME:CDT
DTSTART:20270314T080000
END:DAYLIGHT
BEGIN:STANDARD
TZOFFSETFROM:-0500
TZOFFSETTO:-0600
TZNAME:CST
DTSTART:20271107T070000
END:STANDARD
END:VTIMEZONE
BEGIN:VEVENT
DTSTART;TZID=America/Chicago:20260527T190000
DTEND;TZID=America/Chicago:20260527T210000
DTSTAMP:20260422T180123
CREATED:20260316T192349Z
LAST-MODIFIED:20260316T192349Z
UID:10004310-1779908400-1779915600@chapters.theprimetimersww.com
SUMMARY:Hump Day Dinner @ Nick & Jake's in Shawnee
DESCRIPTION:You might not know this but Nick and Jake are two actual guys who grew up across the street from one another on State Line Road. That’s kinda’ cool and their dedication and skill is seen (and tasted!) in Nick & Jake’s outstanding American cuisine. Small plates\, a wide assortment of starters\, salads\, soups all the way up to Mama’s Meatloaf\, Baby Back Ribs and certified Angus Beef Steaks plus more from the sea. You’re gonna find something you love. 😀\nSo\, stay healthy guys. We’re lookin’ forward to seeing you tonight!
URL:https://chapters.theprimetimersww.com/kansascity/event/hump-day-dinner-nick-jakes-in-shawnee/
LOCATION:Nick and Jake’s\, 22220 Midland Drive\, Shawnee\, KS\, 66226\, United States
END:VEVENT
END:VCALENDAR