BEGIN:VCALENDAR
VERSION:2.0
PRODID:-//PrimeTimers of Kansas City - ECPv6.15.20//NONSGML v1.0//EN
CALSCALE:GREGORIAN
METHOD:PUBLISH
X-WR-CALNAME:PrimeTimers of Kansas City
X-ORIGINAL-URL:https://chapters.theprimetimersww.com/kansascity
X-WR-CALDESC:Events for PrimeTimers of Kansas City
REFRESH-INTERVAL;VALUE=DURATION:PT1H
X-Robots-Tag:noindex
X-PUBLISHED-TTL:PT1H
BEGIN:VTIMEZONE
TZID:America/Chicago
BEGIN:DAYLIGHT
TZOFFSETFROM:-0600
TZOFFSETTO:-0500
TZNAME:CDT
DTSTART:20240310T080000
END:DAYLIGHT
BEGIN:STANDARD
TZOFFSETFROM:-0500
TZOFFSETTO:-0600
TZNAME:CST
DTSTART:20241103T070000
END:STANDARD
BEGIN:DAYLIGHT
TZOFFSETFROM:-0600
TZOFFSETTO:-0500
TZNAME:CDT
DTSTART:20250309T080000
END:DAYLIGHT
BEGIN:STANDARD
TZOFFSETFROM:-0500
TZOFFSETTO:-0600
TZNAME:CST
DTSTART:20251102T070000
END:STANDARD
BEGIN:DAYLIGHT
TZOFFSETFROM:-0600
TZOFFSETTO:-0500
TZNAME:CDT
DTSTART:20260308T080000
END:DAYLIGHT
BEGIN:STANDARD
TZOFFSETFROM:-0500
TZOFFSETTO:-0600
TZNAME:CST
DTSTART:20261101T070000
END:STANDARD
BEGIN:DAYLIGHT
TZOFFSETFROM:-0600
TZOFFSETTO:-0500
TZNAME:CDT
DTSTART:20270314T080000
END:DAYLIGHT
BEGIN:STANDARD
TZOFFSETFROM:-0500
TZOFFSETTO:-0600
TZNAME:CST
DTSTART:20271107T070000
END:STANDARD
END:VTIMEZONE
BEGIN:VEVENT
DTSTART;TZID=America/Chicago:20260223T170000
DTEND;TZID=America/Chicago:20260223T190000
DTSTAMP:20260425T114354
CREATED:20260113T182618Z
LAST-MODIFIED:20260113T182710Z
UID:10004188-1771866000-1771873200@chapters.theprimetimersww.com
SUMMARY:Happy Hour Dinner @ Beer Kitchen in Westport
DESCRIPTION:Wow! Did you know that Beer Kitchen has a Happy Hour menu EVERY DAY from 3-6 PM?! Great prices on drinks\, wine\, beer (of course) and assorted stuff to nibble! Still hungry? Beer Kitchen offers an extensive dinner menu\, too.  Plus\, you really cannot argue with a restaurant that boasts with some bravado\, “Honest Food\, Damn Good Beer!”\nSo\, join us at Beer Kitchen with your assorted PTKC pals! Just don’t forget to get a couple of arm jabs and stay healthy!\n 
URL:https://chapters.theprimetimersww.com/kansascity/event/happy-hour-beer-kitchen-in-westport/
LOCATION:The Beer Kitchen\, 435 Westport Road\, Kansas City\, MO\, 64111\, United States
END:VEVENT
BEGIN:VEVENT
DTSTART;TZID=America/Chicago:20251208T170000
DTEND;TZID=America/Chicago:20251208T190000
DTSTAMP:20260425T114354
CREATED:20251116T195617Z
LAST-MODIFIED:20251116T195617Z
UID:10003863-1765213200-1765220400@chapters.theprimetimersww.com
SUMMARY:Happy Hour Dinner @ Beer Kitchen in Westport
DESCRIPTION:Now I love how Beer Kitchen describes itself: “If your heart races at the smell of a malty-sweet and robust imperial brown ale and tears of joy begin to fall at the sight of a 100% American beer burger stuffed with Kansas City-style burnt ends\, lathered in house-made BBQ sauce\, then Beer Kitchen is the place for you.” I mean c’mon! Heart racing! Malty-sweet brown ale! And tears of joys describing a beer burger stuffed with burnt ends?!? OMG! I am IN!\nSo\, add Beer Kitchen to your calendar when the Punch Bowl invite rolls around in your direction and join us! (Oh\, and please keep Vinnie the Vaccine Fairy Happy!)\n\n 
URL:https://chapters.theprimetimersww.com/kansascity/event/happy-hour-dinner-beer-kitchen-in-westport/
LOCATION:The Beer Kitchen\, 435 Westport Road\, Kansas City\, MO\, 64111\, United States
END:VEVENT
END:VCALENDAR