BEGIN:VCALENDAR
VERSION:2.0
PRODID:-//PrimeTimers of Kansas City - ECPv6.15.20//NONSGML v1.0//EN
CALSCALE:GREGORIAN
METHOD:PUBLISH
X-WR-CALNAME:PrimeTimers of Kansas City
X-ORIGINAL-URL:https://chapters.theprimetimersww.com/kansascity
X-WR-CALDESC:Events for PrimeTimers of Kansas City
REFRESH-INTERVAL;VALUE=DURATION:PT1H
X-Robots-Tag:noindex
X-PUBLISHED-TTL:PT1H
BEGIN:VTIMEZONE
TZID:America/Chicago
BEGIN:DAYLIGHT
TZOFFSETFROM:-0600
TZOFFSETTO:-0500
TZNAME:CDT
DTSTART:20240310T080000
END:DAYLIGHT
BEGIN:STANDARD
TZOFFSETFROM:-0500
TZOFFSETTO:-0600
TZNAME:CST
DTSTART:20241103T070000
END:STANDARD
BEGIN:DAYLIGHT
TZOFFSETFROM:-0600
TZOFFSETTO:-0500
TZNAME:CDT
DTSTART:20250309T080000
END:DAYLIGHT
BEGIN:STANDARD
TZOFFSETFROM:-0500
TZOFFSETTO:-0600
TZNAME:CST
DTSTART:20251102T070000
END:STANDARD
BEGIN:DAYLIGHT
TZOFFSETFROM:-0600
TZOFFSETTO:-0500
TZNAME:CDT
DTSTART:20260308T080000
END:DAYLIGHT
BEGIN:STANDARD
TZOFFSETFROM:-0500
TZOFFSETTO:-0600
TZNAME:CST
DTSTART:20261101T070000
END:STANDARD
BEGIN:DAYLIGHT
TZOFFSETFROM:-0600
TZOFFSETTO:-0500
TZNAME:CDT
DTSTART:20270314T080000
END:DAYLIGHT
BEGIN:STANDARD
TZOFFSETFROM:-0500
TZOFFSETTO:-0600
TZNAME:CST
DTSTART:20271107T070000
END:STANDARD
END:VTIMEZONE
BEGIN:VEVENT
DTSTART;TZID=America/Chicago:20260121T190000
DTEND;TZID=America/Chicago:20260121T210000
DTSTAMP:20260422T055338
CREATED:20251204T234522Z
LAST-MODIFIED:20251204T234640Z
UID:10003958-1769022000-1769029200@chapters.theprimetimersww.com
SUMMARY:Dinner @ The Cheesecake Factory in Overland Park
DESCRIPTION:So\, first of all\, who doesn’t like cheesecake here? Anyone? Anyone? Now what happens when said cheesecake is preceded by an amazing menu rife with all kinds of spectacular dining options!? I mean holy\, moly! It takes 10 minutes to scroll through The Cheesecake Factory’s menu! So\, that’s all I’m gonna write about this place. If you haven’t been\, well\, you need to join us.\nGet those arm jabs\, guys! We’re counting on everyone to stay healthy! See you there!\n  \n \n  \n 
URL:https://chapters.theprimetimersww.com/kansascity/event/dinner-the-cheesecake-factory-in-overland-park/
LOCATION:The Cheesecake Factory in Overland Park\, 6675 West 119th Street\, Overland Park\, KS\, 66209\, United States
END:VEVENT
BEGIN:VEVENT
DTSTART;TZID=America/Chicago:20250623T170000
DTEND;TZID=America/Chicago:20250623T190000
DTSTAMP:20260422T055338
CREATED:20250506T151419Z
LAST-MODIFIED:20250613T220529Z
UID:10003745-1750698000-1750705200@chapters.theprimetimersww.com
SUMMARY:Happy Hour Dinner - The Cheesecake Factory in Overland Park
DESCRIPTION:So\, first of all\, who doesn’t like cheesecake here? Anyone? Anyone? Now what happens when said cheesecake is preceded by an amazing menu rife with all kinds of spectacular dining options!? I mean holy\, moly! It takes 10 minutes to scroll through the Cheesecake Factory’s menu! So\, that’s all I’m gonna write about this place. If you haven’t been\, well\, you need to join us!\nSee ‘ya there!\nOh\, and fellas? I’d like to take this opportunity to introduce our newest Event Calendar icon. You’ll see him on occasion sprinkled (like fairy dust!) in various events. He’s cute! He’s hirsute! And\, he’s armed with a sharp object. It’s Vinny – The PTKC Vaccine Fairy! Let’s all keep Vinny happy and stay current with vaccines. Thanks!\n  \n \n  \n  \n 
URL:https://chapters.theprimetimersww.com/kansascity/event/dinner-drinks-the-cheesecake-factory-in-overland-park/
LOCATION:The Cheesecake Factory in Overland Park\, 6675 West 119th Street\, Overland Park\, KS\, 66209\, United States
END:VEVENT
END:VCALENDAR