BEGIN:VCALENDAR
VERSION:2.0
PRODID:-//PrimeTimers of Kansas City - ECPv6.15.20//NONSGML v1.0//EN
CALSCALE:GREGORIAN
METHOD:PUBLISH
X-ORIGINAL-URL:https://chapters.theprimetimersww.com/kansascity
X-WR-CALDESC:Events for PrimeTimers of Kansas City
REFRESH-INTERVAL;VALUE=DURATION:PT1H
X-Robots-Tag:noindex
X-PUBLISHED-TTL:PT1H
BEGIN:VTIMEZONE
TZID:America/Chicago
BEGIN:DAYLIGHT
TZOFFSETFROM:-0600
TZOFFSETTO:-0500
TZNAME:CDT
DTSTART:20240310T080000
END:DAYLIGHT
BEGIN:STANDARD
TZOFFSETFROM:-0500
TZOFFSETTO:-0600
TZNAME:CST
DTSTART:20241103T070000
END:STANDARD
BEGIN:DAYLIGHT
TZOFFSETFROM:-0600
TZOFFSETTO:-0500
TZNAME:CDT
DTSTART:20250309T080000
END:DAYLIGHT
BEGIN:STANDARD
TZOFFSETFROM:-0500
TZOFFSETTO:-0600
TZNAME:CST
DTSTART:20251102T070000
END:STANDARD
BEGIN:DAYLIGHT
TZOFFSETFROM:-0600
TZOFFSETTO:-0500
TZNAME:CDT
DTSTART:20260308T080000
END:DAYLIGHT
BEGIN:STANDARD
TZOFFSETFROM:-0500
TZOFFSETTO:-0600
TZNAME:CST
DTSTART:20261101T070000
END:STANDARD
END:VTIMEZONE
BEGIN:VEVENT
DTSTART;TZID=America/Chicago:20250507T170000
DTEND;TZID=America/Chicago:20250507T190000
DTSTAMP:20260421T180230
CREATED:20250410T191311Z
LAST-MODIFIED:20250410T191311Z
UID:10003676-1746637200-1746644400@chapters.theprimetimersww.com
SUMMARY:The Mixx - Kansas City
DESCRIPTION:I’ll just write it. I LOVE this place! Truly unique and infinitely customizable salads\, sandwiches\, wraps and quinoa bowls! You get a whole lot to eat and I usually have to doggy-bag it home. Now they don’t serve booze\, but we’ll just rough it for one night. You can do it! \nThis place is adjacent to the Kansas City Plaza Library and there’s a large garage to accommodate us. Check out their menu and make sure to add it to your calendar. You’ll enjoy it! \nAs always\, stay healthy\, folks.
URL:https://chapters.theprimetimersww.com/kansascity/event/the-mixx-kansas-city/
LOCATION:The Mixx in Kansas City\, 4855 Main Street\, Kansas City\, MO\, 64112\, United States
END:VEVENT
END:VCALENDAR