BEGIN:VCALENDAR
VERSION:2.0
PRODID:-//Prime Timers Minneapolis - St. Paul - ECPv6.15.20//NONSGML v1.0//EN
CALSCALE:GREGORIAN
METHOD:PUBLISH
X-WR-CALNAME:Prime Timers Minneapolis - St. Paul
X-ORIGINAL-URL:https://chapters.theprimetimersww.com/minneapolisstpaul
X-WR-CALDESC:Events for Prime Timers Minneapolis - St. Paul
REFRESH-INTERVAL;VALUE=DURATION:PT1H
X-Robots-Tag:noindex
X-PUBLISHED-TTL:PT1H
BEGIN:VTIMEZONE
TZID:America/Chicago
BEGIN:DAYLIGHT
TZOFFSETFROM:-0600
TZOFFSETTO:-0500
TZNAME:CDT
DTSTART:20200308T080000
END:DAYLIGHT
BEGIN:STANDARD
TZOFFSETFROM:-0500
TZOFFSETTO:-0600
TZNAME:CST
DTSTART:20201101T070000
END:STANDARD
BEGIN:DAYLIGHT
TZOFFSETFROM:-0600
TZOFFSETTO:-0500
TZNAME:CDT
DTSTART:20210314T080000
END:DAYLIGHT
BEGIN:STANDARD
TZOFFSETFROM:-0500
TZOFFSETTO:-0600
TZNAME:CST
DTSTART:20211107T070000
END:STANDARD
BEGIN:DAYLIGHT
TZOFFSETFROM:-0600
TZOFFSETTO:-0500
TZNAME:CDT
DTSTART:20220313T080000
END:DAYLIGHT
BEGIN:STANDARD
TZOFFSETFROM:-0500
TZOFFSETTO:-0600
TZNAME:CST
DTSTART:20221106T070000
END:STANDARD
END:VTIMEZONE
BEGIN:VEVENT
DTSTART;TZID=America/Chicago:20210501T090000
DTEND;TZID=America/Chicago:20210501T110000
DTSTAMP:20260425T221117
CREATED:20200129T013252Z
LAST-MODIFIED:20210430T020019Z
UID:745-1619859600-1619866800@chapters.theprimetimersww.com
SUMMARY:9:00AM - Saturday - Maple Grove Breakfast
DESCRIPTION:Let’s meet up on Saturday February 1st at 9:00am at the The Original Pancake House (6322 Vinewood Ln N\, Maple Grove\, MN 55311\, Phone: 763-383-0888). This long- standing classic location for breakfasts never disappoints. From their website: “The Original Pancake House was voted by James Beard as one of the nation’s “Ten Best” breakfast restaurants in the category of “American’s Regional Classic Award.” \nPlease RSVP with Ray by email here.
URL:https://chapters.theprimetimersww.com/minneapolisstpaul/event/900am-saturday-maple-grove-breakfast-2021-05-01/
LOCATION:The Original Pancake House\, 6322 Vinewood Lane N\, Maple Grove\, MN\, 55311\, United States
CATEGORIES:Monthly Recurring Events
ATTACH;FMTTYPE=image/jpeg:https://chapters.theprimetimersww.com/minneapolisstpaul/wp-content/uploads/2019/10/Breakfast.jpg
END:VEVENT
BEGIN:VEVENT
DTSTART;TZID=America/Chicago:20210506T090000
DTEND;TZID=America/Chicago:20210506T110000
DTSTAMP:20260425T221117
CREATED:20191229T170742Z
LAST-MODIFIED:20210430T020143Z
UID:746-1620291600-1620298800@chapters.theprimetimersww.com
SUMMARY:8:55 AM - Thursday - Weekday Breakfast
DESCRIPTION:Prime Timer’s MSP will have a breakfast meet up at Perkins\, 1st & 3rd Thursdays each month at 8:55 AM. \nPerkins Restaurant\n8324 Lyndale Avenue\nBloomington\, MN\nBus route 538  \nRSVPs are required. \nQuestions contact Terry by email here.
URL:https://chapters.theprimetimersww.com/minneapolisstpaul/event/900-am-thursday-weekday-breakfast-2021-05-06/
LOCATION:Perkins Restaurant & Bakery\, 8324 Lyndale Avenue\, Bloomington\, MN\, 55420\, United States
CATEGORIES:Monthly Recurring Events
ATTACH;FMTTYPE=image/jpeg:https://chapters.theprimetimersww.com/minneapolisstpaul/wp-content/uploads/2019/10/Breakfast.jpg
END:VEVENT
BEGIN:VEVENT
DTSTART;TZID=America/Chicago:20210508T090000
DTEND;TZID=America/Chicago:20210508T110000
DTSTAMP:20260425T221117
CREATED:20191014T192252Z
LAST-MODIFIED:20210430T020345Z
UID:748-1620464400-1620471600@chapters.theprimetimersww.com
SUMMARY:9:00 AM - Our Famous 2nd Saturday Breakfast at Bakers Square
DESCRIPTION:Come join the Prime Timers Minneapolis/St. Paul for our Breakfast Club.  The group meets for breakfast on the second Saturday of every month at Bakers Square\, so please join us! \nThe group meets at 8:45 AM.  Baker’s Square is located at 2239 Ford Parkway (Highland Area of St. Paul – across from the previous Ford assembly plant\, MTC # 23\, 46\, 74\, and 84). We meet earlier because the restaurant fills up at 9 AM. \nCome earlier and we will sit together. There is plenty of off- street parking\, too. Arrive around 8:45\, take a seat\, and order from the menu as you like. The atmosphere is relaxed and casual\, perfect for greeting the day in the company of friends with that nice cup of coffee. Sparkling conversations (some bordering on the risqué)\, social fun\, talking\, discussion\, jokes\, laughter\, and camaraderie characterize this event. \nMTC Bus Route #23\, 46\, 74\, and A-Line \nRSVPS are required.\nContact us by email here.
URL:https://chapters.theprimetimersww.com/minneapolisstpaul/event/845-am-our-famous-2nd-saturday-breakfast-2021-05-08/
LOCATION:Bakers Square Restaurant & Pies\, 2239 Ford Parkway\, St. Paul\, MN\, 55116\, United States
CATEGORIES:Monthly Recurring Events
ATTACH;FMTTYPE=image/jpeg:https://chapters.theprimetimersww.com/minneapolisstpaul/wp-content/uploads/2019/10/Bakers-Square-logo-e1571081188535.jpg
END:VEVENT
BEGIN:VEVENT
DTSTART;TZID=America/Chicago:20210515T140000
DTEND;TZID=America/Chicago:20210515T160000
DTSTAMP:20260425T221117
CREATED:20191127T200125Z
LAST-MODIFIED:20210430T022459Z
UID:750-1621087200-1621094400@chapters.theprimetimersww.com
SUMMARY:1:15 PM - Saturday - Book Club
DESCRIPTION:What: Fashionably Late: Gay\, Bi\, and Trans Men Who Came Out Later in Life\nBy: edited by Vinnie Kinsella\nHost: Rick\nWhere: Zoom\nWhen: May 15 at 1:15 PM \nContact Rick for details or to subscribe to book club notices by email here. \nBook Review: \n\n\n\nFilled with tales about divorce\, conversion therapy\, misadventures in dating\, overcoming\, bigotry\, and gender exploration\, this collection paints a vivid pictureofgay\,bisexual\,and transgendermen experiencing their second coming of age. \nContact us by email here for the Zoom link.
URL:https://chapters.theprimetimersww.com/minneapolisstpaul/event/115-pm-saturday-book-club-2021-05-15/
LOCATION:Quatrefoil Library\, 1220 East Lake Street\, Minneapolis\, MN\, 55407\, United States
CATEGORIES:Monthly Recurring Events
ATTACH;FMTTYPE=image/jpeg:https://chapters.theprimetimersww.com/minneapolisstpaul/wp-content/uploads/2019/11/Bookclub.jpg
END:VEVENT
END:VCALENDAR