BEGIN:VCALENDAR
VERSION:2.0
PRODID:-//Prime Timers Minneapolis - St. Paul - ECPv6.15.20//NONSGML v1.0//EN
CALSCALE:GREGORIAN
METHOD:PUBLISH
X-WR-CALNAME:Prime Timers Minneapolis - St. Paul
X-ORIGINAL-URL:https://chapters.theprimetimersww.com/minneapolisstpaul
X-WR-CALDESC:Events for Prime Timers Minneapolis - St. Paul
REFRESH-INTERVAL;VALUE=DURATION:PT1H
X-Robots-Tag:noindex
X-PUBLISHED-TTL:PT1H
BEGIN:VTIMEZONE
TZID:America/Chicago
BEGIN:DAYLIGHT
TZOFFSETFROM:-0600
TZOFFSETTO:-0500
TZNAME:CDT
DTSTART:20210314T080000
END:DAYLIGHT
BEGIN:STANDARD
TZOFFSETFROM:-0500
TZOFFSETTO:-0600
TZNAME:CST
DTSTART:20211107T070000
END:STANDARD
BEGIN:DAYLIGHT
TZOFFSETFROM:-0600
TZOFFSETTO:-0500
TZNAME:CDT
DTSTART:20220313T080000
END:DAYLIGHT
BEGIN:STANDARD
TZOFFSETFROM:-0500
TZOFFSETTO:-0600
TZNAME:CST
DTSTART:20221106T070000
END:STANDARD
BEGIN:DAYLIGHT
TZOFFSETFROM:-0600
TZOFFSETTO:-0500
TZNAME:CDT
DTSTART:20230312T080000
END:DAYLIGHT
BEGIN:STANDARD
TZOFFSETFROM:-0500
TZOFFSETTO:-0600
TZNAME:CST
DTSTART:20231105T070000
END:STANDARD
END:VTIMEZONE
BEGIN:VEVENT
DTSTART;TZID=America/Chicago:20220217T140000
DTEND;TZID=America/Chicago:20220217T160000
DTSTAMP:20260423T163431
CREATED:20191014T211934Z
LAST-MODIFIED:20220205T215330Z
UID:915-1645106400-1645113600@chapters.theprimetimersww.com
SUMMARY:2:00 PM - Thursday - Virtual Coffee at Wilde Cafe
DESCRIPTION:Our Wilde Cafe discussion group is held monthly on Thursday from 2-3 PM virtually at the Wilde Roast Café. Please contact us by email for the ZOOM link. \nYou can get there by bus routes 4\, 6\, 11\, 61; or park on the street\, or in the ramp (to the north of the Wilde)\, and walk through the tunnel that goes to Pracna\, turn right outside to the Wilde. \nParking is available in the St. Anthony Square ramp. \n 
URL:https://chapters.theprimetimersww.com/minneapolisstpaul/event/200-pm-thursday-coffee-at-wilde-roast-2019-12-26-2022-02-17/
LOCATION:Wilde Roast\, 65 Main Street SE\, Minneapolis\, MN\, 55407\, United States
CATEGORIES:Monthly Recurring Events
ATTACH;FMTTYPE=image/png:https://chapters.theprimetimersww.com/minneapolisstpaul/wp-content/uploads/2019/10/Wilde-Cafe-Spirits.png
END:VEVENT
BEGIN:VEVENT
DTSTART;TZID=America/Chicago:20220219T130000
DTEND;TZID=America/Chicago:20220219T150000
DTSTAMP:20260423T163431
CREATED:20191127T200125Z
LAST-MODIFIED:20220205T220804Z
UID:918-1645275600-1645282800@chapters.theprimetimersww.com
SUMMARY:1:00 PM - Saturday - Book Club
DESCRIPTION:What: Shooting Midnight Cowboy\nBy: Glenn Frankel\nWhere: ZOOM\nWhen: Dec. 21 at 1:15 PM \nContact Rick for details or to subscribe to book club notices by email here. \nBook Review: \n\n\n\n“That Frankel is willing to point out that the movie is flawed is part of what makes the book so essential \n— Shooting Midnight Cowboy is a history\, not a paean\, and he asks viewers to reconsider what the movie meant\, not just to American culture\, \nbut to the cast and crew who made it. Frankel’s book is a must-read for anyone interested in cinematic history\, and an enthralling look at Schlesinger’s “dark\, difficult masterpiece and the deeply gifted and flawed men and women who made it.” \n\n\n\nTime: 1 p.m. Saturday\, Feb 19\nJoin Zoom Meeting \n\n\n\nPlease contact Rick for the ZOOM link by email here.
URL:https://chapters.theprimetimersww.com/minneapolisstpaul/event/115-pm-saturday-book-club-2022-02-19/
LOCATION:Quatrefoil Library\, 1220 East Lake Street\, Minneapolis\, MN\, 55407\, United States
CATEGORIES:Monthly Recurring Events
ATTACH;FMTTYPE=image/jpeg:https://chapters.theprimetimersww.com/minneapolisstpaul/wp-content/uploads/2019/11/Bookclub.jpg
END:VEVENT
END:VCALENDAR