BEGIN:VCALENDAR
VERSION:2.0
PRODID:-//Prime Timers Minneapolis - St. Paul - ECPv6.15.20//NONSGML v1.0//EN
CALSCALE:GREGORIAN
METHOD:PUBLISH
X-WR-CALNAME:Prime Timers Minneapolis - St. Paul
X-ORIGINAL-URL:https://chapters.theprimetimersww.com/minneapolisstpaul
X-WR-CALDESC:Events for Prime Timers Minneapolis - St. Paul
REFRESH-INTERVAL;VALUE=DURATION:PT1H
X-Robots-Tag:noindex
X-PUBLISHED-TTL:PT1H
BEGIN:VTIMEZONE
TZID:America/Chicago
BEGIN:DAYLIGHT
TZOFFSETFROM:-0600
TZOFFSETTO:-0500
TZNAME:CDT
DTSTART:20210314T080000
END:DAYLIGHT
BEGIN:STANDARD
TZOFFSETFROM:-0500
TZOFFSETTO:-0600
TZNAME:CST
DTSTART:20211107T070000
END:STANDARD
BEGIN:DAYLIGHT
TZOFFSETFROM:-0600
TZOFFSETTO:-0500
TZNAME:CDT
DTSTART:20220313T080000
END:DAYLIGHT
BEGIN:STANDARD
TZOFFSETFROM:-0500
TZOFFSETTO:-0600
TZNAME:CST
DTSTART:20221106T070000
END:STANDARD
BEGIN:DAYLIGHT
TZOFFSETFROM:-0600
TZOFFSETTO:-0500
TZNAME:CDT
DTSTART:20230312T080000
END:DAYLIGHT
BEGIN:STANDARD
TZOFFSETFROM:-0500
TZOFFSETTO:-0600
TZNAME:CST
DTSTART:20231105T070000
END:STANDARD
END:VTIMEZONE
BEGIN:VEVENT
DTSTART;TZID=America/Chicago:20220312T090000
DTEND;TZID=America/Chicago:20220312T110000
DTSTAMP:20260422T204416
CREATED:20191014T192252Z
LAST-MODIFIED:20220305T235448Z
UID:956-1647075600-1647082800@chapters.theprimetimersww.com
SUMMARY:9:00 AM - Our Famous 2nd Saturday Breakfast at Bakers Square
DESCRIPTION:Come join the Prime Timers Minneapolis/St. Paul for our Breakfast Club.  The group meets for breakfast on the second Saturday of every month at Bakers Square\, so please join us! \nThe group meets at 9:00 AM.  Baker’s Square is located at 2239 Ford Parkway (Highland Area of St. Paul – across from the previous Ford assembly plant\, MTC # 23\, 46\, 74\, and 84). We meet earlier because the restaurant fills up at 9 AM. \nCome earlier and we will sit together. There is plenty of off- street parking\, too. Arrive around 8:45\, take a seat\, and order from the menu as you like. The atmosphere is relaxed and casual\, perfect for greeting the day in the company of friends with that nice cup of coffee. Sparkling conversations (some bordering on the risqué)\, social fun\, talking\, discussion\, jokes\, laughter\, and camaraderie characterize this event. \nMTC Bus Route #23\, 46\, 74\, and A-Line
URL:https://chapters.theprimetimersww.com/minneapolisstpaul/event/845-am-our-famous-2nd-saturday-breakfast-2022-03-12/
LOCATION:Bakers Square Restaurant & Pies\, 2239 Ford Parkway\, St. Paul\, MN\, 55116\, United States
CATEGORIES:Monthly Recurring Events
ATTACH;FMTTYPE=image/jpeg:https://chapters.theprimetimersww.com/minneapolisstpaul/wp-content/uploads/2019/10/Bakers-Square-logo-e1571081188535.jpg
END:VEVENT
END:VCALENDAR