BEGIN:VCALENDAR
VERSION:2.0
PRODID:-//Prime Timers Minneapolis - St. Paul - ECPv6.15.20//NONSGML v1.0//EN
CALSCALE:GREGORIAN
METHOD:PUBLISH
X-WR-CALNAME:Prime Timers Minneapolis - St. Paul
X-ORIGINAL-URL:https://chapters.theprimetimersww.com/minneapolisstpaul
X-WR-CALDESC:Events for Prime Timers Minneapolis - St. Paul
REFRESH-INTERVAL;VALUE=DURATION:PT1H
X-Robots-Tag:noindex
X-PUBLISHED-TTL:PT1H
BEGIN:VTIMEZONE
TZID:America/Chicago
BEGIN:DAYLIGHT
TZOFFSETFROM:-0600
TZOFFSETTO:-0500
TZNAME:CDT
DTSTART:20230312T080000
END:DAYLIGHT
BEGIN:STANDARD
TZOFFSETFROM:-0500
TZOFFSETTO:-0600
TZNAME:CST
DTSTART:20231105T070000
END:STANDARD
BEGIN:DAYLIGHT
TZOFFSETFROM:-0600
TZOFFSETTO:-0500
TZNAME:CDT
DTSTART:20240310T080000
END:DAYLIGHT
BEGIN:STANDARD
TZOFFSETFROM:-0500
TZOFFSETTO:-0600
TZNAME:CST
DTSTART:20241103T070000
END:STANDARD
BEGIN:DAYLIGHT
TZOFFSETFROM:-0600
TZOFFSETTO:-0500
TZNAME:CDT
DTSTART:20250309T080000
END:DAYLIGHT
BEGIN:STANDARD
TZOFFSETFROM:-0500
TZOFFSETTO:-0600
TZNAME:CST
DTSTART:20251102T070000
END:STANDARD
END:VTIMEZONE
BEGIN:VEVENT
DTSTART;TZID=America/Chicago:20240217T130000
DTEND;TZID=America/Chicago:20240217T160000
DTSTAMP:20260423T065227
CREATED:20191127T200125Z
LAST-MODIFIED:20240115T024912Z
UID:1778-1708174800-1708185600@chapters.theprimetimersww.com
SUMMARY:1:15 PM - Saturday - Book Club
DESCRIPTION:What: Hide\nBy: Matthew Griffen\nWhere: Quatrefoil Library\nWhen: Feb. 17 at 1:15 PM \nContact Rick for details or to subscribe to book club notices by email here. \nBook Review: \n\n\n\n\nIt’s a quiet winter day in the shop when Wendell first sees Frank\, a young World War II vet returned to their Southern town. The wary love that develops between them is forbidden in this time and place\, but by cutting ties with the outside world\, they make a \n\n\n\n\nhome for themselves on the far edge of town. Wendell cooks\, Frank tends the garden and tries to keep the dog from digging it up. But when old age sets in and Frank’s strength and memory start to deteriorate\, the two of them must confront the sacrifices they’ve made—the lives they never had and the one they’ll fight to keep.
URL:https://chapters.theprimetimersww.com/minneapolisstpaul/event/115-pm-saturday-book-club-2024-02-17/
LOCATION:Quatrefoil Library\, 1220 East Lake Street\, Minneapolis\, MN\, 55407\, United States
CATEGORIES:Monthly Recurring Events
ATTACH;FMTTYPE=image/jpeg:https://chapters.theprimetimersww.com/minneapolisstpaul/wp-content/uploads/2019/11/Bookclub.jpg
END:VEVENT
END:VCALENDAR