BEGIN:VCALENDAR
VERSION:2.0
PRODID:-//Prime Timers Minneapolis - St. Paul - ECPv6.15.20//NONSGML v1.0//EN
CALSCALE:GREGORIAN
METHOD:PUBLISH
X-ORIGINAL-URL:https://chapters.theprimetimersww.com/minneapolisstpaul
X-WR-CALDESC:Events for Prime Timers Minneapolis - St. Paul
REFRESH-INTERVAL;VALUE=DURATION:PT1H
X-Robots-Tag:noindex
X-PUBLISHED-TTL:PT1H
BEGIN:VTIMEZONE
TZID:America/Chicago
BEGIN:DAYLIGHT
TZOFFSETFROM:-0600
TZOFFSETTO:-0500
TZNAME:CDT
DTSTART:20220313T080000
END:DAYLIGHT
BEGIN:STANDARD
TZOFFSETFROM:-0500
TZOFFSETTO:-0600
TZNAME:CST
DTSTART:20221106T070000
END:STANDARD
BEGIN:DAYLIGHT
TZOFFSETFROM:-0600
TZOFFSETTO:-0500
TZNAME:CDT
DTSTART:20230312T080000
END:DAYLIGHT
BEGIN:STANDARD
TZOFFSETFROM:-0500
TZOFFSETTO:-0600
TZNAME:CST
DTSTART:20231105T070000
END:STANDARD
BEGIN:DAYLIGHT
TZOFFSETFROM:-0600
TZOFFSETTO:-0500
TZNAME:CDT
DTSTART:20240310T080000
END:DAYLIGHT
BEGIN:STANDARD
TZOFFSETFROM:-0500
TZOFFSETTO:-0600
TZNAME:CST
DTSTART:20241103T070000
END:STANDARD
END:VTIMEZONE
BEGIN:VEVENT
DTSTART;VALUE=DATE:20231001
DTEND;VALUE=DATE:20231006
DTSTAMP:20260419T115424
CREATED:20230707T132036Z
LAST-MODIFIED:20230707T132036Z
UID:1595-1696118400-1696550399@chapters.theprimetimersww.com
SUMMARY:Prime Timers World Wide Convention 2023
DESCRIPTION:The 17th Biennial Convention of The Original PrimeTimers® Worldwide\, Inc. (PTWW) has over five days and nights to enjoy the social\, educational\, and recreational opportunities for mature 21+ years of age gay\, bisexual and transgender men that self-identify as male. The joy of the social journey is found in renewing acquaintances and meeting new men from around our planet through group workshops\, inspiring speakers and workshops\, sightseeing and excursions\, in a supportive atmosphere of respect and vision. Our 2023 Host Chapter is PrimeTimers® of Tampa Bay. \nRegistration\nBadge sales are now open\, with discounted fees before 15-SEP. Explore the links above and see what you can see! \nYOUR REGISTRATION FEE INCLUDES: \nOpening Lunch\, Beach Cookout w/transportation\, Closing Banquet and entry to the variety of personal interest seminars on men’s health\, finances\, and planning\, plus the chapter development workshops. And\, you can always enjoy free admission to the evening speakeasy/hospitality socials\, cabaret night\, table games\, and just meeting new friends. \n\n\n\nDiscounted Fees by Dates\nPTWW Local and Independent Chapter Member \n\nEARLY BIRD $230/man 1-JAN to 28-FEB\nADVANCE $250/man 1-MAR to 30-JUN\nGENERAL $270/man 1-JUL to 15-SEP\n$290/man after 16-SEP or at the door.\n\n– Each Non-Member must add $45/man if not affiliated with a PTWW Chapter. \nNOT INCLUDED and OPTIONAL TICKETS ARE AVAILABLE for: \n\nMerchandise: Souvenir Polo shirt\, PTTB and PTWW t-shirts\nMagic Show\, dolphin cruise with lunch at a Greek restaurant\, botanical gardens\, drag bingo benefit\, After-Glow excursion to Sarasota FL Ringling Brothers Circus museum-mansion-gardens-lunch.\nHotel\nPTWW is excited to have the Hilton St. Petersburg Bayfront as our main venue. Guest room reservations can be made directly telephoning the host hotel +1 727.894.5000 asking for the special “PrimeTimers® of Tampa Bay” rate or click below online at: \nhttps://www.hilton.com/en/attend-my- event/primetimersoftampabayblock/ \nRate-per-night is $166\, including tax. Parking onsite at hotel is discounted\, with offsite options available nearby. *PTWW group rates are valid until 2-SEP- 2023. *Room reservations can be cancelled by 28- SEP-2023 without penalty. \nDates\nSun\, Oct 1 2023\, 3:00pm – 11:00pm Mon\, Oct 2 2023\, 8:00am – 11:00pm Tue\, Oct 3 2023\, 8:00am – 11:00pm Wed\, Oct 4 2023\, 8:00am – 11:00pm Thu\, Oct 5 2023\, 8:00am – 11:00pm \nLocation\nSt. Petersburg\, Florida
URL:https://chapters.theprimetimersww.com/minneapolisstpaul/event/prime-timers-world-wide-convention-2023/
CATEGORIES:Special Event
ATTACH;FMTTYPE=image/jpeg:https://chapters.theprimetimersww.com/minneapolisstpaul/wp-content/uploads/2019/10/PrimeTimers-Logo.jpg
END:VEVENT
END:VCALENDAR