BEGIN:VCALENDAR
VERSION:2.0
PRODID:-//Prime Timers Minneapolis - St. Paul - ECPv6.15.20//NONSGML v1.0//EN
CALSCALE:GREGORIAN
METHOD:PUBLISH
X-WR-CALNAME:Prime Timers Minneapolis - St. Paul
X-ORIGINAL-URL:https://chapters.theprimetimersww.com/minneapolisstpaul
X-WR-CALDESC:Events for Prime Timers Minneapolis - St. Paul
REFRESH-INTERVAL;VALUE=DURATION:PT1H
X-Robots-Tag:noindex
X-PUBLISHED-TTL:PT1H
BEGIN:VTIMEZONE
TZID:America/Chicago
BEGIN:DAYLIGHT
TZOFFSETFROM:-0600
TZOFFSETTO:-0500
TZNAME:CDT
DTSTART:20250309T080000
END:DAYLIGHT
BEGIN:STANDARD
TZOFFSETFROM:-0500
TZOFFSETTO:-0600
TZNAME:CST
DTSTART:20251102T070000
END:STANDARD
BEGIN:DAYLIGHT
TZOFFSETFROM:-0600
TZOFFSETTO:-0500
TZNAME:CDT
DTSTART:20260308T080000
END:DAYLIGHT
BEGIN:STANDARD
TZOFFSETFROM:-0500
TZOFFSETTO:-0600
TZNAME:CST
DTSTART:20261101T070000
END:STANDARD
BEGIN:DAYLIGHT
TZOFFSETFROM:-0600
TZOFFSETTO:-0500
TZNAME:CDT
DTSTART:20270314T080000
END:DAYLIGHT
BEGIN:STANDARD
TZOFFSETFROM:-0500
TZOFFSETTO:-0600
TZNAME:CST
DTSTART:20271107T070000
END:STANDARD
END:VTIMEZONE
BEGIN:VEVENT
DTSTART;TZID=America/Chicago:20260716T140000
DTEND;TZID=America/Chicago:20260716T160000
DTSTAMP:20260419T230648
CREATED:20191014T211934Z
LAST-MODIFIED:20191014T211934Z
UID:2707-1784210400-1784217600@chapters.theprimetimersww.com
SUMMARY:2:00 PM - Thursday - Wild Prime Timers
DESCRIPTION:The Wilde Roast Group has made some changes – our name is now the Wild Prime Timers. \n\n\n\nWild Prime Timers will meet on the third Thursday of the month weekly from 2:00 pm to 4:00 pm in person at Kramarczuk’s Deli for stimulating conversations about a wide variety of topics. Join us! \n\n\n\nAddress: 215 E Hennepin Ave Minneapolis\, MN 55414. \nOff-street parking is available. \n\n\n\n\n\n\n\n\n\nFor more information\, contact Wally or Jon by email here. \n 
URL:https://chapters.theprimetimersww.com/minneapolisstpaul/event/200-pm-thursday-coffee-at-wilde-roast-2019-12-26-2022-07-21/2026-07-16/
LOCATION:Kramarczuk’s\, 215 East Hennepin Avenue\, Minnneaplois\, MN\, 55413\, United States
CATEGORIES:Monthly Recurring Events
ATTACH;FMTTYPE=image/png:https://chapters.theprimetimersww.com/minneapolisstpaul/wp-content/uploads/2021/01/Coffee.png
END:VEVENT
BEGIN:VEVENT
DTSTART;TZID=America/Chicago:20260717T180000
DTEND;TZID=America/Chicago:20260717T220000
DTSTAMP:20260419T230648
CREATED:20250302T160447Z
LAST-MODIFIED:20250302T160447Z
UID:2709-1784311200-1784325600@chapters.theprimetimersww.com
SUMMARY:6:00 PM - Friday - LGBTIA+ Game Nights
DESCRIPTION:LGBTIA+ Game Nights \n6:00 pm Till 10 pm \nEVERY FRIDAY EVENING! \nLocated in the Quatrefoil Library. Please see the Facebook page for the group is LGBTQ Board Games Twin Cities for updates. We offer a wide variety of games of many levels of play. Snacks provided. \nCancellations will be posted on the Facebook page. \nRuss Game Whore! \nFor more information contact us by email here.
URL:https://chapters.theprimetimersww.com/minneapolisstpaul/event/600-pm-friday-lgbtia-game-nights-2/2026-07-17/
LOCATION:Quatrefoil Library\, 1220 East Lake Street\, Minneapolis\, MN\, 55407\, United States
ATTACH;FMTTYPE=image/png:https://chapters.theprimetimersww.com/minneapolisstpaul/wp-content/uploads/2022/05/Screen-Shot-2022-05-14-at-4.03.50-PM.png
END:VEVENT
BEGIN:VEVENT
DTSTART;TZID=America/Chicago:20260718T100000
DTEND;TZID=America/Chicago:20260718T110000
DTSTAMP:20260419T230648
CREATED:20210119T024531Z
LAST-MODIFIED:20210119T024531Z
UID:2710-1784368800-1784372400@chapters.theprimetimersww.com
SUMMARY:10:00 AM - Saturday - A Celebration of Friends Klassic Coffee Klatch
DESCRIPTION:Prime Timers Worldwide recently shared information with all\nlocal chapters about another worldwide group of senior gay men\ncalled A Celebration of Friends (www.celebrationoffriends.org).\nThis well-known social organization has been active for more\nthan 15 years\, is based in Florida and was founded by Tom\nPence (aka\, “Tomcat”) who is a gregarious and welcoming man.\nTomcat runs a weekly Zoom call every Saturday morning at\n10:00am Central Time for all members of A Celebration of Friends (ACOF). Tomcat recently invited Prime Timers everywhere to join their weekly Zoom meetings called the Klassic Coffee Klatch. \nPlease contact us for more information by email here.
URL:https://chapters.theprimetimersww.com/minneapolisstpaul/event/1000-am-saturday-a-celebration-of-friends-klassic-coffee-klatch/2026-07-18/
LOCATION:Zoom
CATEGORIES:Monthly Recurring Events
ATTACH;FMTTYPE=image/png:https://chapters.theprimetimersww.com/minneapolisstpaul/wp-content/uploads/2021/01/Coffee.png
END:VEVENT
BEGIN:VEVENT
DTSTART;TZID=America/Chicago:20260718T140000
DTEND;TZID=America/Chicago:20260718T160000
DTSTAMP:20260419T230648
CREATED:20191127T200125Z
LAST-MODIFIED:20191127T200125Z
UID:2711-1784383200-1784390400@chapters.theprimetimersww.com
SUMMARY:1:15 PM - Saturday - Book Club
DESCRIPTION:What: Shortest Way Home By: Peter Buttigieg\nHost: Jerry\nWhere: Quatrefoil Library\nWhen: Dec. 21 at 1:15 PM \nContact Rick for details or to subscribe to book club notices by email here. \nBook Review:\nHave I mentioned Buttigieg is gay? It’s a marker of just how drastically the politics around gay rights have evolved in the past decade that this fact isn’t considered immediately disqualifying in a presidential candidate. Buttigieg himself noted this shift in a recent interview: “When I got into elected office” — just seven years ago — “it was a given in my mind that you could either be out or you could be in office — not both.” \nBut Buttigieg has managed to do both\, in Mike Pence’s Indiana of all places. After taking leave from his first term as mayor to serve in Afghanistan\, Buttigieg returns home eager to be upfront about his sexuality: “Before going overseas\,” he writes\, I had felt comfortable being more than one person\, as we all sometimes must\, according to the roles we are called to play. […] But something about exposure to danger impresses upon you that a life is not only fragile but single\, with one beginning and one end. It heightens the desire for your life to make sense as a whole\, not just from certain angles.” \nAfter telling his parents he’s gay\, he writes an essay for the South Bend Tribune to take the news public. Notwithstanding a few internet trolls\, some conservative constituents\, and an anti-gay newspaper deliveryman who temporarily boycotts Buttigieg on his morning rounds\, the reception is generally positive. Buttigieg goes on to win reelection with over 80 percent of the vote.\n— Harrison Hill\, Los Angeles Review of Books
URL:https://chapters.theprimetimersww.com/minneapolisstpaul/event/115-pm-saturday-book-club/2026-07-18/
LOCATION:Quatrefoil Library\, 1220 East Lake Street\, Minneapolis\, MN\, 55407\, United States
CATEGORIES:Monthly Recurring Events
ATTACH;FMTTYPE=image/jpeg:https://chapters.theprimetimersww.com/minneapolisstpaul/wp-content/uploads/2019/11/Bookclub.jpg
END:VEVENT
END:VCALENDAR