BEGIN:VCALENDAR
VERSION:2.0
PRODID:-//Prime Timers Minneapolis - St. Paul - ECPv6.15.20//NONSGML v1.0//EN
CALSCALE:GREGORIAN
METHOD:PUBLISH
X-WR-CALNAME:Prime Timers Minneapolis - St. Paul
X-ORIGINAL-URL:https://chapters.theprimetimersww.com/minneapolisstpaul
X-WR-CALDESC:Events for Prime Timers Minneapolis - St. Paul
REFRESH-INTERVAL;VALUE=DURATION:PT1H
X-Robots-Tag:noindex
X-PUBLISHED-TTL:PT1H
BEGIN:VTIMEZONE
TZID:America/Chicago
BEGIN:DAYLIGHT
TZOFFSETFROM:-0600
TZOFFSETTO:-0500
TZNAME:CDT
DTSTART:20210314T080000
END:DAYLIGHT
BEGIN:STANDARD
TZOFFSETFROM:-0500
TZOFFSETTO:-0600
TZNAME:CST
DTSTART:20211107T070000
END:STANDARD
BEGIN:DAYLIGHT
TZOFFSETFROM:-0600
TZOFFSETTO:-0500
TZNAME:CDT
DTSTART:20220313T080000
END:DAYLIGHT
BEGIN:STANDARD
TZOFFSETFROM:-0500
TZOFFSETTO:-0600
TZNAME:CST
DTSTART:20221106T070000
END:STANDARD
BEGIN:DAYLIGHT
TZOFFSETFROM:-0600
TZOFFSETTO:-0500
TZNAME:CDT
DTSTART:20230312T080000
END:DAYLIGHT
BEGIN:STANDARD
TZOFFSETFROM:-0500
TZOFFSETTO:-0600
TZNAME:CST
DTSTART:20231105T070000
END:STANDARD
END:VTIMEZONE
BEGIN:VEVENT
DTSTART;TZID=America/Chicago:20220208T113000
DTEND;TZID=America/Chicago:20220208T133000
DTSTAMP:20260422T174026
CREATED:20220205T220200Z
LAST-MODIFIED:20220205T220200Z
UID:991-1644319800-1644327000@chapters.theprimetimersww.com
SUMMARY:11:30 AM - Tuesday - LGBTQA Senior Luncheon
DESCRIPTION:LGBTQA Senior Luncheon at Little Brothers\n\n\n\n\n\n\nTuesday\, February 8th – 11:30am – 1:30pm\nThursday\, February 25th -11:30am – 1:30pm \n\n\n\nThe Danish American Center\n3030 West River Parkway\nMinneapolis\, MN 55406 \n\n\n\n\nVaccination cards are required! Face masks are required! \nBus route 21 \nOur FREE monthly “café” brings together LGBTQA seniors\, boomers and allies in friendship and acceptance. \n\n\n\n\n\nCatered lunch and dessert\nFriendly conversation\nInformation about senior & LGBTQ\nservices\n\n\n\n\n\nAll are welcome!\nLet’s Do Lunch Café is a joint effort between Prime Timers MSP and LBFE
URL:https://chapters.theprimetimersww.com/minneapolisstpaul/event/1130-am-tuesday-lgbtqa-senior-luncheon/
LOCATION:Danish American Center\, 3030 West River Parkway\, Minneapolis\, MN\, 55406\, United States
ATTACH;FMTTYPE=image/jpeg:https://chapters.theprimetimersww.com/minneapolisstpaul/wp-content/uploads/2019/10/Lets-Do-Lunch-graphic-e1571097328219.jpg
END:VEVENT
BEGIN:VEVENT
DTSTART;TZID=America/Chicago:20220212T090000
DTEND;TZID=America/Chicago:20220212T110000
DTSTAMP:20260422T174026
CREATED:20191014T192252Z
LAST-MODIFIED:20220205T215119Z
UID:913-1644656400-1644663600@chapters.theprimetimersww.com
SUMMARY:9:00 AM - Our Famous 2nd Saturday Breakfast at Bakers Square
DESCRIPTION:Come join the Prime Timers Minneapolis/St. Paul for our Breakfast Club.  The group meets for breakfast on the second Saturday of every month at Bakers Square\, so please join us! \nThe group meets at 8:45 AM.  Baker’s Square is located at 2239 Ford Parkway (Highland Area of St. Paul – across from the previous Ford assembly plant\, MTC # 23\, 46\, 74\, and 84). We meet earlier because the restaurant fills up at 9 AM. \nCome earlier and we will sit together. There is plenty of off- street parking\, too. Arrive around 8:45\, take a seat\, and order from the menu as you like. The atmosphere is relaxed and casual\, perfect for greeting the day in the company of friends with that nice cup of coffee. Sparkling conversations (some bordering on the risqué)\, social fun\, talking\, discussion\, jokes\, laughter\, and camaraderie characterize this event. \nMTC Bus Route #23\, 46\, 74\, and A-Line \nVaccination cards are required! Face masks are required!
URL:https://chapters.theprimetimersww.com/minneapolisstpaul/event/845-am-our-famous-2nd-saturday-breakfast-2022-02-12/
LOCATION:Bakers Square Restaurant & Pies\, 2239 Ford Parkway\, St. Paul\, MN\, 55116\, United States
CATEGORIES:Monthly Recurring Events
ATTACH;FMTTYPE=image/jpeg:https://chapters.theprimetimersww.com/minneapolisstpaul/wp-content/uploads/2019/10/Bakers-Square-logo-e1571081188535.jpg
END:VEVENT
BEGIN:VEVENT
DTSTART;TZID=America/Chicago:20220213T140000
DTEND;TZID=America/Chicago:20220213T170000
DTSTAMP:20260422T174026
CREATED:20220205T221529Z
LAST-MODIFIED:20220205T221529Z
UID:998-1644760800-1644771600@chapters.theprimetimersww.com
SUMMARY:2:00PM - Sunday - Valentine's Day Party
DESCRIPTION:Valentine’s Day Party\n\n\n\n\n\n\n\nGood Food\, Good Friends\nDoor Prizes and Live Fun Entertainment \n“What good is sitting alone in your home? Come hear the music play. It could be like a cabaret\, old chum. Join us on the party day.” \nReserve Sunday\, February 13th for a fun Valentine’s Day mix and mingle. Enjoy a great meal and delight in a wonderful winter afternoon getting updated on what’s been happening with your fellow Prime Timers. \nLasagna\, garden salad\, assorted rolls and breads\, desserts and beverages are being served for only $12. If special dietary requirements are needed\, please advise a week before the event. \nWhen: Sunday\, February 13th. 2:00 pm \nWhere: Harry’s Party Room\nSt. Paul\, MN 55075 \nBus Route 68 \nCost: $12 per person. \nCall Terry by February 5th by email here for reservations and special food requirements.\nPayment: Must be received in the Prime Timers PO Box by Saturday\, February 5\, 2022. \nMake check payable to:\nPrime Timers Minneapolis-St. Paul.\nMail to:\nPMB #198\n2136 Ford Parkway\nSt. Paul\, MN 55116 \nPlan on attending this Valentine’s Day event and feel free to bring a friend or two. See you there!
URL:https://chapters.theprimetimersww.com/minneapolisstpaul/event/200pm-sunday-valentines-day-party/
ATTACH;FMTTYPE=image/jpeg:https://chapters.theprimetimersww.com/minneapolisstpaul/wp-content/uploads/2019/10/PrimeTimers-Logo.jpg
END:VEVENT
BEGIN:VEVENT
DTSTART;TZID=America/Chicago:20220217T090000
DTEND;TZID=America/Chicago:20220217T110000
DTSTAMP:20260422T174026
CREATED:20191229T171208Z
LAST-MODIFIED:20220205T221643Z
UID:916-1645088400-1645095600@chapters.theprimetimersww.com
SUMMARY:9:00 AM - Thursday - Weekday Breakfast
DESCRIPTION:Prime Timer’s MSP will have a breakfast meet up at Perkins\, 1st & 3rd Thursdays each month at 9 AM. \nPerkins Restaurant\n8324 Lyndale Avenue\nBloomington\, MN\nBus route 538 \nQuestions contact Terry by email here. \n\n\n\n\nFace masks are required!
URL:https://chapters.theprimetimersww.com/minneapolisstpaul/event/900-am-thursday-weekday-breakfast-2-2022-02-17/
LOCATION:Perkins Restaurant & Bakery\, 8324 Lyndale Avenue\, Bloomington\, MN\, 55420\, United States
ATTACH;FMTTYPE=image/jpeg:https://chapters.theprimetimersww.com/minneapolisstpaul/wp-content/uploads/2019/10/Breakfast.jpg
END:VEVENT
BEGIN:VEVENT
DTSTART;TZID=America/Chicago:20220217T140000
DTEND;TZID=America/Chicago:20220217T160000
DTSTAMP:20260422T174026
CREATED:20191014T211934Z
LAST-MODIFIED:20220205T215330Z
UID:915-1645106400-1645113600@chapters.theprimetimersww.com
SUMMARY:2:00 PM - Thursday - Virtual Coffee at Wilde Cafe
DESCRIPTION:Our Wilde Cafe discussion group is held monthly on Thursday from 2-3 PM virtually at the Wilde Roast Café. Please contact us by email for the ZOOM link. \nYou can get there by bus routes 4\, 6\, 11\, 61; or park on the street\, or in the ramp (to the north of the Wilde)\, and walk through the tunnel that goes to Pracna\, turn right outside to the Wilde. \nParking is available in the St. Anthony Square ramp. \n 
URL:https://chapters.theprimetimersww.com/minneapolisstpaul/event/200-pm-thursday-coffee-at-wilde-roast-2019-12-26-2022-02-17/
LOCATION:Wilde Roast\, 65 Main Street SE\, Minneapolis\, MN\, 55407\, United States
CATEGORIES:Monthly Recurring Events
ATTACH;FMTTYPE=image/png:https://chapters.theprimetimersww.com/minneapolisstpaul/wp-content/uploads/2019/10/Wilde-Cafe-Spirits.png
END:VEVENT
BEGIN:VEVENT
DTSTART;TZID=America/Chicago:20220219T130000
DTEND;TZID=America/Chicago:20220219T150000
DTSTAMP:20260422T174026
CREATED:20191127T200125Z
LAST-MODIFIED:20220205T220804Z
UID:918-1645275600-1645282800@chapters.theprimetimersww.com
SUMMARY:1:00 PM - Saturday - Book Club
DESCRIPTION:What: Shooting Midnight Cowboy\nBy: Glenn Frankel\nWhere: ZOOM\nWhen: Dec. 21 at 1:15 PM \nContact Rick for details or to subscribe to book club notices by email here. \nBook Review: \n\n\n\n“That Frankel is willing to point out that the movie is flawed is part of what makes the book so essential \n— Shooting Midnight Cowboy is a history\, not a paean\, and he asks viewers to reconsider what the movie meant\, not just to American culture\, \nbut to the cast and crew who made it. Frankel’s book is a must-read for anyone interested in cinematic history\, and an enthralling look at Schlesinger’s “dark\, difficult masterpiece and the deeply gifted and flawed men and women who made it.” \n\n\n\nTime: 1 p.m. Saturday\, Feb 19\nJoin Zoom Meeting \n\n\n\nPlease contact Rick for the ZOOM link by email here.
URL:https://chapters.theprimetimersww.com/minneapolisstpaul/event/115-pm-saturday-book-club-2022-02-19/
LOCATION:Quatrefoil Library\, 1220 East Lake Street\, Minneapolis\, MN\, 55407\, United States
CATEGORIES:Monthly Recurring Events
ATTACH;FMTTYPE=image/jpeg:https://chapters.theprimetimersww.com/minneapolisstpaul/wp-content/uploads/2019/11/Bookclub.jpg
END:VEVENT
BEGIN:VEVENT
DTSTART;TZID=America/Chicago:20220220T140000
DTEND;TZID=America/Chicago:20220220T170000
DTSTAMP:20260422T174026
CREATED:20191127T195318Z
LAST-MODIFIED:20220205T215615Z
UID:919-1645365600-1645376400@chapters.theprimetimersww.com
SUMMARY:CANCELED: 2:00 PM - Sunday - Dominoes
DESCRIPTION:Due to the Quatrefoil suspending meetings in their common areas for February\, we are suspending dominoes until the Quatrefoil lifts the suspension or we find an alternative place to meet. \n\n\n\n\n\n\n\n\n\n\nLocation: Quatrefoil Library – 1220 East Lake Street\, Minneapolis on the corner of Lake Street and 13th Avenue South. The library occupies a street level space in the Spirit on Lake Apartments. \n\n\n\n\n\n\n\n\nMTC Bus Route 21.
URL:https://chapters.theprimetimersww.com/minneapolisstpaul/event/200-pm-sunday-dominoes-2022-02-20/
LOCATION:Quatrefoil Library\, 1220 East Lake Street\, Minneapolis\, MN\, 55407\, United States
CATEGORIES:Monthly Recurring Events
ATTACH;FMTTYPE=image/png:https://chapters.theprimetimersww.com/minneapolisstpaul/wp-content/uploads/2019/10/Dominoes-image-2.png
END:VEVENT
BEGIN:VEVENT
DTSTART;TZID=America/Chicago:20220222T130000
DTEND;TZID=America/Chicago:20220222T150000
DTSTAMP:20260422T174026
CREATED:20191127T200519Z
LAST-MODIFIED:20220205T222106Z
UID:914-1645534800-1645542000@chapters.theprimetimersww.com
SUMMARY:1:00 PM - Tuesday - Weekday Lunch
DESCRIPTION:It could be a sandwich or a salad or a big plate special; it is our visit to Wally’s Famous Roast Beef. It is located in the Southtown\nOffice Building at 8120 Penn Avenue South\, Bloomington. Your choice includes Roast Beef\, Ham\, Turkey\, Meatloaf or more! \nEasy free parking available via the 82nd Avenue Entrance. \nSo\, circle the date: Tuesday\, February 22nd at 1 PM. Hope to see you there! \nFace masks are required! \nMTC Orange Line & Route 534 \n\n\n\nIf you have any questions\, please contact us by email here.
URL:https://chapters.theprimetimersww.com/minneapolisstpaul/event/700-pm-tuesday-adventures-in-dining-2022-02-15/
LOCATION:Wally’s Famous Roast Beef\, 8120 Penn Avenue South\, Bloomington\, MN\, United States
CATEGORIES:Monthly Recurring Events
ATTACH;FMTTYPE=image/jpeg:https://chapters.theprimetimersww.com/minneapolisstpaul/wp-content/uploads/2019/10/DineOut.jpg
END:VEVENT
BEGIN:VEVENT
DTSTART;TZID=America/Chicago:20220224T113000
DTEND;TZID=America/Chicago:20220224T133000
DTSTAMP:20260422T174026
CREATED:20220205T220340Z
LAST-MODIFIED:20220205T220340Z
UID:994-1645702200-1645709400@chapters.theprimetimersww.com
SUMMARY:11:30 AM - Thursday - LGBTQA Senior Luncheon
DESCRIPTION:LGBTQA Senior Luncheon at Little Brothers\n\n\n\n\n\n\nTuesday\, February 8th – 11:30am – 1:30pm\nThursday\, February 24th -11:30am – 1:30pm \n\n\n\nThe Danish American Center\n3030 West River Parkway\nMinneapolis\, MN 55406 \n\n\n\n\nVaccination cards are required! Face masks are required! \nBus route 21 \nOur FREE monthly “café” brings together LGBTQA seniors\, boomers and allies in friendship and acceptance. \n\n\n\n\n\nCatered lunch and dessert\nFriendly conversation\nInformation about senior & LGBTQ\nservices\n\n\n\n\n\nAll are welcome!\nLet’s Do Lunch Café is a joint effort between Prime Timers MSP and LBFE
URL:https://chapters.theprimetimersww.com/minneapolisstpaul/event/1130-am-thursday-lgbtqa-senior-luncheon/
LOCATION:Danish American Center\, 3030 West River Parkway\, Minneapolis\, MN\, 55406\, United States
ATTACH;FMTTYPE=image/jpeg:https://chapters.theprimetimersww.com/minneapolisstpaul/wp-content/uploads/2019/10/Lets-Do-Lunch-graphic-e1571097328219.jpg
END:VEVENT
END:VCALENDAR