BEGIN:VCALENDAR
VERSION:2.0
PRODID:-//Prime Timers Minneapolis - St. Paul - ECPv6.15.20//NONSGML v1.0//EN
CALSCALE:GREGORIAN
METHOD:PUBLISH
X-ORIGINAL-URL:https://chapters.theprimetimersww.com/minneapolisstpaul
X-WR-CALDESC:Events for Prime Timers Minneapolis - St. Paul
REFRESH-INTERVAL;VALUE=DURATION:PT1H
X-Robots-Tag:noindex
X-PUBLISHED-TTL:PT1H
BEGIN:VTIMEZONE
TZID:America/Chicago
BEGIN:DAYLIGHT
TZOFFSETFROM:-0600
TZOFFSETTO:-0500
TZNAME:CDT
DTSTART:20210314T080000
END:DAYLIGHT
BEGIN:STANDARD
TZOFFSETFROM:-0500
TZOFFSETTO:-0600
TZNAME:CST
DTSTART:20211107T070000
END:STANDARD
BEGIN:DAYLIGHT
TZOFFSETFROM:-0600
TZOFFSETTO:-0500
TZNAME:CDT
DTSTART:20220313T080000
END:DAYLIGHT
BEGIN:STANDARD
TZOFFSETFROM:-0500
TZOFFSETTO:-0600
TZNAME:CST
DTSTART:20221106T070000
END:STANDARD
BEGIN:DAYLIGHT
TZOFFSETFROM:-0600
TZOFFSETTO:-0500
TZNAME:CDT
DTSTART:20230312T080000
END:DAYLIGHT
BEGIN:STANDARD
TZOFFSETFROM:-0500
TZOFFSETTO:-0600
TZNAME:CST
DTSTART:20231105T070000
END:STANDARD
END:VTIMEZONE
BEGIN:VEVENT
DTSTART;TZID=America/Chicago:20220504T130000
DTEND;TZID=America/Chicago:20220504T150000
DTSTAMP:20260422T075652
CREATED:20220514T212312Z
LAST-MODIFIED:20220514T212312Z
UID:1079-1651669200-1651676400@chapters.theprimetimersww.com
SUMMARY:1:00 PM - Wednesday - A Bonus Lunch
DESCRIPTION:A WEEKDAY LUNCH BONUS! \nOn Wednesday\, May 4th\, 2022\, at 1PM let’s meet at \nThe Cardinal Restaurant & Bar – South Mpls; \n2920 East 38th Street. It is next to the Blue Line Station (Hiawatha Av. & MTC # 14E\, 22 & 23) and has free off-street parking.\nFull lunch menu with a separate senior menu too. \nFree Parking Lot located across 38th Street from the cafe. No parking permitted behind the building.
URL:https://chapters.theprimetimersww.com/minneapolisstpaul/event/100-pm-wednesday-a-bonus-lunch/
ATTACH;FMTTYPE=image/jpeg:https://chapters.theprimetimersww.com/minneapolisstpaul/wp-content/uploads/2019/10/DineOut.jpg
END:VEVENT
BEGIN:VEVENT
DTSTART;TZID=America/Chicago:20220510T133000
DTEND;TZID=America/Chicago:20220510T153000
DTSTAMP:20260422T075652
CREATED:20220514T211339Z
LAST-MODIFIED:20220514T211339Z
UID:1070-1652189400-1652196600@chapters.theprimetimersww.com
SUMMARY:1:30 PM - Tuesday - Let's Do Lunch
DESCRIPTION:Tuesday May 10th – 11:30am – 1:30pm\nFriday May 27th – 11:30am – 1:30pm \n\n\n\nThe Danish American Center\n3030 West River Parkway\nMinneapolis\, MN 55406\nBus Route 21 \n\n\n\n\n\n\nOur FREE monthly “café” brings together LGBTQA seniors\, boomers and allies in friendship and acceptance. \n\n\n\n\n\nCatered lunch and dessert\nFriendly conversation\nInformation about senior & LGBTQ\nservices\n\n\n\n\n\nAll are welcome!\nLet’s Do Lunch Café is a joint effort between Prime Timers MSP and LBFE
URL:https://chapters.theprimetimersww.com/minneapolisstpaul/event/130-pm-tuesday-lets-do-lunch/
ATTACH;FMTTYPE=image/jpeg:https://chapters.theprimetimersww.com/minneapolisstpaul/wp-content/uploads/2019/10/Lunch.jpg
END:VEVENT
BEGIN:VEVENT
DTSTART;TZID=America/Chicago:20220514T113000
DTEND;TZID=America/Chicago:20220514T153000
DTSTAMP:20260422T075652
CREATED:20220514T212416Z
LAST-MODIFIED:20220514T212416Z
UID:1081-1652527800-1652542200@chapters.theprimetimersww.com
SUMMARY:11:30 AM - Saturday - History Boys
DESCRIPTION:Saturday\, May 14th! Save the date and join Prime Timers History Boys when they travel to the Bakken Museum in south Minneapolis. The exhibits present a concise history and explanation of electricity and electromagnetism. There are interactive exhibits for all ages. Make movies in the Spark exhibit\, meet the mother of science fiction in Mary & Her Monster\, and test out some of Ben Franklin’s favorite experiments in the Electricity Party Room. \nA historic mansion\, unique collections\, medicinal gardens\, dynamic exhibits\, and rich educational experiences await you. The Bakken Museum truly has something everyone can enjoy. \nWhen: Saturday\, May 14th. 11:30am.\nAfter breakfast at Bakers Square. \nLocation: 3537 Zenith Avenue South\, Minneapolis Cost: $9.00 self-guided. If over 10 attend \nself-guided price drops to $7.00. Price is $14 if a tour guide is requested. Tour guides are only available for groups of 10 or more. \nParking: Free in museum lot or on street. Handicap Accessibility: There is an elevator \nbetween the two museum floors. But to enter some of the smaller rooms there will be a few steps involved. \nCome join the History Boys and find out why the Bakken Museum inspires a passion for innovation by exploring the potential for science\, technology\, and the humanities to make the world a better place.
URL:https://chapters.theprimetimersww.com/minneapolisstpaul/event/1130-am-saturday-history-boys/
ATTACH;FMTTYPE=image/jpeg:https://chapters.theprimetimersww.com/minneapolisstpaul/wp-content/uploads/2019/10/StoneArch.jpg
END:VEVENT
BEGIN:VEVENT
DTSTART;TZID=America/Chicago:20220515T130000
DTEND;TZID=America/Chicago:20220515T160000
DTSTAMP:20260422T075652
CREATED:20191127T195318Z
LAST-MODIFIED:20220514T205649Z
UID:1012-1652619600-1652630400@chapters.theprimetimersww.com
SUMMARY:1:00 PM - Sunday - Dominoes
DESCRIPTION:Location: Quatrefoil Library – 1220 East Lake Street\, Minneapolis on the corner of Lake Street and 13th Avenue South. The library occupies a street level space in the Spirit on Lake Apartments. \n\n\n\n\n\n\n\n\nMTC Bus Route 21.
URL:https://chapters.theprimetimersww.com/minneapolisstpaul/event/200-pm-sunday-dominoes-2022-05-15/
LOCATION:Quatrefoil Library\, 1220 East Lake Street\, Minneapolis\, MN\, 55407\, United States
CATEGORIES:Monthly Recurring Events
ATTACH;FMTTYPE=image/png:https://chapters.theprimetimersww.com/minneapolisstpaul/wp-content/uploads/2019/10/Dominoes-image-2.png
END:VEVENT
BEGIN:VEVENT
DTSTART;TZID=America/Chicago:20220519T084500
DTEND;TZID=America/Chicago:20220519T110000
DTSTAMP:20260422T075652
CREATED:20191229T171208Z
LAST-MODIFIED:20220514T205806Z
UID:1015-1652949900-1652958000@chapters.theprimetimersww.com
SUMMARY:8:45 AM - Thursday - Weekday Breakfast
DESCRIPTION:Prime Timer’s MSP will have a breakfast meet up at Perkins\, 1st & 3rd Thursdays each month at 9 AM. \nPerkins Restaurant\n8324 Lyndale Avenue\nBloomington\, MN\nBus route 538 \nQuestions contact Terry by email here. \n\n\n\n\nFace masks are required!
URL:https://chapters.theprimetimersww.com/minneapolisstpaul/event/900-am-thursday-weekday-breakfast-2-2022-05-19/
LOCATION:Perkins Restaurant & Bakery\, 8324 Lyndale Avenue\, Bloomington\, MN\, 55420\, United States
ATTACH;FMTTYPE=image/jpeg:https://chapters.theprimetimersww.com/minneapolisstpaul/wp-content/uploads/2019/10/Breakfast.jpg
END:VEVENT
BEGIN:VEVENT
DTSTART;TZID=America/Chicago:20220519T140000
DTEND;TZID=America/Chicago:20220519T160000
DTSTAMP:20260422T075652
CREATED:20191014T211934Z
LAST-MODIFIED:20220507T175602Z
UID:1014-1652968800-1652976000@chapters.theprimetimersww.com
SUMMARY:2:00 PM - Thursday - Coffee at Wilde Cafe
DESCRIPTION:The next meeting of the Wilde Roast group will meet In- Person in the Wilde Cafe\non Thursday\, May 19th at 2PM. The restaurant is located at: \n65 SE Main St. Minneapolis\, MN 55414. You can get there by bus routes 4\, 6\, 11\, 61; or park on the street\, or in the ramp (to the north of the Wilde)\, and walk through the tunnel that goes to Pracna\, turn right outside to the Wilde. \n\n\n\n\nOur Wilde Cafe discussion group is held monthly on Thursday from 2-4 PM at the Wilde Roast Café. \nYou can get there by bus routes 4\, 6\, 11\, 61; or park on the street\, or in the ramp (to the north of the Wilde)\, and walk through the tunnel that goes to Pracna\, turn right outside to the Wilde. \nParking is available in the St. Anthony Square ramp. \n 
URL:https://chapters.theprimetimersww.com/minneapolisstpaul/event/200-pm-thursday-coffee-at-wilde-roast-2019-12-26-2022-05-19/
LOCATION:Wilde Roast\, 65 Main Street SE\, Minneapolis\, MN\, 55407\, United States
CATEGORIES:Monthly Recurring Events
ATTACH;FMTTYPE=image/png:https://chapters.theprimetimersww.com/minneapolisstpaul/wp-content/uploads/2019/10/Wilde-Cafe-Spirits.png
END:VEVENT
BEGIN:VEVENT
DTSTART;TZID=America/Chicago:20220521T140000
DTEND;TZID=America/Chicago:20220521T160000
DTSTAMP:20260422T075652
CREATED:20191127T200125Z
LAST-MODIFIED:20220514T211758Z
UID:1017-1653141600-1653148800@chapters.theprimetimersww.com
SUMMARY:1:15 PM - Saturday - Book Club
DESCRIPTION:What: On Earth We’re Briefly Gorgeous\nBy: Ocean Young\nWhere: Quatrefoil Library\nWhen: Dec. 21 at 1:15 PM \nContact Rick for details or to subscribe to book club notices by email here. \nBook Review: \n\n\n\n“A diary of life on the margins of American society…For all that Vuong has to say about history\, queerness\, and American culture\, everything about his book feels specific and personal.” —Boris Kachka\, Vulture \n\n\n\n 
URL:https://chapters.theprimetimersww.com/minneapolisstpaul/event/115-pm-saturday-book-club-2022-05-21/
LOCATION:Quatrefoil Library\, 1220 East Lake Street\, Minneapolis\, MN\, 55407\, United States
CATEGORIES:Monthly Recurring Events
ATTACH;FMTTYPE=image/jpeg:https://chapters.theprimetimersww.com/minneapolisstpaul/wp-content/uploads/2019/11/Bookclub.jpg
END:VEVENT
BEGIN:VEVENT
DTSTART;TZID=America/Chicago:20220524T130000
DTEND;TZID=America/Chicago:20220524T150000
DTSTAMP:20260422T075652
CREATED:20220514T212152Z
LAST-MODIFIED:20220514T212152Z
UID:1077-1653397200-1653404400@chapters.theprimetimersww.com
SUMMARY:1:00 PM - Tuesday - Weekday Lunch
DESCRIPTION:On Tuesday\, May 24th\, let us all walk down the avenue (East Hennepin Avenue) and at 1PM we will stop at Kramarczuk’s Eastern European Deli for a sandwich or more! It is located at 215 East Hennepin Avenue\, Minneapolis. \nIt is serviced by MTC Routes 4\,6\,11 and 61; also\, free off-street parking is available next to the building. You have so many choices on the menu and a deli desserts taste treat to boot. \nIf you are attending\, please contact us by email here.
URL:https://chapters.theprimetimersww.com/minneapolisstpaul/event/100-pm-tuesday-weekday-lunch-7/
LOCATION:Kramarczuk’s\, 215 East Hennepin Avenue\, Minnneaplois\, MN\, 55413\, United States
ATTACH;FMTTYPE=image/jpeg:https://chapters.theprimetimersww.com/minneapolisstpaul/wp-content/uploads/2019/10/Lunch.jpg
END:VEVENT
BEGIN:VEVENT
DTSTART;TZID=America/Chicago:20220527T133000
DTEND;TZID=America/Chicago:20220527T153000
DTSTAMP:20260422T075652
CREATED:20220514T211514Z
LAST-MODIFIED:20220514T211514Z
UID:1072-1653658200-1653665400@chapters.theprimetimersww.com
SUMMARY:1:30 PM - Friday - Let's Do Lunch
DESCRIPTION:Tuesday May 10th – 11:30am – 1:30pm\nFriday May 27th – 11:30am – 1:30pm \n\n\n\nThe Danish American Center\n3030 West River Parkway\nMinneapolis\, MN 55406\nBus Route 21 \n\n\n\n\n\n\nOur FREE monthly “café” brings together LGBTQA seniors\, boomers and allies in friendship and acceptance. \n\n\n\n\n\nCatered lunch and dessert\nFriendly conversation\nInformation about senior & LGBTQ\nservices\n\n\n\n\n\nAll are welcome!\nLet’s Do Lunch Café is a joint effort between Prime Timers MSP and LBFE
URL:https://chapters.theprimetimersww.com/minneapolisstpaul/event/130-pm-friday-lets-do-lunch/
LOCATION:The Danish American Center\, 3030 West River Parkway\, Minneapolis\, MN
ATTACH;FMTTYPE=image/jpeg:https://chapters.theprimetimersww.com/minneapolisstpaul/wp-content/uploads/2019/10/Lunch.jpg
END:VEVENT
END:VCALENDAR