BEGIN:VCALENDAR
VERSION:2.0
PRODID:-//Prime Timers Minneapolis - St. Paul - ECPv6.15.20//NONSGML v1.0//EN
CALSCALE:GREGORIAN
METHOD:PUBLISH
X-WR-CALNAME:Prime Timers Minneapolis - St. Paul
X-ORIGINAL-URL:https://chapters.theprimetimersww.com/minneapolisstpaul
X-WR-CALDESC:Events for Prime Timers Minneapolis - St. Paul
REFRESH-INTERVAL;VALUE=DURATION:PT1H
X-Robots-Tag:noindex
X-PUBLISHED-TTL:PT1H
BEGIN:VTIMEZONE
TZID:America/Chicago
BEGIN:DAYLIGHT
TZOFFSETFROM:-0600
TZOFFSETTO:-0500
TZNAME:CDT
DTSTART:20210314T080000
END:DAYLIGHT
BEGIN:STANDARD
TZOFFSETFROM:-0500
TZOFFSETTO:-0600
TZNAME:CST
DTSTART:20211107T070000
END:STANDARD
BEGIN:DAYLIGHT
TZOFFSETFROM:-0600
TZOFFSETTO:-0500
TZNAME:CDT
DTSTART:20220313T080000
END:DAYLIGHT
BEGIN:STANDARD
TZOFFSETFROM:-0500
TZOFFSETTO:-0600
TZNAME:CST
DTSTART:20221106T070000
END:STANDARD
BEGIN:DAYLIGHT
TZOFFSETFROM:-0600
TZOFFSETTO:-0500
TZNAME:CDT
DTSTART:20230312T080000
END:DAYLIGHT
BEGIN:STANDARD
TZOFFSETFROM:-0500
TZOFFSETTO:-0600
TZNAME:CST
DTSTART:20231105T070000
END:STANDARD
END:VTIMEZONE
BEGIN:VEVENT
DTSTART;TZID=America/Chicago:20220609T183000
DTEND;TZID=America/Chicago:20220609T203000
DTSTAMP:20260422T122829
CREATED:20220514T214332Z
LAST-MODIFIED:20220514T214332Z
UID:1090-1654799400-1654806600@chapters.theprimetimersww.com
SUMMARY:6:30 PM - Thursday - Alive & Kickin's Rocking Seniors
DESCRIPTION:Features music and stories from Alive & Kickin’s Rockin Seniors about life’s twists and turns – the incredible\, beautiful\, or scandalous. This highly inspirational performance illustrates persevering through it all while living life to its fullest. \nAlive & Kickin is the Twin Cities’ Premier Senior Rock Ensemble. These seniors are amazing. Alive & Kickin gives voice to seniors through personal stories and popular songs\, empowering its members to entertain and enlighten multi- generation audiences. \nA group of Prime Timers saw their annual show last fall and it was fantastic. Now you have the opportunity to experience this fantastic production yourself because the They\, Them and Us Activities Group has been invited to take advantage of their Annual Neighbors Night presentation. All that is asked is that you make a donation to their organization. \nWhen: Thursday\, June 9\, 2022. 6:30pm. Meet in lobby at 6:15. \nCost: FREE\, but a minimum of $10 donation is suggested.\nLocation: Ives Auditorium Masonic Heritage Center \n\n\n\n11411 Masonic Home Drive Bloomington\, Minnesota \nRemember to bring mask and proof of vaccine in case they are required. \nContact for more information or to RSVP by email here.
URL:https://chapters.theprimetimersww.com/minneapolisstpaul/event/630-pm-thursday-alive-kickins-rocking-seniors/
ATTACH;FMTTYPE=image/jpeg:https://chapters.theprimetimersww.com/minneapolisstpaul/wp-content/uploads/2019/10/StoneArch.jpg
END:VEVENT
BEGIN:VEVENT
DTSTART;TZID=America/Chicago:20220616T193000
DTEND;TZID=America/Chicago:20220616T213000
DTSTAMP:20260422T122829
CREATED:20220514T213544Z
LAST-MODIFIED:20220514T213544Z
UID:1083-1655407800-1655415000@chapters.theprimetimersww.com
SUMMARY:7:30 PM - Thursday - An Outdoor Production
DESCRIPTION:We enjoyed them last fall at their fundraiser. And now we have the opportunity to see the Cross Community Players next production\,\nLegally Blonde\, The Musical\, with a price you cannot beat. Pay what you can afford. \nMaybe you remember the 2001 movie.\nIf not discover how Harvard’s beloved blonde takes the stage by pink storm in this fun\, upbeat story of self-discovery. \nLegally Blonde\, The Musical follows the transformation of Elle Woods with her beloved Chihuahua\, Bruiser\, as she tackles stereotypes and scandal in pursuit of her dreams. It is an action- packed musical that explodes on the stage with memorable songs and dynamic dances. \nElle Woods appears to have it all. Her life is turned upside down when her boyfriend Warner dumps her so he can attend Harvard Law. Determined to get him back\, Elle ingeniously charms her way into the prestigious law school. While there\, she struggles with peers\, professors\, and her ex. With the support of some new friends\, Elle quickly realizes her potential and sets out to prove herself to the world. \nEqual parts hilarious and heart-warming\, this musical is so much fun it should be illegal. \nWhen: Thursday\, June 16\, 2022. 7:30pm. \nWhere: Maple Grove Town Green (Outdoor Amphitheater)\n7991 Main Street North\,\nMaple Grove\nPrice: Donation what you can afford\, plus Food Shelf donations.\nParking: There is some handicap parking on the street about 1⁄4 block from the Amphitheater or in the city ramp 3⁄4 of a block away.\nSeating: On poured concrete benches\, but you can bring a cushion or blanket. \n\n\n\n 
URL:https://chapters.theprimetimersww.com/minneapolisstpaul/event/730-pm-thursday-an-outdoor-production/
ATTACH;FMTTYPE=image/jpeg:https://chapters.theprimetimersww.com/minneapolisstpaul/wp-content/uploads/2019/11/Bookclub.jpg
END:VEVENT
BEGIN:VEVENT
DTSTART;TZID=America/Chicago:20220618T140000
DTEND;TZID=America/Chicago:20220618T160000
DTSTAMP:20260422T122829
CREATED:20191127T200125Z
LAST-MODIFIED:20220623T120355Z
UID:1032-1655560800-1655568000@chapters.theprimetimersww.com
SUMMARY:1:15 PM - Saturday - Book Club
DESCRIPTION:What: Punch Me Up to the Gods: A Memoir\nBy: Brian Broom\nWhere: Quatrefoil Library\nWhen: June 18th at 1:15 PM \nContact Rick for details or to subscribe to book club notices by email here. \n\n\n\n“Punch Me Up to the Gods” is a coming-of-age story that explores Black manhood and queerness in the Rust Belt. The title of the book is a reference to the ways that Black boys are often socialized into rigid conceptions of manhood — sometimes by the use of violence. “Any Black boy who did not signify how manly he was at all times deserved to\nbe punched back up to God to be remade\, reshaped\,” Broome writes. With this book\,\nBroome hopes to counter the force of that punch by exploring the beauty of queer Black manhood\, while offering a new way to write about that beauty.
URL:https://chapters.theprimetimersww.com/minneapolisstpaul/event/115-pm-saturday-book-club-2022-06-18/
LOCATION:Quatrefoil Library\, 1220 East Lake Street\, Minneapolis\, MN\, 55407\, United States
CATEGORIES:Monthly Recurring Events
ATTACH;FMTTYPE=image/jpeg:https://chapters.theprimetimersww.com/minneapolisstpaul/wp-content/uploads/2019/11/Bookclub.jpg
END:VEVENT
END:VCALENDAR