BEGIN:VCALENDAR
VERSION:2.0
PRODID:-//Prime Timers Minneapolis - St. Paul - ECPv6.15.20//NONSGML v1.0//EN
CALSCALE:GREGORIAN
METHOD:PUBLISH
X-ORIGINAL-URL:https://chapters.theprimetimersww.com/minneapolisstpaul
X-WR-CALDESC:Events for Prime Timers Minneapolis - St. Paul
REFRESH-INTERVAL;VALUE=DURATION:PT1H
X-Robots-Tag:noindex
X-PUBLISHED-TTL:PT1H
BEGIN:VTIMEZONE
TZID:America/Chicago
BEGIN:DAYLIGHT
TZOFFSETFROM:-0600
TZOFFSETTO:-0500
TZNAME:CDT
DTSTART:20220313T080000
END:DAYLIGHT
BEGIN:STANDARD
TZOFFSETFROM:-0500
TZOFFSETTO:-0600
TZNAME:CST
DTSTART:20221106T070000
END:STANDARD
BEGIN:DAYLIGHT
TZOFFSETFROM:-0600
TZOFFSETTO:-0500
TZNAME:CDT
DTSTART:20230312T080000
END:DAYLIGHT
BEGIN:STANDARD
TZOFFSETFROM:-0500
TZOFFSETTO:-0600
TZNAME:CST
DTSTART:20231105T070000
END:STANDARD
BEGIN:DAYLIGHT
TZOFFSETFROM:-0600
TZOFFSETTO:-0500
TZNAME:CDT
DTSTART:20240310T080000
END:DAYLIGHT
BEGIN:STANDARD
TZOFFSETFROM:-0500
TZOFFSETTO:-0600
TZNAME:CST
DTSTART:20241103T070000
END:STANDARD
END:VTIMEZONE
BEGIN:VEVENT
DTSTART;TZID=America/Chicago:20230201T130000
DTEND;TZID=America/Chicago:20230201T150000
DTSTAMP:20260421T152411
CREATED:20230125T030706Z
LAST-MODIFIED:20230125T030746Z
UID:1339-1675256400-1675263600@chapters.theprimetimersww.com
SUMMARY:1:00 PM - Wednesday - Weekday Lunch
DESCRIPTION:On Wednesday\, February 1st\, 2023\, at 1PM let’s meet at The Cardinal Restaurant & Bar – South Mpls; 2920 East 38th Street. It is next to the Blue Line Station (Hiawatha Av. & MTC # 14E\, 22 & 23) and has free off-street parking. \nFull lunch menu with a separate senior menu too. \nIf you are thinking of coming\, please text please contact Howard by email here.
URL:https://chapters.theprimetimersww.com/minneapolisstpaul/event/100-pm-wednesday-weekday-lunch/
LOCATION:Cardinal Restaurant & Bar\, 2920 East 38th Street\, Minneapolis\, MN\, United States
ATTACH;FMTTYPE=image/jpeg:https://chapters.theprimetimersww.com/minneapolisstpaul/wp-content/uploads/2019/10/Lunch.jpg
END:VEVENT
BEGIN:VEVENT
DTSTART;TZID=America/Chicago:20230202T173000
DTEND;TZID=America/Chicago:20230202T203000
DTSTAMP:20260421T152411
CREATED:20230125T031232Z
LAST-MODIFIED:20230125T031232Z
UID:1341-1675359000-1675369800@chapters.theprimetimersww.com
SUMMARY:5:30 PM - Thursday - Lavender's First Thursday
DESCRIPTION:LavendeHir’s First Thursdays \nThursday\, February 2\, 2023 • 5:30 – 8:00 PM HILTON GARDEN INN MINNEAPOLIS DOWNTOWN 1101 S. 4TH AVENUE\nMinneapolis\, MN 55404 \nSponsored by: Chanhassan Dinner Theatres and Truly Hard Seltzer\nHost Partners: Ma’am – Quorum
URL:https://chapters.theprimetimersww.com/minneapolisstpaul/event/530-pm-thursday-lavenders-first-thursday-2/
LOCATION:Hilton Garden Inn Minneapolis Downtown\, 1101 S. 4th Avenue\, Minneapolis\, MN\, United States
ATTACH;FMTTYPE=image/png:https://chapters.theprimetimersww.com/minneapolisstpaul/wp-content/uploads/2022/07/martini-g2d662732e_1280.png
END:VEVENT
BEGIN:VEVENT
DTSTART;TZID=America/Chicago:20230205T140000
DTEND;TZID=America/Chicago:20230205T170000
DTSTAMP:20260421T152411
CREATED:20230125T031633Z
LAST-MODIFIED:20230125T031633Z
UID:1344-1675605600-1675616400@chapters.theprimetimersww.com
SUMMARY:2:00 PM - Sunday - Rent
DESCRIPTION:“Set in the East Village of New York City\, Rent is about falling in love\, finding your voice and living for today. Winner of the Tony Award for Best Musical and Pulitzer Prize for Drama\, Rent has become a pop cultural phenomenon with songs that rock and a story that resonates with audiences of all ages. Rent follows a year in the life of a group of impoverished young artists and musicians struggling to survive and create in New York’s Lower East Side\, under the shadow of HIV/AIDS.” \nWhen: Sunday\, February 5\, 2023. 2 pm. \nWhere: Gremlin Theatre\n550 Vandalia Street\, Suite 177 \nSt. Paul\, MN 55114\nGremlin Theatre is just east of Vandalia Street on Wabash Avenue next to the Lake Monster Brewery. \nCost: $10 Minimum per Ticket for this event. Only a few seats are still available. \nTheatre 55’s mission is to enhance the lives of elders\, as artists\, audiences\, and lifelong learners though theatre performance and education. Contact Bob by email here to reserve your place. Limited seats are available for this production.
URL:https://chapters.theprimetimersww.com/minneapolisstpaul/event/200-pm-sunday-rent/
LOCATION:Gremlin Theatre\, 550 Vandalia Street\, Suite 177\, St. Paul\, MN\, United States
ATTACH;FMTTYPE=image/jpeg:https://chapters.theprimetimersww.com/minneapolisstpaul/wp-content/uploads/2019/10/PrimeTimers-Logo.jpg
END:VEVENT
BEGIN:VEVENT
DTSTART;TZID=America/Chicago:20230211T090000
DTEND;TZID=America/Chicago:20230211T110000
DTSTAMP:20260421T152411
CREATED:20191014T192252Z
LAST-MODIFIED:20230123T032259Z
UID:1247-1676106000-1676113200@chapters.theprimetimersww.com
SUMMARY:8:45 AM - Our Famous 2nd Saturday Breakfast
DESCRIPTION:Come join the Prime Timers Minneapolis/St. Paul for our Breakfast Club.  The group meets for breakfast on the second Saturday of every month.  Our original location at Bakers Square has closed so are are on the look out for new locations. \nThe group meets at 8:45 AM. We meet earlier because the restaurant fills up at 9 AM. \n\n\n\nYou may have heard that Baker’s Square has closed. We believe the location will be remodeled to be a Famous Dave’s. So\, we will be visiting various locations to find a replacement. On Saturday\, February 11th at 8:45 AM\, we will visit Maria’s Cafe at 1113 East Franklin Avenue\, Minneapolis. \nSince 1993\, Maria’s has been preparing a various assortment of Latin America breakfast dishes. With the size of our group\, we need to place a reservation. Please contact Terry at by email here for more information.
URL:https://chapters.theprimetimersww.com/minneapolisstpaul/event/845-am-our-famous-2nd-saturday-breakfast-2023-02-11/
LOCATION:Maria’s Cafe\, 1113 East Franklin Avenue\, Minneapolis\, MN\, United States
CATEGORIES:Monthly Recurring Events
ATTACH;FMTTYPE=image/jpeg:https://chapters.theprimetimersww.com/minneapolisstpaul/wp-content/uploads/2019/10/Breakfast.jpg
END:VEVENT
BEGIN:VEVENT
DTSTART;TZID=America/Chicago:20230212T130000
DTEND;TZID=America/Chicago:20230212T160000
DTSTAMP:20260421T152411
CREATED:20230125T032131Z
LAST-MODIFIED:20230125T032131Z
UID:1347-1676206800-1676217600@chapters.theprimetimersww.com
SUMMARY:1:00 PM - Sunday - Valentine's Day Mix and Mingle
DESCRIPTION:Reserve Sunday\, February 12th for a fun Valentine Day mix and mingle. Enjoy a great meal and delight in a wonderful winter afternoon getting updated on what’s been happening with your fellow Prime Timers. \nRoast beef and mashed potatoes\, garden salad\, assorted rolls\, dessert\, beer and water are being served for only $15. \nWhen: Sunday\, February 12th. 1:00 to 4:00 pm\nWhere:Harry’s Party Room\n1350 Thompson Avenue\nSouth St. Paul\, MN\nCost: $15 per person. \nContact Bob by email here with questions and to confirm your reservation. \nContact Terry or Mike for Square credit card payments. Or mail checks to Prime Timers Minneapolis / St. Paul\, PMB #198\, 2136 Ford Parkway\, St. Paul\, MN 55116. Payment must be received by Friday\, February 3. \nWe will see you there!
URL:https://chapters.theprimetimersww.com/minneapolisstpaul/event/100-pm-sunday-valentines-day-mix-and-mingle/
ATTACH;FMTTYPE=image/jpeg:https://chapters.theprimetimersww.com/minneapolisstpaul/wp-content/uploads/2020/02/DiningTables.jpg
END:VEVENT
BEGIN:VEVENT
DTSTART;TZID=America/Chicago:20230214T113000
DTEND;TZID=America/Chicago:20230214T133000
DTSTAMP:20260421T152411
CREATED:20230125T032613Z
LAST-MODIFIED:20230125T032613Z
UID:1350-1676374200-1676381400@chapters.theprimetimersww.com
SUMMARY:11:30 AM - Tuesday - Let's Do Lunch
DESCRIPTION:February 14th and 24th \nLet’s Do Lunch Café LGBTQA Senior Luncheon. \n\n\n\n\n\nTuesday\, February 14th – 11:30am – 1:30pm\nFriday\, February 24th – 11:30am – 1:30pm \n\n\n\n\n\n\nThe Danish American Center\n3030 West River Parkway\nMinneapolis\, MN 55406\nBus Route 21 \n\n\n\n\n\n\n\nOur FREE monthly “café” brings together LGBTQA seniors\, boomers and allies in friendship and acceptance. \n\nCatered lunch and dessert\nFriendly conversation\nInformation about senior & LGBTQ services All are welcome!\nLet’s Do Lunch Café is a joint effort between Prime Timers MSP and Friends & Co
URL:https://chapters.theprimetimersww.com/minneapolisstpaul/event/1130-am-tuesday-lets-do-lunch-6/
LOCATION:The Danish American Center\, 3030 West River Parkway\, Minneapolis\, MN
ATTACH;FMTTYPE=image/jpeg:https://chapters.theprimetimersww.com/minneapolisstpaul/wp-content/uploads/2019/10/Lets-Do-Lunch-graphic-e1571097328219.jpg
END:VEVENT
BEGIN:VEVENT
DTSTART;TZID=America/Chicago:20230215T130000
DTEND;TZID=America/Chicago:20230215T150000
DTSTAMP:20260421T152411
CREATED:20230125T032956Z
LAST-MODIFIED:20230125T032956Z
UID:1354-1676466000-1676473200@chapters.theprimetimersww.com
SUMMARY:1:00 PM - Wednesday - Golden Corral
DESCRIPTION:Golden Corral – Buffet & Grill \nWednesday\, February 15th at 1 PM. This restaurant is located at 3000 White Bear Avenue\, Maplewood\, at Woodlynn Avenue – Unit #4 behind Aldi Foods. The Golden Corral features several kinds of meats and sides\, plus soups\, hamburger bar\, taco fixings and a full salad bar. After finishing your meal and if you have the room\, then enjoy many delicious desserts.\n9\nCost of this is $9.49 and includes beverages.\nTo get special pricing DO NOT arrive before 1pm.
URL:https://chapters.theprimetimersww.com/minneapolisstpaul/event/100-pm-wednesday-golden-corral-2/
LOCATION:Golden Corral – Maplewood\, 3000 White Bear Avenue\, Maplewood\, MN\, United States
ATTACH;FMTTYPE=image/jpeg:https://chapters.theprimetimersww.com/minneapolisstpaul/wp-content/uploads/2019/10/Lunch.jpg
END:VEVENT
BEGIN:VEVENT
DTSTART;TZID=America/Chicago:20230218T140000
DTEND;TZID=America/Chicago:20230218T160000
DTSTAMP:20260421T152411
CREATED:20191127T200125Z
LAST-MODIFIED:20230125T033847Z
UID:1253-1676728800-1676736000@chapters.theprimetimersww.com
SUMMARY:1:15 PM - Saturday - Book Club
DESCRIPTION:What: Less is Lost\nBy: Andrew Sean Greer\nWhere: Quatrefoil Library\nWhen: Feb. 18 at 1:15 PM \nContact Rick for details or to subscribe to book club notices by email here. \nBook Review: \n\n\n\n“Dogged by financial crisis and the death of his former lover\, Arthur Less sets out across the American landscape with nothing but a rusty camper van\, a somber pug\, and a zigzagging itinerary of literary gigs. His scrapes with flooded communes and mistaken identities evoke belly-aching laughter\, but along the way\, he’s forced to confront hard truths about his estranged father\, his strained relationship\, and the enigmas of American life. Our reluctant hero blunders his way into a cascade of disasters\, but the more lost Less gets\, thecloser he is to being found.” \n— Esquire Magazine\, Sept. 20\, 2022 \n\n\n\nThe book club will meet: February 18th at 1:15 pm at the Quatrefoil Library\, 1220 E Lake St\, Minneapolis\, MN 55407 \n\n\n\n\n\n\n 
URL:https://chapters.theprimetimersww.com/minneapolisstpaul/event/115-pm-saturday-book-club-2023-02-18/
LOCATION:Quatrefoil Library\, 1220 East Lake Street\, Minneapolis\, MN\, 55407\, United States
CATEGORIES:Monthly Recurring Events
ATTACH;FMTTYPE=image/jpeg:https://chapters.theprimetimersww.com/minneapolisstpaul/wp-content/uploads/2019/11/Bookclub.jpg
END:VEVENT
BEGIN:VEVENT
DTSTART;TZID=America/Chicago:20230224T113000
DTEND;TZID=America/Chicago:20230224T133000
DTSTAMP:20260421T152411
CREATED:20230125T032714Z
LAST-MODIFIED:20230125T032714Z
UID:1352-1677238200-1677245400@chapters.theprimetimersww.com
SUMMARY:11:30 AM - Friday - Let's Do Lunch
DESCRIPTION:February 14th and 24th \nLet’s Do Lunch Café LGBTQA Senior Luncheon. \n\n\n\n\n\nTuesday\, February 14th – 11:30am – 1:30pm\nFriday\, February 24th – 11:30am – 1:30pm \n\n\n\n\n\n\nThe Danish American Center\n3030 West River Parkway\nMinneapolis\, MN 55406\nBus Route 21 \n\n\n\n\n\n\n\nOur FREE monthly “café” brings together LGBTQA seniors\, boomers and allies in friendship and acceptance. \n\nCatered lunch and dessert\nFriendly conversation\nInformation about senior & LGBTQ services All are welcome!\nLet’s Do Lunch Café is a joint effort between Prime Timers MSP and Friends & Co
URL:https://chapters.theprimetimersww.com/minneapolisstpaul/event/1130-am-friday-lets-do-lunch-6/
LOCATION:The Danish American Center\, 3030 West River Parkway\, Minneapolis\, MN
ATTACH;FMTTYPE=image/jpeg:https://chapters.theprimetimersww.com/minneapolisstpaul/wp-content/uploads/2019/10/Lets-Do-Lunch-graphic-e1571097328219.jpg
END:VEVENT
BEGIN:VEVENT
DTSTART;TZID=America/Chicago:20230225T083000
DTEND;TZID=America/Chicago:20230225T103000
DTSTAMP:20260421T152411
CREATED:20230125T033626Z
LAST-MODIFIED:20230125T033626Z
UID:1359-1677313800-1677321000@chapters.theprimetimersww.com
SUMMARY:8:45 AM - Saturday - Traveling Breakfast
DESCRIPTION:It was asked that the travelling breakfast return to our monthly calendar. So\, on Saturday\, February 25th will be our first stop as we visit LONGFELLOW GRILL! It is located at 2990 West River Road (at the Lake Street Bridge\, Minneapolis – MTC Route 21). There is a vast choice of breakfast items and plenty of free parking on the street. Due to the size of our group\, we have to reserve space. Please contact Terry by email here by 6PM on Friday\, February 24th.
URL:https://chapters.theprimetimersww.com/minneapolisstpaul/event/845-am-saturday-traveling-breakfast/
LOCATION:Longfellow Grill\, 2990 West River Parkway\, Minneapolis\, MN\, United States
ATTACH;FMTTYPE=image/jpeg:https://chapters.theprimetimersww.com/minneapolisstpaul/wp-content/uploads/2019/10/Breakfast.jpg
END:VEVENT
BEGIN:VEVENT
DTSTART;TZID=America/Chicago:20230228T123000
DTEND;TZID=America/Chicago:20230228T133000
DTSTAMP:20260421T152411
CREATED:20230125T033152Z
LAST-MODIFIED:20230125T033206Z
UID:1356-1677587400-1677591000@chapters.theprimetimersww.com
SUMMARY:12:45 PM - Tuesday - Weekday Lunch
DESCRIPTION:We are planning to meet at 12:45 PM on Tuesday\, February 28th at\nWally’s World of Roast Beef\n8120 Penn Avenue South \nBloomington\, MN \nMany items are available\nincluding several specials on the menu. Please use the South Parking Lot (entrance on West 82nd Street).\nSee you there! \nMTC Route 534 or 537
URL:https://chapters.theprimetimersww.com/minneapolisstpaul/event/1245-pm-tuesday-weekday-lunch/
LOCATION:Wally’s Famous Roast Beef\, 8120 Penn Avenue South\, Bloomington\, MN\, United States
ATTACH;FMTTYPE=image/jpeg:https://chapters.theprimetimersww.com/minneapolisstpaul/wp-content/uploads/2019/10/DineOut.jpg
END:VEVENT
END:VCALENDAR