BEGIN:VCALENDAR
VERSION:2.0
PRODID:-//Prime Timers Minneapolis - St. Paul - ECPv6.15.20//NONSGML v1.0//EN
CALSCALE:GREGORIAN
METHOD:PUBLISH
X-WR-CALNAME:Prime Timers Minneapolis - St. Paul
X-ORIGINAL-URL:https://chapters.theprimetimersww.com/minneapolisstpaul
X-WR-CALDESC:Events for Prime Timers Minneapolis - St. Paul
REFRESH-INTERVAL;VALUE=DURATION:PT1H
X-Robots-Tag:noindex
X-PUBLISHED-TTL:PT1H
BEGIN:VTIMEZONE
TZID:America/Chicago
BEGIN:DAYLIGHT
TZOFFSETFROM:-0600
TZOFFSETTO:-0500
TZNAME:CDT
DTSTART:20220313T080000
END:DAYLIGHT
BEGIN:STANDARD
TZOFFSETFROM:-0500
TZOFFSETTO:-0600
TZNAME:CST
DTSTART:20221106T070000
END:STANDARD
BEGIN:DAYLIGHT
TZOFFSETFROM:-0600
TZOFFSETTO:-0500
TZNAME:CDT
DTSTART:20230312T080000
END:DAYLIGHT
BEGIN:STANDARD
TZOFFSETFROM:-0500
TZOFFSETTO:-0600
TZNAME:CST
DTSTART:20231105T070000
END:STANDARD
BEGIN:DAYLIGHT
TZOFFSETFROM:-0600
TZOFFSETTO:-0500
TZNAME:CDT
DTSTART:20240310T080000
END:DAYLIGHT
BEGIN:STANDARD
TZOFFSETFROM:-0500
TZOFFSETTO:-0600
TZNAME:CST
DTSTART:20241103T070000
END:STANDARD
END:VTIMEZONE
BEGIN:VEVENT
DTSTART;TZID=America/Chicago:20230711T113000
DTEND;TZID=America/Chicago:20230711T133000
DTSTAMP:20260422T002925
CREATED:20230707T130052Z
LAST-MODIFIED:20230707T130052Z
UID:1581-1689075000-1689082200@chapters.theprimetimersww.com
SUMMARY:11:30 AM - Tuesday - Let's Do Lunch
DESCRIPTION:July 11th and 28th\nLet’s Do Lunch Café LGBTQA Senior Luncheon\nThe Danish American Center \n3030 West River Parkway Minneapolis\, MN 55406 \n\n\n\n\nMTC Bus Route 21. \n\n\n\n\nTuesday\, July 11th – 11:30am – 1:30pm Friday\, July 28th – 11:30am – 1:30pm \n\n\n\n\n\n\n\n\nBus route 21 \nOur FREE monthly “café” brings together LGBTQA \n\n\n\n\n\n\n\n\nseniors\, boomers and allies in friendship and acceptance. \n\nCatered lunch and dessert\nFriendly conversation\nInformation about senior & LGBTQ services All are welcome!Let’s Do Lunch Café is a joint effort between Prime Timers MSP and Friends & Co
URL:https://chapters.theprimetimersww.com/minneapolisstpaul/event/1130-am-tuesday-lets-do-lunch-8/
LOCATION:Danish American Center\, 3030 West River Parkway\, Minneapolis\, MN\, 55406\, United States
ATTACH;FMTTYPE=image/jpeg:https://chapters.theprimetimersww.com/minneapolisstpaul/wp-content/uploads/2019/10/Lets-Do-Lunch-graphic-e1571097328219.jpg
END:VEVENT
BEGIN:VEVENT
DTSTART;TZID=America/Chicago:20230715T130000
DTEND;TZID=America/Chicago:20230715T160000
DTSTAMP:20260422T002925
CREATED:20191127T200125Z
LAST-MODIFIED:20230707T131433Z
UID:1444-1689426000-1689436800@chapters.theprimetimersww.com
SUMMARY:1:15 PM - Saturday - Book Club
DESCRIPTION:What: The Best Strangers in the World: Stories from a Life Spent Listening\nBy: Ari Shapiro\nWhere: Quatrefoil Library\nWhen: July 15 at 1:15 PM \nContact Rick for details or to subscribe to book club notices by email here. \nBook Review: \n\n\n\nAri Shapiro\, host of NPR’s “All Things Considered\,” came out at 16. Though he hadn’t even kissed a boy there were rumors among his peers about his sexuality. “I decided that the best approach was to drown out the whisper campaign with a bullhorn.” He plastered his locker with postcards of Tom of Finland drawings and photographs by \nHerb Ritts and Tom Bianchi. “On Halloween\, I came to school in drag. After that\, my calculus teacher stopped calling on me when I raised my hand in class.” \n\n\n\n 
URL:https://chapters.theprimetimersww.com/minneapolisstpaul/event/115-pm-saturday-book-club-2023-07-15/
LOCATION:Quatrefoil Library\, 1220 East Lake Street\, Minneapolis\, MN\, 55407\, United States
CATEGORIES:Monthly Recurring Events
ATTACH;FMTTYPE=image/jpeg:https://chapters.theprimetimersww.com/minneapolisstpaul/wp-content/uploads/2019/11/Bookclub.jpg
END:VEVENT
BEGIN:VEVENT
DTSTART;TZID=America/Chicago:20230719T130000
DTEND;TZID=America/Chicago:20230719T150000
DTSTAMP:20260422T002925
CREATED:20230707T131244Z
LAST-MODIFIED:20230707T131244Z
UID:1591-1689771600-1689778800@chapters.theprimetimersww.com
SUMMARY:1:00 PM - Wednesday - Golden Corral
DESCRIPTION:Golden Corral – Buffet & Grill\nWednesday\, July 19th at 1 PM. This restaurant is located at 3000 White Bear Avenue\, Maplewood\, at Woodlynn Avenue – Unit #4 behind Aldi Foods. The Golden Corral features several kinds of meats and sides\, plus soups\, hamburger bar\, taco fixings and a full salad bar. After finishing your meal and if you have the room\, then enjoy many delicious desserts. Cost of this is $9.49 and includes beverages. \nTo get special pricing DO NOT arrive before 1pm. \nIf you are thinking of coming\, please contact Howard by email here.
URL:https://chapters.theprimetimersww.com/minneapolisstpaul/event/100-pm-wednesday-golden-corral-5/
LOCATION:Golden Corral – Maplewood\, 3000 White Bear Avenue\, Maplewood\, MN\, United States
ATTACH;FMTTYPE=image/jpeg:https://chapters.theprimetimersww.com/minneapolisstpaul/wp-content/uploads/2019/10/Lunch.jpg
END:VEVENT
BEGIN:VEVENT
DTSTART;TZID=America/Chicago:20230723T170000
DTEND;TZID=America/Chicago:20230723T200000
DTSTAMP:20260422T002925
CREATED:20230707T133259Z
LAST-MODIFIED:20230707T133259Z
UID:1599-1690131600-1690142400@chapters.theprimetimersww.com
SUMMARY:5:00 PM - Sunday - A Chorus Line
DESCRIPTION:Another New Production from Theater 55\nThe They\, Them and Us Activities Group is traveling to Eagan to see an outdoor production of A Chorus Line on\nSunday\, July 23. \nAll who attended the previous shows totally loved Theater 55. \nAnd now we have the opportunity to see them again. So what’s the buzz? It is performed outside and is a 1975 musical with songs by Marvin Hamlisch\, lyrics by Edward Kleban and a book by James Kirkwood Jr. It won the Tony Award for Best Musical.\nA sour director and his brusque assistant whittle down the ranks of a cattle call until they are left with 16 dancers. All tell their life stories – some tragic some comic – and explain their love of dance. \nIf you wish to attend\, reserve your seat now. \nWhere: Caponi Art Park\, 1220 Diffley Road\, Eagan. \nYou may also wander this amateur art park. Seating: Bring your own lawn chairs or blankets to sit on the ground. There are just a few stone ledges seating\, but you may want to bring a blanket or cushion if any are available.\nGolf carts will be running from the parking lot to the theater area of the park. \nWhen: Sunday\, July 23\, 5:00 pm\nPrice: $10 individual ticket or $30 for carpools (Up to 6 in a single vehicle). \nGet you tickets now! \nContact Bob by email here for reservations.
URL:https://chapters.theprimetimersww.com/minneapolisstpaul/event/500-pm-sunday-a-chorus-line/
LOCATION:Caponi Art Park\, 1220 Diffley Road\, Eagan\, MN\, United States
ATTACH;FMTTYPE=image/jpeg:https://chapters.theprimetimersww.com/minneapolisstpaul/wp-content/uploads/2019/10/PrimeTimers-Logo.jpg
END:VEVENT
BEGIN:VEVENT
DTSTART;TZID=America/Chicago:20230725T130000
DTEND;TZID=America/Chicago:20230725T170000
DTSTAMP:20260422T002925
CREATED:20230707T135400Z
LAST-MODIFIED:20230707T135400Z
UID:1602-1690290000-1690304400@chapters.theprimetimersww.com
SUMMARY:12:47 PM - Tuesday - Weekday Lunch
DESCRIPTION:Enjoy a summer’s lunch as we all meet at \nWally’s World of Roast Beef \n8120 Penn Avenue South Bloomington\, Minnesota — MTC Routes 534 or 537 \nMeeting Time: 12:47 pm Tuesday\, July 25th\, 2023. \nMany items are available – Choose from Roast Beef\, Roasted Turkey or Home made (in house) Meatloaf. \nFree parking – Please use the South Parking Lot Entrance on West 82nd St.\nHOPE TO SEE YOU THERE !!
URL:https://chapters.theprimetimersww.com/minneapolisstpaul/event/1247-pm-tuesday-weekday-lunch/
LOCATION:Wally’s Famous Roast Beef\, 8120 Penn Avenue South\, Bloomington\, MN\, United States
ATTACH;FMTTYPE=image/jpeg:https://chapters.theprimetimersww.com/minneapolisstpaul/wp-content/uploads/2019/10/Lunch.jpg
END:VEVENT
BEGIN:VEVENT
DTSTART;TZID=America/Chicago:20230728T113000
DTEND;TZID=America/Chicago:20230728T133000
DTSTAMP:20260422T002925
CREATED:20230707T130216Z
LAST-MODIFIED:20230707T130216Z
UID:1583-1690543800-1690551000@chapters.theprimetimersww.com
SUMMARY:11:30 AM - Friday - Let's Do Lunch
DESCRIPTION:July 11th and 28th\nLet’s Do Lunch Café LGBTQA Senior Luncheon\nThe Danish American Center \n3030 West River Parkway Minneapolis\, MN 55406 \n\n\n\n\nMTC Bus Route 21. \n\n\n\n\nTuesday\, July 11th – 11:30am – 1:30pm Friday\, July 28th – 11:30am – 1:30pm \n\n\n\n\n\n\n\n\nBus route 21 \nOur FREE monthly “café” brings together LGBTQA \n\n\n\n\n\n\n\n\nseniors\, boomers and allies in friendship and acceptance. \n\nCatered lunch and dessert\nFriendly conversation\nInformation about senior & LGBTQ services All are welcome!\nLet’s Do Lunch Café is a joint effort between Prime Timers MSP and Friends & Co
URL:https://chapters.theprimetimersww.com/minneapolisstpaul/event/1130-am-friday-lets-do-lunch-9/
LOCATION:Danish American Center\, 3030 West River Parkway\, Minneapolis\, MN\, 55406\, United States
ATTACH;FMTTYPE=image/jpeg:https://chapters.theprimetimersww.com/minneapolisstpaul/wp-content/uploads/2019/10/Lets-Do-Lunch-graphic-e1571097328219.jpg
END:VEVENT
END:VCALENDAR