BEGIN:VCALENDAR
VERSION:2.0
PRODID:-//Prime Timers Minneapolis - St. Paul - ECPv6.15.20//NONSGML v1.0//EN
CALSCALE:GREGORIAN
METHOD:PUBLISH
X-WR-CALNAME:Prime Timers Minneapolis - St. Paul
X-ORIGINAL-URL:https://chapters.theprimetimersww.com/minneapolisstpaul
X-WR-CALDESC:Events for Prime Timers Minneapolis - St. Paul
REFRESH-INTERVAL;VALUE=DURATION:PT1H
X-Robots-Tag:noindex
X-PUBLISHED-TTL:PT1H
BEGIN:VTIMEZONE
TZID:America/Chicago
BEGIN:DAYLIGHT
TZOFFSETFROM:-0600
TZOFFSETTO:-0500
TZNAME:CDT
DTSTART:20220313T080000
END:DAYLIGHT
BEGIN:STANDARD
TZOFFSETFROM:-0500
TZOFFSETTO:-0600
TZNAME:CST
DTSTART:20221106T070000
END:STANDARD
BEGIN:DAYLIGHT
TZOFFSETFROM:-0600
TZOFFSETTO:-0500
TZNAME:CDT
DTSTART:20230312T080000
END:DAYLIGHT
BEGIN:STANDARD
TZOFFSETFROM:-0500
TZOFFSETTO:-0600
TZNAME:CST
DTSTART:20231105T070000
END:STANDARD
BEGIN:DAYLIGHT
TZOFFSETFROM:-0600
TZOFFSETTO:-0500
TZNAME:CDT
DTSTART:20240310T080000
END:DAYLIGHT
BEGIN:STANDARD
TZOFFSETFROM:-0500
TZOFFSETTO:-0600
TZNAME:CST
DTSTART:20241103T070000
END:STANDARD
END:VTIMEZONE
BEGIN:VEVENT
DTSTART;TZID=America/Chicago:20230802T130000
DTEND;TZID=America/Chicago:20230802T150000
DTSTAMP:20260422T002924
CREATED:20230802T014532Z
LAST-MODIFIED:20230802T014532Z
UID:1636-1690981200-1690988400@chapters.theprimetimersww.com
SUMMARY:1:00 PM - Wednesday - Weekday Lunch Bonus
DESCRIPTION:The Cardinal Restaurant & Bar A WEEKDAY LUNCH BONUS! \nOn Wednesday\, August 2nd\, 2023\, at 1PM let’s meet at The Cardinal Restaurant & Bar – South Mpls; 2920 East 38th Street. It is next to the Blue Line Station (Hiawatha Av. & MTC # 14E\, 22 & 23) and has free off-street parking. \nFull lunch menu with a separate senior menu too. \nIf you are thinking of coming\, please text please contact Howard by email here.
URL:https://chapters.theprimetimersww.com/minneapolisstpaul/event/100-pm-wednesday-weekday-lunch-bonus/
LOCATION:Cardinal Restaurant & Bar\, 2920 East 38th Street\, Minneapolis\, MN\, United States
ATTACH;FMTTYPE=image/jpeg:https://chapters.theprimetimersww.com/minneapolisstpaul/wp-content/uploads/2019/10/DineOut.jpg
END:VEVENT
BEGIN:VEVENT
DTSTART;TZID=America/Chicago:20230803T173000
DTEND;TZID=America/Chicago:20230803T200000
DTSTAMP:20260422T002924
CREATED:20230802T013943Z
LAST-MODIFIED:20230802T013943Z
UID:1629-1691083800-1691092800@chapters.theprimetimersww.com
SUMMARY:5:30 PM - Thursday - Lavender's First Thursday
DESCRIPTION:LavendEr’s First Thursdays \nThursday\, August 3\, 2023 • 5:30 – 8:00 PM Papa’s rooftop at water street inn\n101 Water street s.\nStillwater\, MN 55082 \nPart of the Inaugural Stillwater Pride \nHost Partners: Ma’am – Quorum
URL:https://chapters.theprimetimersww.com/minneapolisstpaul/event/530-pm-thursday-lavenders-first-thursday-3/
ATTACH;FMTTYPE=image/jpeg:https://chapters.theprimetimersww.com/minneapolisstpaul/wp-content/uploads/2019/10/PrimeTimers-Logo.jpg
END:VEVENT
BEGIN:VEVENT
DTSTART;TZID=America/Chicago:20230808T113000
DTEND;TZID=America/Chicago:20230808T133000
DTSTAMP:20260422T002924
CREATED:20230802T014218Z
LAST-MODIFIED:20230802T014218Z
UID:1632-1691494200-1691501400@chapters.theprimetimersww.com
SUMMARY:11:30 AM - Tuesday - Let's Do Lunch Cafe
DESCRIPTION:August 8th and 25th Let’s Do Lunch Café LGBTQA Senior Luncheon. \nThe Danish American Center \n3030 West River Parkway Minneapolis\, MN 55406 \n\n\n\n\nTuesday\, August 8th – 11:30am – 1:30pm Friday\, August 25th – 11:30am – 1:30pm \n\n\n\n\n\n\n\n\nBus route 21 \nOur FREE monthly “café” brings together LGBTQA seniors\, boomers and allies in friendship and \n\n\n\n\n\n\n\n\nacceptance. \n\nCatered lunch and dessert\nFriendly conversation\nInformation about senior & LGBTQ services All are welcome!\nLet’s Do Lunch Café is a joint effort between Rainbow Health\, Prime Timers MSP and Friends & Co
URL:https://chapters.theprimetimersww.com/minneapolisstpaul/event/1130-am-tuesday-lets-do-lunch-cafe-2/
LOCATION:Danish American Center\, 3030 West River Parkway\, Minneapolis\, MN\, 55406\, United States
ATTACH;FMTTYPE=image/jpeg:https://chapters.theprimetimersww.com/minneapolisstpaul/wp-content/uploads/2019/10/Lunch.jpg
END:VEVENT
BEGIN:VEVENT
DTSTART;TZID=America/Chicago:20230812T103000
DTEND;TZID=America/Chicago:20230812T123000
DTSTAMP:20260422T002924
CREATED:20230802T020730Z
LAST-MODIFIED:20230802T020730Z
UID:1653-1691836200-1691843400@chapters.theprimetimersww.com
SUMMARY:10:30 AM - Saturday - Bunch At Yum St. Paul
DESCRIPTION:Our Prime Timers group is in headed to St. Paul for brunch on Saturday\, August 12. If you like food made from scratch\, Yum! Is the restaurant for you. \nWe are meeting there at 10:30 so you can order either breakfast or lunch. Simply order off the wall menu and they will bring your food to the table. \n\n\n\nWhere:\nYum! Bakery and Kitchen 164 Snelling Avenue North St. Paul\, MN 55104 \nWhen:\nSaturday\, August 12\, 2023 @10:30AM Breakfast is served until 11:00AM \nCost:\nPlace your order with the cashier and pay at the register. \nParking:\nThere is free parking directly south of the building. And there is metered street parking available. \n\nContact Bob by email here for more information and if you plan on attending.
URL:https://chapters.theprimetimersww.com/minneapolisstpaul/event/1030-am-saturday-bunch-at-yum-st-paul/
LOCATION:Yum St. Paul\, 164 Snelling Ave North\, St. Paul\, MN\, 55104\, United States
ATTACH;FMTTYPE=image/jpeg:https://chapters.theprimetimersww.com/minneapolisstpaul/wp-content/uploads/2019/10/Breakfast.jpg
END:VEVENT
BEGIN:VEVENT
DTSTART;TZID=America/Chicago:20230813T110000
DTEND;TZID=America/Chicago:20230813T130000
DTSTAMP:20260422T002924
CREATED:20230802T021059Z
LAST-MODIFIED:20230802T021059Z
UID:1656-1691924400-1691931600@chapters.theprimetimersww.com
SUMMARY:11:00 AM - Sunday - History Boys
DESCRIPTION:Please join The History Boys as they head to the Mill City Museum to visit the most popular tourist attraction in Minneapolis. You will learn about the museum’s fiery past and dynamic present. \n“Soon after Minneapolis was born on the Mississippi’s west bank\, the city’s flour milling industry skyrocketed. Powered by the mighty river and fed by boxcars of grain rolling in from the plains\, the industry gave Minneapolis bragging rightas the ‘Flour Milling Capital of the World’.”\nExplore where old mingles with new at Mill City Museum\, which was built into the ruins of what was once the world’s largest flour mill. “\nThe current exhibit ‘Going Out\, Coming In” is a photo exhibit which details queer resistance\, love\, and identity formation amid the evolution of the neighborhood through the 20th Century. \n\n\n\nWhen: Sunday\, August 13\, 2023 at 11:00 am\nWhere:\nMill City Museum\n704 South 2nn Street Minneapolis\, MN 55401W \n\n\n\nParking: Ramps are across the street. Metered street parking is available. \nCost: $10.\nIf you plan on attending contact Bob by email here for a head count.\nLet us know if you are interested in this self-guided tour of this National Historic Landmark. \n\n\n\n\n\n 
URL:https://chapters.theprimetimersww.com/minneapolisstpaul/event/1100-am-sunday-history-boys-2/
LOCATION:Mill City Museum\, 704 South 2nd Street\, Minneapolis\, MN\, 55401\, United States
ATTACH;FMTTYPE=image/jpeg:https://chapters.theprimetimersww.com/minneapolisstpaul/wp-content/uploads/2019/10/StoneArch.jpg
END:VEVENT
BEGIN:VEVENT
DTSTART;TZID=America/Chicago:20230816T130000
DTEND;TZID=America/Chicago:20230816T150000
DTSTAMP:20260422T002924
CREATED:20230802T015353Z
LAST-MODIFIED:20230802T015353Z
UID:1642-1692190800-1692198000@chapters.theprimetimersww.com
SUMMARY:1:00 PM - Wednesday - Golden Corral
DESCRIPTION:Golden Corral – Buffet & Grill \nWednesday\, August 16th at 1 PM. This restaurant is located at 3000 White Bear Avenue\, Maplewood\, at Woodlynn Avenue – Unit #4 behind Aldi Foods. The Golden Corral features several kinds of meats and sides\, plus soups\, hamburger bar\, taco fixings and a full salad bar. After finishing your meal and if you have the room\, then enjoy many delicious desserts. \nCost of this is $9.49 and includes beverages.\nTo get special pricing DO NOT arrive before 1pm. \nIf you are thinking of coming\, please contact Howard by email here.
URL:https://chapters.theprimetimersww.com/minneapolisstpaul/event/100-pm-wednesday-golden-corral-6/
LOCATION:Golden Corral – Maplewood\, 3000 White Bear Avenue\, Maplewood\, MN\, United States
ATTACH;FMTTYPE=image/jpeg:https://chapters.theprimetimersww.com/minneapolisstpaul/wp-content/uploads/2020/02/DiningTables.jpg
END:VEVENT
BEGIN:VEVENT
DTSTART;TZID=America/Chicago:20230819T130000
DTEND;TZID=America/Chicago:20230819T160000
DTSTAMP:20260422T002924
CREATED:20191127T200125Z
LAST-MODIFIED:20230802T015451Z
UID:1509-1692450000-1692460800@chapters.theprimetimersww.com
SUMMARY:1:15 PM - Saturday - Book Club
DESCRIPTION:What: Under the Rainbow\nBy: Celia Laskey\nWhere: Quatrefoil Library\nWhen: August 19th at 1:15 PM \nContact Rick for details or to subscribe to book club notices by email here. \nBook Review: \n\n\n\nCelia Laskey’s Under the Rainbow is a timely look into what it means to be queer in spaces that aggressively refuse you. Smart and compulsively readable\, Laskey has woven together narratives that seek to embrace each other through the hurt. There is love and loss alike sandwiched in its pages\, pain and pleasure.
URL:https://chapters.theprimetimersww.com/minneapolisstpaul/event/115-pm-saturday-book-club-2023-08-19/
LOCATION:Quatrefoil Library\, 1220 East Lake Street\, Minneapolis\, MN\, 55407\, United States
CATEGORIES:Monthly Recurring Events
ATTACH;FMTTYPE=image/jpeg:https://chapters.theprimetimersww.com/minneapolisstpaul/wp-content/uploads/2019/11/Bookclub.jpg
END:VEVENT
BEGIN:VEVENT
DTSTART;TZID=America/Chicago:20230825T113000
DTEND;TZID=America/Chicago:20230825T133000
DTSTAMP:20260422T002924
CREATED:20230802T014313Z
LAST-MODIFIED:20230802T014313Z
UID:1634-1692963000-1692970200@chapters.theprimetimersww.com
SUMMARY:11:30 AM - Friday - Let's Do Lunch Cafe
DESCRIPTION:August 8th and 25th Let’s Do Lunch Café LGBTQA Senior Luncheon. \nThe Danish American Center \n3030 West River Parkway Minneapolis\, MN 55406 \n\n\n\n\nTuesday\, August 8th – 11:30am – 1:30pm Friday\, August 25th – 11:30am – 1:30pm \n\n\n\n\n\n\n\n\nBus route 21 \nOur FREE monthly “café” brings together LGBTQA seniors\, boomers and allies in friendship and \n\n\n\n\n\n\n\n\nacceptance. \n\nCatered lunch and dessert\nFriendly conversation\nInformation about senior & LGBTQ services All are welcome!\nLet’s Do Lunch Café is a joint effort between Rainbow Health\, Prime Timers MSP and Friends & Co
URL:https://chapters.theprimetimersww.com/minneapolisstpaul/event/1130-am-friday-lets-do-lunch-cafe/
LOCATION:Danish American Center\, 3030 West River Parkway\, Minneapolis\, MN\, 55406\, United States
ATTACH;FMTTYPE=image/jpeg:https://chapters.theprimetimersww.com/minneapolisstpaul/wp-content/uploads/2019/10/Lunch.jpg
END:VEVENT
BEGIN:VEVENT
DTSTART;TZID=America/Chicago:20230827T120000
DTEND;TZID=America/Chicago:20230827T160000
DTSTAMP:20260422T002924
CREATED:20230707T132516Z
LAST-MODIFIED:20230707T132516Z
UID:1597-1693137600-1693152000@chapters.theprimetimersww.com
SUMMARY:12:00 PM - Sunday - PrimeTimers Anniversary Picnic
DESCRIPTION:Prime Timers Anniversary Picnic Is Fast Approaching!\nReserve Your Spot Today! \n\nCatered Lunch\nSilent Auction\nGuest Speakers\n\n  \n  \nWhen: Sunday\, August 27\, 2023\nWhere: Brookview Park\nMain Pavillion\nGolden Valley.\nEnter off Winnetka Avenue Just South of Highway 55. \nThe large pavilion is located toward the center of the park. It offers 12 picnic tables\, two parking lots\, three charcoal grills\, restrooms\, a fireplace\, running water and 16 electrical outlets. \nTime: 12:00 noon until 4:00 pm\nLunch: Beverages\, Chicken\, Summer Salads and Desserts.\nCost: $20.00 per person. Your payment must be received before August 21\, 2023. \nMail Checks to: \nPrime Timers\, Minneapolis – St. Paul PO Box 580814\nMinneapolis\, MN 55458 \nOr Contact Terry or Mike by email here to use a credit card with Square System. \nContact Bob by email here  with questions. More details will follow in weekend updates and event flier. \nRemember cash\, checkbook or credit card to bid on Silent Auction items.
URL:https://chapters.theprimetimersww.com/minneapolisstpaul/event/1200-pm-sunday-primetimers-anniversary-picnic/
LOCATION:Brookview Park\, 200 Brookview Parkway North\, Golden Valley\, MN\, 55426\, United States
CATEGORIES:Special Event
ATTACH;FMTTYPE=image/jpeg:https://chapters.theprimetimersww.com/minneapolisstpaul/wp-content/uploads/2020/02/Apps.jpg
END:VEVENT
BEGIN:VEVENT
DTSTART;TZID=America/Chicago:20230829T130000
DTEND;TZID=America/Chicago:20230829T150000
DTSTAMP:20260422T002924
CREATED:20230802T020307Z
LAST-MODIFIED:20230802T020307Z
UID:1650-1693314000-1693321200@chapters.theprimetimersww.com
SUMMARY:1:00 PM - Tuesday - Weekday Lunch
DESCRIPTION:On Tuesday\, August 29th\, we are exploring Minneapolis’ Longfellow territory with an 1 PM stop at FIREROAST CAFE. The cafe is located at 3800 – 37th Avenue South (at the corner of East 38th Street / MTC Route 23. The cafe offers made to order sandwiches\, salads\, house-made soup and much more. This LGBT+ location comes with free parking\, too. Please circle the date on your calendar – Tuesday\, August 29th at 1 PM. \nNeed more information\, please call Terry by email here. \n\n\n\n\n\n\n\n\n 
URL:https://chapters.theprimetimersww.com/minneapolisstpaul/event/100-pm-tuesday-weekday-lunch-10/
LOCATION:Fireroast Cafe\, 3800 37th Ave South\, Minneapolis\, MN\, United States
ATTACH;FMTTYPE=image/jpeg:https://chapters.theprimetimersww.com/minneapolisstpaul/wp-content/uploads/2019/10/Lunch.jpg
END:VEVENT
END:VCALENDAR