BEGIN:VCALENDAR
VERSION:2.0
PRODID:-//Prime Timers Minneapolis - St. Paul - ECPv6.15.20//NONSGML v1.0//EN
CALSCALE:GREGORIAN
METHOD:PUBLISH
X-ORIGINAL-URL:https://chapters.theprimetimersww.com/minneapolisstpaul
X-WR-CALDESC:Events for Prime Timers Minneapolis - St. Paul
REFRESH-INTERVAL;VALUE=DURATION:PT1H
X-Robots-Tag:noindex
X-PUBLISHED-TTL:PT1H
BEGIN:VTIMEZONE
TZID:America/Chicago
BEGIN:DAYLIGHT
TZOFFSETFROM:-0600
TZOFFSETTO:-0500
TZNAME:CDT
DTSTART:20220313T080000
END:DAYLIGHT
BEGIN:STANDARD
TZOFFSETFROM:-0500
TZOFFSETTO:-0600
TZNAME:CST
DTSTART:20221106T070000
END:STANDARD
BEGIN:DAYLIGHT
TZOFFSETFROM:-0600
TZOFFSETTO:-0500
TZNAME:CDT
DTSTART:20230312T080000
END:DAYLIGHT
BEGIN:STANDARD
TZOFFSETFROM:-0500
TZOFFSETTO:-0600
TZNAME:CST
DTSTART:20231105T070000
END:STANDARD
BEGIN:DAYLIGHT
TZOFFSETFROM:-0600
TZOFFSETTO:-0500
TZNAME:CDT
DTSTART:20240310T080000
END:DAYLIGHT
BEGIN:STANDARD
TZOFFSETFROM:-0500
TZOFFSETTO:-0600
TZNAME:CST
DTSTART:20241103T070000
END:STANDARD
END:VTIMEZONE
BEGIN:VEVENT
DTSTART;TZID=America/Chicago:20230906T130000
DTEND;TZID=America/Chicago:20230906T150000
DTSTAMP:20260421T192802
CREATED:20230904T140855Z
LAST-MODIFIED:20230904T140855Z
UID:1703-1694005200-1694012400@chapters.theprimetimersww.com
SUMMARY:1:00 PM - Wednesday - Weekday Lunch Bonus
DESCRIPTION:A WEEKDAY LUNCH BONUS!\nOn Wednesday\, September 6th\, 2023\, at 1PM let’s meet at The Cardinal Restaurant & Bar – South Mpls; 2920 East 38th Street. It is next to the Blue Line Station (Hiawatha Av. & MTC # 14E\, 22 & 23) and has free off-street parking. \nFull lunch menu with a separate senior menu too. \nIf you are thinking of coming\, please text please contact Howard by email here.
URL:https://chapters.theprimetimersww.com/minneapolisstpaul/event/100-pm-wednesday-weekday-lunch-bonus-2/
LOCATION:Cardinal Restaurant & Bar\, 2920 East 38th Street\, Minneapolis\, MN\, United States
ATTACH;FMTTYPE=image/jpeg:https://chapters.theprimetimersww.com/minneapolisstpaul/wp-content/uploads/2019/10/Lunch.jpg
END:VEVENT
BEGIN:VEVENT
DTSTART;TZID=America/Chicago:20230907T173000
DTEND;TZID=America/Chicago:20230907T200000
DTSTAMP:20260421T192802
CREATED:20230904T135902Z
LAST-MODIFIED:20230904T135902Z
UID:1690-1694107800-1694116800@chapters.theprimetimersww.com
SUMMARY:5:30 PM - Thursday - Lavender's First Thursdays
DESCRIPTION:LavendEr’s First Thursdays\nThursday\, September 7\, 2023 • 5:30 – 8:00 PM\nJ.D. Hoyt’s Supper club\n301 N. Washington Ave.\nMinneapolis\, MN 55401 \nHost Partners: Ma’am – Quorum
URL:https://chapters.theprimetimersww.com/minneapolisstpaul/event/530-pm-thursday-lavenders-first-thursdays/
ATTACH;FMTTYPE=image/png:https://chapters.theprimetimersww.com/minneapolisstpaul/wp-content/uploads/2022/07/martini-g2d662732e_1280.png
END:VEVENT
BEGIN:VEVENT
DTSTART;TZID=America/Chicago:20230910T120000
DTEND;TZID=America/Chicago:20230910T170000
DTSTAMP:20260421T192802
CREATED:20230904T141957Z
LAST-MODIFIED:20230904T141957Z
UID:1712-1694347200-1694365200@chapters.theprimetimersww.com
SUMMARY:12:00 PM - Sunday - Bloomington Pride
DESCRIPTION:Bloomington Pride\n\n\n\n\n\n\n\n\nSeptember 10\, 2023\nNoon-5pm\nBloomington Civic Plaza\n1800 West Old Shakopee Road \n“For support in planning the next Bloomington Pride Celebration on September 10\, Bloomington Pride has turned to a non-profit\, Twin Cities Pride\, that organizes the long-running\, annual Twin Cities Pride Festival at Loring Park and parade in Minneapolis in June. Bloomington Pride\, a group of Bloomington volunteers\, is working with event facilitators\, Twin Cities Pride to [earn] their 501(c)(3) status. Twin Cities Pride took over planning the Bloomington Pride Celebration this year from the City of Bloomington\, which previously planned the event. Organizers believe it was an important step to ensure the support to grow the festival in the years to come.” \n\n\n\n\n\n\n\n\n—From the BloomingtonMN.Gov site.
URL:https://chapters.theprimetimersww.com/minneapolisstpaul/event/1200-pm-sunday-bloomington-pride/
ATTACH;FMTTYPE=image/jpeg:https://chapters.theprimetimersww.com/minneapolisstpaul/wp-content/uploads/2020/02/fireworks.jpg
END:VEVENT
BEGIN:VEVENT
DTSTART;TZID=America/Chicago:20230912T113000
DTEND;TZID=America/Chicago:20230912T133000
DTSTAMP:20260421T192802
CREATED:20230904T140224Z
LAST-MODIFIED:20230904T140224Z
UID:1693-1694518200-1694525400@chapters.theprimetimersww.com
SUMMARY:11:30 AM - Tuesday - Let's Do Lunch
DESCRIPTION:September 12th and 22nd\nLet’s Do Lunch Café LGBTQA Senior Luncheon\nThe Danish American Center\n3030 West River Parkway\nMinneapolis\, MN 55406 \n\n\n\n\nTuesday\, September 12th – 11:30am – 1:30pm\nFriday\, September 22nd – 11:30am – 1:30pm \n\n\n\n\n\n\n\n\nBus route 21 \nOur FREE monthly “café” brings together LGBTQA seniors\, boomers and allies in friendship and acceptance. \n\n\n\n\n\n\n\n\n\nCatered lunch and dessert\nFriendly conversation\nInformation about senior & LGBTQ services All are welcome!\nLet’s Do Lunch Café is a joint effort between Prime Timers MSP\, Rainbow Health and Friends & Co
URL:https://chapters.theprimetimersww.com/minneapolisstpaul/event/1130-am-tuesday-lets-do-lunch-9/
LOCATION:The Danish American Center\, 3030 West River Parkway\, Minneapolis\, MN
ATTACH;FMTTYPE=image/jpeg:https://chapters.theprimetimersww.com/minneapolisstpaul/wp-content/uploads/2019/10/Lets-Do-Lunch-graphic-e1571097328219.jpg
END:VEVENT
BEGIN:VEVENT
DTSTART;TZID=America/Chicago:20230916T130000
DTEND;TZID=America/Chicago:20230916T160000
DTSTAMP:20260421T192802
CREATED:20191127T200125Z
LAST-MODIFIED:20230802T015730Z
UID:1569-1694869200-1694880000@chapters.theprimetimersww.com
SUMMARY:1:15 PM - Saturday - Book Club
DESCRIPTION:What: Ike’s Master Man: The Secret Lives of Robert Cutler\nBy: Peter Shinkle\nWhere: Quatrefoil Library\nWhen: Sept. 16th at 1:15 PM \nContact Rick for details or to subscribe to book club notices by email here. \nBook Review: \n\n\n\nWhat do you do if you’re gay\, closeted\, and a vital part of a homophobic president’s inner circle? Journalist Peter Shinkle seeks to answer this question with his book Ike’s Mystery Man: The Secret Lives of Robert Cutler. Shinkle spent twelve years pulling together a book on his great-uncle Robert “Bobby” Cutler’s. Using Cutler’s personal diary as a pivotal reference\, a dairy which described his obsessive love affair with another man\, Ike’s Mystery Man digs deep into US post-World War II history and how our government dealt with the LGBTQ community at that time.
URL:https://chapters.theprimetimersww.com/minneapolisstpaul/event/115-pm-saturday-book-club-2023-09-16/
LOCATION:Quatrefoil Library\, 1220 East Lake Street\, Minneapolis\, MN\, 55407\, United States
CATEGORIES:Monthly Recurring Events
ATTACH;FMTTYPE=image/jpeg:https://chapters.theprimetimersww.com/minneapolisstpaul/wp-content/uploads/2019/11/Bookclub.jpg
END:VEVENT
BEGIN:VEVENT
DTSTART;TZID=America/Chicago:20230920T130000
DTEND;TZID=America/Chicago:20230920T150000
DTSTAMP:20260421T192802
CREATED:20230904T140706Z
LAST-MODIFIED:20230904T140706Z
UID:1701-1695214800-1695222000@chapters.theprimetimersww.com
SUMMARY:1:00 PM - Wednesday - Golden Corral
DESCRIPTION:Golden Corral – Buffet & Grill\nWednesday\, September 20th at 1 PM. \nThis restaurant is located at 3000 White Bear Avenue\, Maplewood\, at Woodlynn Avenue – Unit #4 behind Aldi Foods. The Golden Corral features several kinds of meats and sides\, plus soups\, hamburger bar\, taco fixings and a full salad bar. After finishing your meal and if you have the room\, then enjoy many delicious desserts. \nCost of this is $9.49 and includes beverages.\nTo get special pricing DO NOT arrive before 1pm. \nIf you are thinking of coming\, please contact Howard by email here.
URL:https://chapters.theprimetimersww.com/minneapolisstpaul/event/100-pm-wednesday-golden-corral-7/
LOCATION:Golden Corral – Maplewood\, 3000 White Bear Avenue\, Maplewood\, MN\, United States
ATTACH;FMTTYPE=image/jpeg:https://chapters.theprimetimersww.com/minneapolisstpaul/wp-content/uploads/2019/10/Lunch.jpg
END:VEVENT
BEGIN:VEVENT
DTSTART;TZID=America/Chicago:20230922T113000
DTEND;TZID=America/Chicago:20230922T133000
DTSTAMP:20260421T192802
CREATED:20230904T140330Z
LAST-MODIFIED:20230904T140330Z
UID:1695-1695382200-1695389400@chapters.theprimetimersww.com
SUMMARY:11:30 - Friday - Let's Do Lunch
DESCRIPTION:September 12th and 22nd\nLet’s Do Lunch Café LGBTQA Senior Luncheon\nThe Danish American Center\n3030 West River Parkway\nMinneapolis\, MN 55406 \n\n\n\n\nTuesday\, September 12th – 11:30am – 1:30pm\nFriday\, September 22nd – 11:30am – 1:30pm \n\n\n\n\n\n\n\n\nBus route 21 \nOur FREE monthly “café” brings together LGBTQA seniors\, boomers and allies in friendship and acceptance. \n\n\n\n\n\n\n\n\n\nCatered lunch and dessert\nFriendly conversation\nInformation about senior & LGBTQ services All are welcome!\nLet’s Do Lunch Café is a joint effort between Prime Timers MSP\, Rainbow Health and Friends & Co
URL:https://chapters.theprimetimersww.com/minneapolisstpaul/event/1130-friday-lets-do-lunch/
LOCATION:The Danish American Center\, 3030 West River Parkway\, Minneapolis\, MN
ATTACH;FMTTYPE=image/jpeg:https://chapters.theprimetimersww.com/minneapolisstpaul/wp-content/uploads/2019/10/Lets-Do-Lunch-graphic-e1571097328219.jpg
END:VEVENT
BEGIN:VEVENT
DTSTART;TZID=America/Chicago:20230924T130000
DTEND;TZID=America/Chicago:20230924T160000
DTSTAMP:20260421T192802
CREATED:20230904T142444Z
LAST-MODIFIED:20230904T142516Z
UID:1714-1695560400-1695571200@chapters.theprimetimersww.com
SUMMARY:1:00 PM - Sunday - Fall New Member Meet & Greet
DESCRIPTION:Our Fall New Member Meet & Greet event for new members will be held on Sunday\, Sept. 24th at the Augsburg Public Library\, 7100 Nicollet Ave.\, Richfield. The event is scheduled from 1 to 4 p.m. More information will be forthcoming shortly. \nSunday\, Sept. 24th \n1:00 – 4:00 PM\nAugsburg Public Library\n7100 Nicollet Ave.\nRichfield\, MN
URL:https://chapters.theprimetimersww.com/minneapolisstpaul/event/100-pm-sunday-fall-new-member-meet-greet/
ATTACH;FMTTYPE=image/jpeg:https://chapters.theprimetimersww.com/minneapolisstpaul/wp-content/uploads/2019/10/PrimeTimers-Logo.jpg
END:VEVENT
BEGIN:VEVENT
DTSTART;TZID=America/Chicago:20230926T123000
DTEND;TZID=America/Chicago:20230926T143000
DTSTAMP:20260421T192802
CREATED:20230904T141739Z
LAST-MODIFIED:20230904T141739Z
UID:1710-1695731400-1695738600@chapters.theprimetimersww.com
SUMMARY:12:45 PM - Tuesday - Weekday Lunch
DESCRIPTION:Do join the group as we visit a favorite lunch spot in ‘Nordeast Minneapolis’\, namely KRAMARCZUK’S EASTERN EUROPEAN DELI\, 215 East Hennepin Avenue (Cross-street – University Avenue / MTC # 4\, 6\, 11\, 61).\nFree off-street parking and choices of many foods. So circle the date Tuesday\, September 26th at 12:45 pm. Also\, please contact Terry by email here.
URL:https://chapters.theprimetimersww.com/minneapolisstpaul/event/1245-pm-tuesday-weekday-lunch-3/
LOCATION:Kramarczuk’s\, 215 East Hennepin Avenue\, Minnneaplois\, MN\, 55413\, United States
ATTACH;FMTTYPE=image/jpeg:https://chapters.theprimetimersww.com/minneapolisstpaul/wp-content/uploads/2019/10/DineOut.jpg
END:VEVENT
END:VCALENDAR