BEGIN:VCALENDAR
VERSION:2.0
PRODID:-//Prime Timers Minneapolis - St. Paul - ECPv6.15.20//NONSGML v1.0//EN
CALSCALE:GREGORIAN
METHOD:PUBLISH
X-WR-CALNAME:Prime Timers Minneapolis - St. Paul
X-ORIGINAL-URL:https://chapters.theprimetimersww.com/minneapolisstpaul
X-WR-CALDESC:Events for Prime Timers Minneapolis - St. Paul
REFRESH-INTERVAL;VALUE=DURATION:PT1H
X-Robots-Tag:noindex
X-PUBLISHED-TTL:PT1H
BEGIN:VTIMEZONE
TZID:America/Chicago
BEGIN:DAYLIGHT
TZOFFSETFROM:-0600
TZOFFSETTO:-0500
TZNAME:CDT
DTSTART:20210314T080000
END:DAYLIGHT
BEGIN:STANDARD
TZOFFSETFROM:-0500
TZOFFSETTO:-0600
TZNAME:CST
DTSTART:20211107T070000
END:STANDARD
BEGIN:DAYLIGHT
TZOFFSETFROM:-0600
TZOFFSETTO:-0500
TZNAME:CDT
DTSTART:20220313T080000
END:DAYLIGHT
BEGIN:STANDARD
TZOFFSETFROM:-0500
TZOFFSETTO:-0600
TZNAME:CST
DTSTART:20221106T070000
END:STANDARD
BEGIN:DAYLIGHT
TZOFFSETFROM:-0600
TZOFFSETTO:-0500
TZNAME:CDT
DTSTART:20230312T080000
END:DAYLIGHT
BEGIN:STANDARD
TZOFFSETFROM:-0500
TZOFFSETTO:-0600
TZNAME:CST
DTSTART:20231105T070000
END:STANDARD
END:VTIMEZONE
BEGIN:VEVENT
DTSTART;TZID=America/Chicago:20220705T173000
DTEND;TZID=America/Chicago:20220705T200000
DTSTAMP:20260422T075723
CREATED:20220705T211542Z
LAST-MODIFIED:20220705T211542Z
UID:1164-1657042200-1657051200@chapters.theprimetimersww.com
SUMMARY:5:30 PM - Thursday - Lavender's First Thursday
DESCRIPTION:Thursday\, July 7TH\,2022 • 5:30 – 8:00 PM \nTwin Cities 400 Tavern • 1330 Industrial Blvd. \nNE\, Ste. 400\, Minneapolis \nSponsored by: Truly Hard Seltzer\nHost Partners: Ma’am • Quorum\nTwin Cities LGBTQ+ HAPPY HOUR\nEnjoy Complimentary Hors d’oeuvres Plus A \n\n\n\n\n\n\n\n\nChance To Win Great Prizes! Register at Eventbrite \n\n\n\n\n\n\n\n\nGentlemen come out and congratulate Harry Hartigan on his Lavender Magazine Community Pride Award.
URL:https://chapters.theprimetimersww.com/minneapolisstpaul/event/530-pm-thursday-lavenders-first-thursday/
LOCATION:Twin Cities 400 Tavern\, 1330 Industrial Blvd NE\, Ste 400\, Minneapolis\, MN\, United States
ATTACH;FMTTYPE=image/png:https://chapters.theprimetimersww.com/minneapolisstpaul/wp-content/uploads/2022/07/martini-g2d662732e_1280.png
END:VEVENT
BEGIN:VEVENT
DTSTART;TZID=America/Chicago:20220706T130000
DTEND;TZID=America/Chicago:20220706T150000
DTSTAMP:20260422T075723
CREATED:20220705T210232Z
LAST-MODIFIED:20220705T210232Z
UID:1153-1657112400-1657119600@chapters.theprimetimersww.com
SUMMARY:1:00 PM - Wednesday - A Weekday Lunch Bonus!
DESCRIPTION:On Wednesday\, July 6th\, 2022\, at 1PM let’s meet at The Cardinal Restaurant & Bar – South Mpls; 2920 East 38th Street. It is next to the Blue Line Station (Hiawatha Av. & MTC # 14E\, 22 & 23) and has free off-street parking. \nFull lunch menu with a separate senior menu too. \nIf you are thinking of coming\, please contact Terry by Noon on Tuesday\, July 3rd. If we have a large group\, we may have a private area. \nFree Parking Lot located across 38th Street from the cafe. No parking permitted behind the building.
URL:https://chapters.theprimetimersww.com/minneapolisstpaul/event/100-pm-wednesday-a-weekday-lunch-bonus/
LOCATION:Cardinal Restaurant & Bar\, 2920 East 38th Street\, Minneapolis\, MN\, United States
ATTACH;FMTTYPE=image/jpeg:https://chapters.theprimetimersww.com/minneapolisstpaul/wp-content/uploads/2019/10/Lunch.jpg
END:VEVENT
END:VCALENDAR