BEGIN:VCALENDAR
VERSION:2.0
PRODID:-//Prime Timers Minneapolis - St. Paul - ECPv6.15.20//NONSGML v1.0//EN
CALSCALE:GREGORIAN
METHOD:PUBLISH
X-WR-CALNAME:Prime Timers Minneapolis - St. Paul
X-ORIGINAL-URL:https://chapters.theprimetimersww.com/minneapolisstpaul
X-WR-CALDESC:Events for Prime Timers Minneapolis - St. Paul
REFRESH-INTERVAL;VALUE=DURATION:PT1H
X-Robots-Tag:noindex
X-PUBLISHED-TTL:PT1H
BEGIN:VTIMEZONE
TZID:America/Chicago
BEGIN:DAYLIGHT
TZOFFSETFROM:-0600
TZOFFSETTO:-0500
TZNAME:CDT
DTSTART:20210314T080000
END:DAYLIGHT
BEGIN:STANDARD
TZOFFSETFROM:-0500
TZOFFSETTO:-0600
TZNAME:CST
DTSTART:20211107T070000
END:STANDARD
BEGIN:DAYLIGHT
TZOFFSETFROM:-0600
TZOFFSETTO:-0500
TZNAME:CDT
DTSTART:20220313T080000
END:DAYLIGHT
BEGIN:STANDARD
TZOFFSETFROM:-0500
TZOFFSETTO:-0600
TZNAME:CST
DTSTART:20221106T070000
END:STANDARD
BEGIN:DAYLIGHT
TZOFFSETFROM:-0600
TZOFFSETTO:-0500
TZNAME:CDT
DTSTART:20230312T080000
END:DAYLIGHT
BEGIN:STANDARD
TZOFFSETFROM:-0500
TZOFFSETTO:-0600
TZNAME:CST
DTSTART:20231105T070000
END:STANDARD
END:VTIMEZONE
BEGIN:VEVENT
DTSTART;TZID=America/Chicago:20220717T130000
DTEND;TZID=America/Chicago:20220717T160000
DTSTAMP:20260423T054245
CREATED:20191127T195318Z
LAST-MODIFIED:20220705T204145Z
UID:1043-1658062800-1658073600@chapters.theprimetimersww.com
SUMMARY:1:00 PM - Sunday - Dominoes
DESCRIPTION:Bring your domino sets and a dish or snack tray or beverage to share! \n\n\n\n\n\n\n\n\n\n\nLocation: Quatrefoil Library – 1220 East Lake Street\, Minneapolis on the corner of Lake Street and 13th Avenue South. The library occupies a street level space in the Spirit on Lake Apartments. \n\n\n\n\n\n\n\n\nMTC Bus Route 21.
URL:https://chapters.theprimetimersww.com/minneapolisstpaul/event/200-pm-sunday-dominoes-2022-07-17/
LOCATION:Quatrefoil Library\, 1220 East Lake Street\, Minneapolis\, MN\, 55407\, United States
CATEGORIES:Monthly Recurring Events
ATTACH;FMTTYPE=image/png:https://chapters.theprimetimersww.com/minneapolisstpaul/wp-content/uploads/2019/10/Dominoes-image-2.png
END:VEVENT
BEGIN:VEVENT
DTSTART;TZID=America/Chicago:20220720T130000
DTEND;TZID=America/Chicago:20220720T150000
DTSTAMP:20260423T054245
CREATED:20220705T210751Z
LAST-MODIFIED:20220705T210751Z
UID:1161-1658322000-1658329200@chapters.theprimetimersww.com
SUMMARY:1:00 PM - Wednesday - Golden Corral
DESCRIPTION:July 20th at 1 PM. This restaurant is located at 3000 White Bear Avenue\, Maplewood\, at Woodlynn Avenue – Unit #4 behind Aldi Foods. The Golden Corral features several kinds of meats and sides\, plus soups\, hamburger bar\, taco fixings and a full salad bar. After finishing your meal and if you have the room\, then enjoy many delicious desserts. Cost of this is $8.99 and includes the beverage (iced tea or soda). To R.S.V.P. – please contact Howard by email here . If 15 or more attend\, we will have a personal dining area.
URL:https://chapters.theprimetimersww.com/minneapolisstpaul/event/100-pm-wednesday-golden-corral/
LOCATION:Golden Corral – Maplewood\, 3000 White Bear Avenue\, Maplewood\, MN\, United States
ATTACH;FMTTYPE=image/jpeg:https://chapters.theprimetimersww.com/minneapolisstpaul/wp-content/uploads/2019/10/DineOut.jpg
END:VEVENT
BEGIN:VEVENT
DTSTART;TZID=America/Chicago:20220721T140000
DTEND;TZID=America/Chicago:20220721T160000
DTSTAMP:20260423T054245
CREATED:20191014T211934Z
LAST-MODIFIED:20230707T130404Z
UID:1045-1658412000-1658419200@chapters.theprimetimersww.com
SUMMARY:2:00 PM - Thursday - Wild Prime Timers
DESCRIPTION:The Wilde Roast Group has made some changes – our name is now the Wild Prime Timers. \n\n\n\nWild Prime Timers will meet on the third Thursday of the month weekly from 2:00 pm to 4:00 pm in person at Kramarczuk’s Deli for stimulating conversations about a wide variety of topics. Join us! \n\n\n\nAddress: 215 E Hennepin Ave Minneapolis\, MN 55414. \nOff-street parking is available. \n\n\n\n\n\n\n\n\n\nFor more information\, contact Wally or Jon by email here. \n 
URL:https://chapters.theprimetimersww.com/minneapolisstpaul/event/200-pm-thursday-coffee-at-wilde-roast-2019-12-26-2022-07-21/2022-07-21/
LOCATION:Kramarczuk’s\, 215 East Hennepin Avenue\, Minnneaplois\, MN\, 55413\, United States
CATEGORIES:Monthly Recurring Events
ATTACH;FMTTYPE=image/png:https://chapters.theprimetimersww.com/minneapolisstpaul/wp-content/uploads/2021/01/Coffee.png
END:VEVENT
END:VCALENDAR