BEGIN:VCALENDAR
VERSION:2.0
PRODID:-//Prime Timers Minneapolis - St. Paul - ECPv6.15.20//NONSGML v1.0//EN
CALSCALE:GREGORIAN
METHOD:PUBLISH
X-WR-CALNAME:Prime Timers Minneapolis - St. Paul
X-ORIGINAL-URL:https://chapters.theprimetimersww.com/minneapolisstpaul
X-WR-CALDESC:Events for Prime Timers Minneapolis - St. Paul
REFRESH-INTERVAL;VALUE=DURATION:PT1H
X-Robots-Tag:noindex
X-PUBLISHED-TTL:PT1H
BEGIN:VTIMEZONE
TZID:America/Chicago
BEGIN:DAYLIGHT
TZOFFSETFROM:-0600
TZOFFSETTO:-0500
TZNAME:CDT
DTSTART:20210314T080000
END:DAYLIGHT
BEGIN:STANDARD
TZOFFSETFROM:-0500
TZOFFSETTO:-0600
TZNAME:CST
DTSTART:20211107T070000
END:STANDARD
BEGIN:DAYLIGHT
TZOFFSETFROM:-0600
TZOFFSETTO:-0500
TZNAME:CDT
DTSTART:20220313T080000
END:DAYLIGHT
BEGIN:STANDARD
TZOFFSETFROM:-0500
TZOFFSETTO:-0600
TZNAME:CST
DTSTART:20221106T070000
END:STANDARD
BEGIN:DAYLIGHT
TZOFFSETFROM:-0600
TZOFFSETTO:-0500
TZNAME:CDT
DTSTART:20230312T080000
END:DAYLIGHT
BEGIN:STANDARD
TZOFFSETFROM:-0500
TZOFFSETTO:-0600
TZNAME:CST
DTSTART:20231105T070000
END:STANDARD
END:VTIMEZONE
BEGIN:VEVENT
DTSTART;TZID=America/Chicago:20220724T170000
DTEND;TZID=America/Chicago:20220724T190000
DTSTAMP:20260423T070421
CREATED:20220705T212644Z
LAST-MODIFIED:20220705T212644Z
UID:1170-1658682000-1658689200@chapters.theprimetimersww.com
SUMMARY:5:00 PM - Sunday - Theater 55
DESCRIPTION:The They\, Them and Us Activities Group is traveling to Eagan to see an outdoor production of Jesus Christ Superstar on Sunday\, July 24th. All who attended the Rocky Horror Show last winter totally loved Theater 55.\nAnd now we have the opportunity to see them again. So\, what’s the buzz? It is performed outside and is the first musical by Andrew Lloyd Webber and Tim Rice to be produced for the professional stage.\nA timeless work\, the rock opera is set again the backdrop of an extraordinary and universally known series of events but seen\, unusually\, through the eyes of Judas Iscariot. The story told entirely by song\, explores the personal relationships and struggles between Jesus\, Judas\, Mary Magdalene\, his disciples\, his followers\, and the Roman Empire. Jesus Christ Superstar has wowed audiences for over 40 years.\nIf you wish to attend reserve your seat now as there are only 10 spots available.\nWhere:\nCaponi Art Park\n220 Diffley Road\, Eagan.\nWhen: Sunday\, July 24. 5:00 pm\nPrice: $15 individual ticket or $30 for carpools (Up to 6 in a single vehicle). \nGet you tickets now! Only 10 spots available. We will try to arrange carpools for the production and save money on tickets.\nContact Bob by email here for reservations.
URL:https://chapters.theprimetimersww.com/minneapolisstpaul/event/500-pm-sunday-theater-55/
ATTACH;FMTTYPE=image/jpeg:https://chapters.theprimetimersww.com/minneapolisstpaul/wp-content/uploads/2019/11/Bookclub.jpg
END:VEVENT
BEGIN:VEVENT
DTSTART;TZID=America/Chicago:20220727T113000
DTEND;TZID=America/Chicago:20220727T150000
DTSTAMP:20260423T070421
CREATED:20220705T213411Z
LAST-MODIFIED:20220705T213411Z
UID:1175-1658921400-1658934000@chapters.theprimetimersww.com
SUMMARY:11:30 AM - Wednesday - History Boys
DESCRIPTION:The Prime Timers History Boys are making the trip to Chaska on Wednesday\, July 27th to the Minnesota Landscape Arboretum to view their amazing flowers\, plants\, and trees. This is the time of the year when most of their annuals and perennials are in full bloom. \nFor those of you have never visited there before. The Minnesota Landscape Arboretum is a 1\,200- acre horticultural garden and arboretum located about 4 miles west of Chanhassen. It is part of the Department of Horticultural Science at the University of Minnesota and is the Upper Midwest’s largest public garden. This outing promises to be a great time. \nWe will be enjoying the covered tram tour at 12:00 noon. For those who wish to walk the gardens you may do so after the ride.\nDon’t miss this tour reserve your spot today. \nWhere: The Minnesota Landscape Arboretum\, 3675 Arboretum Drive\, Chaska\, MN \nWhen: Wednesday\, July 27th\, 2022. Noon. Be there by 11:30 to board the tram. \nNote: This time may be subject to change if another group books all 44 seats on the noon tram. Price: $21. If you are an Arboretum member the price will be less. Please advise when you make your reservation.\nSeats must be reserved by Tuesday\, July 19th\, 2022. \nContact Bob by email here to guarantee your seat. Take advantage of this fantastic opportunity. You will be glad you did.
URL:https://chapters.theprimetimersww.com/minneapolisstpaul/event/1130-am-wednesday-history-boys/
LOCATION:Minnesota Landscape Arboretum\, 3675 Arboretum Drive\, Chaska\, MN\, United States
ATTACH;FMTTYPE=image/jpeg:https://chapters.theprimetimersww.com/minneapolisstpaul/wp-content/uploads/2019/10/StoneArch.jpg
END:VEVENT
END:VCALENDAR