BEGIN:VCALENDAR
VERSION:2.0
PRODID:-//Prime Timers Minneapolis - St. Paul - ECPv6.15.20//NONSGML v1.0//EN
CALSCALE:GREGORIAN
METHOD:PUBLISH
X-WR-CALNAME:Prime Timers Minneapolis - St. Paul
X-ORIGINAL-URL:https://chapters.theprimetimersww.com/minneapolisstpaul
X-WR-CALDESC:Events for Prime Timers Minneapolis - St. Paul
REFRESH-INTERVAL;VALUE=DURATION:PT1H
X-Robots-Tag:noindex
X-PUBLISHED-TTL:PT1H
BEGIN:VTIMEZONE
TZID:America/Chicago
BEGIN:DAYLIGHT
TZOFFSETFROM:-0600
TZOFFSETTO:-0500
TZNAME:CDT
DTSTART:20220313T080000
END:DAYLIGHT
BEGIN:STANDARD
TZOFFSETFROM:-0500
TZOFFSETTO:-0600
TZNAME:CST
DTSTART:20221106T070000
END:STANDARD
BEGIN:DAYLIGHT
TZOFFSETFROM:-0600
TZOFFSETTO:-0500
TZNAME:CDT
DTSTART:20230312T080000
END:DAYLIGHT
BEGIN:STANDARD
TZOFFSETFROM:-0500
TZOFFSETTO:-0600
TZNAME:CST
DTSTART:20231105T070000
END:STANDARD
BEGIN:DAYLIGHT
TZOFFSETFROM:-0600
TZOFFSETTO:-0500
TZNAME:CDT
DTSTART:20240310T080000
END:DAYLIGHT
BEGIN:STANDARD
TZOFFSETFROM:-0500
TZOFFSETTO:-0600
TZNAME:CST
DTSTART:20241103T070000
END:STANDARD
END:VTIMEZONE
BEGIN:VEVENT
DTSTART;TZID=America/Chicago:20230425T130000
DTEND;TZID=America/Chicago:20230425T150000
DTSTAMP:20260423T060048
CREATED:20230414T021020Z
LAST-MODIFIED:20230414T021020Z
UID:1428-1682427600-1682434800@chapters.theprimetimersww.com
SUMMARY:1:00 PM - Tuesday - Weekday Lunch
DESCRIPTION:Hopefully we feel Spring in the air on Tuesday\, April 25th\, we are headed toward old town-St. Anthony and a visit to Kramarczuk East European Deli at 215 East Hennepin Avenue\, Minneapolis (MTC Routes 4\, 6\, 11\, 61). The serving line is waiting; parking available in the parking lot next to the building or metered on\nthe street. So\, circle the date: Tuesday\, April 25th at 1 PM. Hope to see you there!
URL:https://chapters.theprimetimersww.com/minneapolisstpaul/event/100-pm-tuesday-weekday-lunch-9/
LOCATION:Kramarczuk’s\, 215 East Hennepin Avenue\, Minnneaplois\, MN\, 55413\, United States
ATTACH;FMTTYPE=image/jpeg:https://chapters.theprimetimersww.com/minneapolisstpaul/wp-content/uploads/2019/10/Lunch.jpg
END:VEVENT
BEGIN:VEVENT
DTSTART;TZID=America/Chicago:20230429T110000
DTEND;TZID=America/Chicago:20230429T130000
DTSTAMP:20260423T060048
CREATED:20230414T021351Z
LAST-MODIFIED:20230414T021351Z
UID:1430-1682766000-1682773200@chapters.theprimetimersww.com
SUMMARY:11:00 AM - Saturday - Bell Museum
DESCRIPTION:Yes\, our visit to the Bell Museum on the St. Paul Campus in St. Paul is Minnesota’s completely invigorated history venue. Take amazing journeys from the far reaches of the cosmos to deep inside the human brain in the planetarium. Explore the origins of the universe and the diversity of life on earth in galleries\, which include world famous wildlife dioramas. And then engage all of your senses in the Touch and See Lab with 10\,000-year- old fossils\, live plants\, animals and more. \nWhere: Bell Museum\,\n2088 Larpenteur Avenue West St. Paul\, MN 55113 \nThe parking lot is relatively small\, but there is overflow gold course parking nearby.\nRates are $1 per hour on Sundays. Parking at the golf course is free. \nWhen: Saturday\, April 29th\, 2023. Meet at 11:00 am. \n\n\n   \n\n\nPrice: \n\n\nMost visitors stay 1 to 3 hours. \n$14 (Combination rate for the museum and 1 planetarium show).\nMuseum only: $10.\nPlanetarium shows only: $7.00. \n\n\n\n\nCash\, credit card or check payment can be made at the museum. Cold beverages are available. \nContact Bob by email here by Wednesday\, April 26 if you plan on attending.
URL:https://chapters.theprimetimersww.com/minneapolisstpaul/event/1100-am-saturday-bell-museum/
LOCATION:Bell Museum\, 2088 Larpenteur Avenue West\, St. Paul\, MN\, 55413\, United States
ATTACH;FMTTYPE=image/jpeg:https://chapters.theprimetimersww.com/minneapolisstpaul/wp-content/uploads/2019/10/StoneArch.jpg
END:VEVENT
END:VCALENDAR