BEGIN:VCALENDAR
VERSION:2.0
PRODID:-//Prime Timers Minneapolis - St. Paul - ECPv6.15.20//NONSGML v1.0//EN
CALSCALE:GREGORIAN
METHOD:PUBLISH
X-ORIGINAL-URL:https://chapters.theprimetimersww.com/minneapolisstpaul
X-WR-CALDESC:Events for Prime Timers Minneapolis - St. Paul
REFRESH-INTERVAL;VALUE=DURATION:PT1H
X-Robots-Tag:noindex
X-PUBLISHED-TTL:PT1H
BEGIN:VTIMEZONE
TZID:America/Chicago
BEGIN:DAYLIGHT
TZOFFSETFROM:-0600
TZOFFSETTO:-0500
TZNAME:CDT
DTSTART:20220313T080000
END:DAYLIGHT
BEGIN:STANDARD
TZOFFSETFROM:-0500
TZOFFSETTO:-0600
TZNAME:CST
DTSTART:20221106T070000
END:STANDARD
BEGIN:DAYLIGHT
TZOFFSETFROM:-0600
TZOFFSETTO:-0500
TZNAME:CDT
DTSTART:20230312T080000
END:DAYLIGHT
BEGIN:STANDARD
TZOFFSETFROM:-0500
TZOFFSETTO:-0600
TZNAME:CST
DTSTART:20231105T070000
END:STANDARD
BEGIN:DAYLIGHT
TZOFFSETFROM:-0600
TZOFFSETTO:-0500
TZNAME:CDT
DTSTART:20240310T080000
END:DAYLIGHT
BEGIN:STANDARD
TZOFFSETFROM:-0500
TZOFFSETTO:-0600
TZNAME:CST
DTSTART:20241103T070000
END:STANDARD
END:VTIMEZONE
BEGIN:VEVENT
DTSTART;TZID=America/Chicago:20230528T130000
DTEND;TZID=America/Chicago:20230528T160000
DTSTAMP:20260422T033000
CREATED:20230513T215821Z
LAST-MODIFIED:20230513T215821Z
UID:1497-1685278800-1685289600@chapters.theprimetimersww.com
SUMMARY:1:00PM - Sunday - New Member Meet and Greet
DESCRIPTION:New Member Meet & Greet 1pm – 4pm\nSouthdale Library\n7001 York Ave. South\, Edina\, MN
URL:https://chapters.theprimetimersww.com/minneapolisstpaul/event/100pm-sunday-new-member-meet-and-greet/
ATTACH;FMTTYPE=image/jpeg:https://chapters.theprimetimersww.com/minneapolisstpaul/wp-content/uploads/2019/10/PrimeTimers-Logo.jpg
END:VEVENT
BEGIN:VEVENT
DTSTART;TZID=America/Chicago:20230601T173000
DTEND;TZID=America/Chicago:20230601T200000
DTSTAMP:20260422T033000
CREATED:20230529T224028Z
LAST-MODIFIED:20230529T224028Z
UID:1514-1685640600-1685649600@chapters.theprimetimersww.com
SUMMARY:5:30 PM - Thursday - First Thursdays
DESCRIPTION:Lavender’s First Thursdays \nThursday\, June 1\, 2023\n5:30 – 8:00 PM\nGranada Theater\n3022 Hennepin Ave.\nMinneapolis\, MN 55408 \nLavender’s Summer of Pride Kickoff Party and Score @ Pride \n\n\n\n\n\n\n\n\nPresented by Mall of America\nSponsored by Renewal by Andersen\, Steven Scott Management\, Minnesota Lynx\, Rush Hospital and Truly Hard Seltzer\nHost Partners: Ma’am – Quorum
URL:https://chapters.theprimetimersww.com/minneapolisstpaul/event/530-pm-thursday-first-thursdays/
ATTACH;FMTTYPE=image/png:https://chapters.theprimetimersww.com/minneapolisstpaul/wp-content/uploads/2022/07/martini-g2d662732e_1280.png
END:VEVENT
END:VCALENDAR