BEGIN:VCALENDAR
VERSION:2.0
PRODID:-//Prime Timers Minneapolis - St. Paul - ECPv6.15.20//NONSGML v1.0//EN
CALSCALE:GREGORIAN
METHOD:PUBLISH
X-ORIGINAL-URL:https://chapters.theprimetimersww.com/minneapolisstpaul
X-WR-CALDESC:Events for Prime Timers Minneapolis - St. Paul
REFRESH-INTERVAL;VALUE=DURATION:PT1H
X-Robots-Tag:noindex
X-PUBLISHED-TTL:PT1H
BEGIN:VTIMEZONE
TZID:America/Chicago
BEGIN:DAYLIGHT
TZOFFSETFROM:-0600
TZOFFSETTO:-0500
TZNAME:CDT
DTSTART:20220313T080000
END:DAYLIGHT
BEGIN:STANDARD
TZOFFSETFROM:-0500
TZOFFSETTO:-0600
TZNAME:CST
DTSTART:20221106T070000
END:STANDARD
BEGIN:DAYLIGHT
TZOFFSETFROM:-0600
TZOFFSETTO:-0500
TZNAME:CDT
DTSTART:20230312T080000
END:DAYLIGHT
BEGIN:STANDARD
TZOFFSETFROM:-0500
TZOFFSETTO:-0600
TZNAME:CST
DTSTART:20231105T070000
END:STANDARD
BEGIN:DAYLIGHT
TZOFFSETFROM:-0600
TZOFFSETTO:-0500
TZNAME:CDT
DTSTART:20240310T080000
END:DAYLIGHT
BEGIN:STANDARD
TZOFFSETFROM:-0500
TZOFFSETTO:-0600
TZNAME:CST
DTSTART:20241103T070000
END:STANDARD
END:VTIMEZONE
BEGIN:VEVENT
DTSTART;TZID=America/Chicago:20230607T130000
DTEND;TZID=America/Chicago:20230607T150000
DTSTAMP:20260422T124846
CREATED:20230529T224440Z
LAST-MODIFIED:20230529T224440Z
UID:1517-1686142800-1686150000@chapters.theprimetimersww.com
SUMMARY:1:00PM - Wednesday - Weekday Lunch Bonus
DESCRIPTION:The Cardinal Restaurant & Bar A WEEKDAY LUNCH BONUS! \nOn Wednesday\, June 7th\, 2023\, at 1PM let’s meet at The Cardinal Restaurant & Bar – South Mpls; 2920 East 38th Street. It is next to the Blue Line Station (Hiawatha Av. & MTC # 14E\, 22 & 23) and has free off-street parking. \nFull lunch menu with a separate senior menu too. \nIf you are thinking of coming\, please text please contact Howard by email here.
URL:https://chapters.theprimetimersww.com/minneapolisstpaul/event/100pm-wednesday-weekday-lunch-bonus/
LOCATION:Cardinal Restaurant & Bar\, 2920 East 38th Street\, Minneapolis\, MN\, United States
ATTACH;FMTTYPE=image/jpeg:https://chapters.theprimetimersww.com/minneapolisstpaul/wp-content/uploads/2019/10/Lunch.jpg
END:VEVENT
BEGIN:VEVENT
DTSTART;TZID=America/Chicago:20230607T183000
DTEND;TZID=America/Chicago:20230607T210000
DTSTAMP:20260422T124846
CREATED:20230529T225043Z
LAST-MODIFIED:20230529T225043Z
UID:1519-1686162600-1686171600@chapters.theprimetimersww.com
SUMMARY:6:30 PM - Wednesday - Alive & Kicking Renaissance
DESCRIPTION:Alive & Kickin is the Twin Cities’ Premier Senior \n\n\n\n\n\n\n\n\nRock Ensemble. These seniors are amazing. Alive & Kickin gives voice to seniors through personal stories and popular songs\, empowering its members to entertain and enlighten multi- generation audiences. \nAlive & Kickin is ready to ROCK & REdefine stereotypes around aging in an ALL NEW Original Production: REnassiance features stories and songs from their cast of 38 seniors. Celebrate the “RE” moments that can shape\, influence\, or change the course of your life. \nGet ready to sing\, dance and be REenergized – REnewed – REdiscovered. \nA group of Prime Timers have seen their annual terrific shows in the past. Now you have an opportunity to experience this fantastic production yourself because the They\, Them and Us Activities Group has been invited to take advantage of their Annual Friends and Neighbors Night presentation. All that is asked is that you make a minimum recommended donation to their organization. \nWhen: Wednesday\, June 7\, 2023. 6:30 pm. Free light dinner starts at 5:30. \n\n\n\n\n\n\n\n\nCost: FREE\, but a minimum of $10 donation is suggested. \nLocation: Schneider Theatre Bloomington Center for the Arts\n1800 West Old Shakopee Road\nBloomington\, MN 55431.  \nContact Bob by email here by June 1 to reserve your spot. \nDon’t miss this show! It will be one you will always remember.
URL:https://chapters.theprimetimersww.com/minneapolisstpaul/event/630-pm-wednesday-alive-kicking-renaissance/
LOCATION:Bloomington Center for the Arts\, 1800 West Old Shakopee Road\, Bloomington\, MN\, 55431\, United States
ATTACH;FMTTYPE=image/jpeg:https://chapters.theprimetimersww.com/minneapolisstpaul/wp-content/uploads/2019/10/PrimeTimers-Logo.jpg
END:VEVENT
BEGIN:VEVENT
DTSTART;TZID=America/Chicago:20230610T120000
DTEND;TZID=America/Chicago:20230610T180000
DTSTAMP:20260422T124846
CREATED:20230530T224340Z
LAST-MODIFIED:20230530T224341Z
UID:1523-1686398400-1686420000@chapters.theprimetimersww.com
SUMMARY:12:00 PM - Saturday - Golden Valley Pride
DESCRIPTION:Come and Join Us! \nPrime Timers Has a Booth at the 5th Annual Golden Valley Pride \nYes\, the Prime Timers of Minneapolis / St\, Paul will have a booth at the 5th Annual Golden Valley Pride Festival on June 10 from 12:00 to 6:00. \nAs the first and largest suburban pride festival in Minnesota. Over 6000 people are expected to attend this event. That is partially due to the fact\, that Golden Valley has more LGBTQ households per capita than any other city in Minnesota. \nJoin us in the booth to share the Prime Timer story. Enjoy the awesome Food Trucks. Listen to Fantastic Music. And enjoy a beverage from the Beer and Wine Garden. It promises to be a fun and relaxing afternoon. \nWhen: Saturday\, June 10\, 2023. 12:00 noon to 6:00 pm. \nWhere: Brookview Park\, 200 Brookview Parkway North\, Golden Valley\, MN 55426 \nParking: There is plenty of free street parking around the park. \nThere will be a golf cart shuttle running from the Spirit of Hope United Methodist Church\, 7600 Harold Avenue\, Golden Valley 55427. (Still Need to Confirm and Get Shuttle Schedule) \nIf you have some free time to spend in the booth on Saturday afternoon\, contact Michael by email here.
URL:https://chapters.theprimetimersww.com/minneapolisstpaul/event/1200-pm-saturday-golden-valley-pride/
LOCATION:Brookview Park\, 200 Brookview Parkway North\, Golden Valley\, MN\, 55426\, United States
ATTACH;FMTTYPE=image/jpeg:https://chapters.theprimetimersww.com/minneapolisstpaul/wp-content/uploads/2019/10/PrimeTimers-Logo.jpg
END:VEVENT
BEGIN:VEVENT
DTSTART;TZID=America/Chicago:20230610T180000
DTEND;TZID=America/Chicago:20230610T210000
DTSTAMP:20260422T124846
CREATED:20230530T224844Z
LAST-MODIFIED:20230530T224844Z
UID:1526-1686420000-1686430800@chapters.theprimetimersww.com
SUMMARY:6:00 PM - Saturday - Pride Potluck Dinner
DESCRIPTION:Celebrate Pride Early and\nEnjoy Meeting Some New Guys \n\n\n\nPaul\, one of our members\, is hosting the Cookboyz Potluck Dinner in June and he has invited Prime Timers to join them on Saturday\, June 10 after the Golden Valley Pride Festival. \nThe theme is Southern US or Creole foods. For those attending for the first time\, please bring a bottle of wine or themed food to contribute. If Southern US or Creole is a challenge\, just bring an appetizer\, side dish or dessert of your choice. \nIf you are a regular at Cookboyz events\, please bring a bottle of wine as well as a dish to share. \nWhen: Saturday\, June 10 \n\n\n\n\n\n\n6:00 pm – Social\n7:00 pm – Pot Luck Dinner \n\n\n\n\n\n\nWhere: Paul’s Home \n\n\n\n\n\n\nFREE Street Parking and at Plymouth Congregational Church Lot (Three Blocks Away at LaSalle and Franklin). Car Pooling Is Recommended. If you wish to make sure of a place to sit\, please bring a small portable chair. \n\n\n\n\n\n\nReach out to Paul by email here with questions. \nContact Bob by email here to reserve your spot. Don’t miss out on this fantastic event.
URL:https://chapters.theprimetimersww.com/minneapolisstpaul/event/600-pm-saturday-pride-potluck-dinner/
ATTACH;FMTTYPE=image/jpeg:https://chapters.theprimetimersww.com/minneapolisstpaul/wp-content/uploads/2019/10/DineOut.jpg
END:VEVENT
END:VCALENDAR