BEGIN:VCALENDAR
VERSION:2.0
PRODID:-//Prime Timers Minneapolis - St. Paul - ECPv6.15.20//NONSGML v1.0//EN
CALSCALE:GREGORIAN
METHOD:PUBLISH
X-ORIGINAL-URL:https://chapters.theprimetimersww.com/minneapolisstpaul
X-WR-CALDESC:Events for Prime Timers Minneapolis - St. Paul
REFRESH-INTERVAL;VALUE=DURATION:PT1H
X-Robots-Tag:noindex
X-PUBLISHED-TTL:PT1H
BEGIN:VTIMEZONE
TZID:America/Chicago
BEGIN:DAYLIGHT
TZOFFSETFROM:-0600
TZOFFSETTO:-0500
TZNAME:CDT
DTSTART:20220313T080000
END:DAYLIGHT
BEGIN:STANDARD
TZOFFSETFROM:-0500
TZOFFSETTO:-0600
TZNAME:CST
DTSTART:20221106T070000
END:STANDARD
BEGIN:DAYLIGHT
TZOFFSETFROM:-0600
TZOFFSETTO:-0500
TZNAME:CDT
DTSTART:20230312T080000
END:DAYLIGHT
BEGIN:STANDARD
TZOFFSETFROM:-0500
TZOFFSETTO:-0600
TZNAME:CST
DTSTART:20231105T070000
END:STANDARD
BEGIN:DAYLIGHT
TZOFFSETFROM:-0600
TZOFFSETTO:-0500
TZNAME:CDT
DTSTART:20240310T080000
END:DAYLIGHT
BEGIN:STANDARD
TZOFFSETFROM:-0500
TZOFFSETTO:-0600
TZNAME:CST
DTSTART:20241103T070000
END:STANDARD
END:VTIMEZONE
BEGIN:VEVENT
DTSTART;TZID=America/Chicago:20230621T130000
DTEND;TZID=America/Chicago:20230621T150000
DTSTAMP:20260422T075708
CREATED:20230602T014517Z
LAST-MODIFIED:20230602T014517Z
UID:1547-1687352400-1687359600@chapters.theprimetimersww.com
SUMMARY:1:00 PM - Wednesday - Golden Corral
DESCRIPTION:Golden Corral – Buffet & Grill \nWednesday\, June 21st at 1 PM. This restaurant is located at 3000 White Bear Avenue\, Maplewood\, at Woodlynn Avenue – Unit #4 behind Aldi Foods. The Golden Corral features several kinds of meats and sides\, plus soups\, hamburger bar\, taco fixings and a full salad bar. After finishing your meal and if you have the room\, then enjoy many delicious desserts. Cost of this is $9.49 and includes beverages. \nTo get special pricing DO NOT arrive before 1pm. \nIf you are thinking of coming\, please contact Howard by email here.
URL:https://chapters.theprimetimersww.com/minneapolisstpaul/event/100-pm-wednesday-golden-corral-4/
LOCATION:Golden Corral – Maplewood\, 3000 White Bear Avenue\, Maplewood\, MN\, United States
ATTACH;FMTTYPE=image/jpeg:https://chapters.theprimetimersww.com/minneapolisstpaul/wp-content/uploads/2019/10/Lunch.jpg
END:VEVENT
BEGIN:VEVENT
DTSTART;TZID=America/Chicago:20230623T113000
DTEND;TZID=America/Chicago:20230623T133000
DTSTAMP:20260422T075708
CREATED:20230602T012045Z
LAST-MODIFIED:20230602T012045Z
UID:1534-1687519800-1687527000@chapters.theprimetimersww.com
SUMMARY:11:30 AM - Friday - Let's Do Lunch
DESCRIPTION:June 13th and 23rd\nLet’s Do Lunch Café LGBTQA Senior Luncheon. \n\n\n\n\n\n\nTuesday\, June 13th – 11:30am – 1:30pm \nFriday\, June 23rd – 11:30am – 1:30pm \n\n\n\n\n\n\nThe Danish American Center\n3030 West River Parkway\nMinneapolis\, MN 55406\nBus Route 21 \n\n\n\n\n\n\n\nOur FREE monthly “café” brings together LGBTQA seniors\, boomers and allies in friendship and acceptance. \n\nCatered lunch and dessert\nFriendly conversation\nInformation about senior & LGBTQ services All are welcome!\nLet’s Do Lunch Café is a joint effort between Prime Timers MSP and Friends & Co
URL:https://chapters.theprimetimersww.com/minneapolisstpaul/event/1130-am-friday-lets-do-lunch-8/
ATTACH;FMTTYPE=image/jpeg:https://chapters.theprimetimersww.com/minneapolisstpaul/wp-content/uploads/2019/10/Lets-Do-Lunch-graphic-e1571097328219.jpg
END:VEVENT
BEGIN:VEVENT
DTSTART;TZID=America/Chicago:20230623T170000
DTEND;TZID=America/Chicago:20230623T190000
DTSTAMP:20260422T075708
CREATED:20230602T014707Z
LAST-MODIFIED:20230602T014707Z
UID:1549-1687539600-1687546800@chapters.theprimetimersww.com
SUMMARY:5:00 PM - Friday - Bolder & Older
DESCRIPTION:BOLDER & OLDER FRIDAY JUNE 23 \n5 – 7 pm Saint Mark’s Episcopal Cathedral\n519 Oak Grove St\, Mpls\, MN \nFree Taco Bar\nLGBTQ+ Trivia with Trivia Mafia Puppy party & Healing Hearts Rescue\nLive performances by Queer Circus Swag and more surprises\nBring friends! \nSponsored by Right at Home\, Rainbow Health\, Friends & Co\, AARP\, OutFront Minnesota\, East Side Neighborhood Services\, Trellis\, Queermunity Collaborative\, St. Mark’s Episcopal Cathedral\, Senior Linkage Line\, Ramsey County\, and Southeast Seniors. \nRegistration Required. \nRSVP on Eventbrite or call (612)707-0518. bolderandolderdinner.eventbrite.com
URL:https://chapters.theprimetimersww.com/minneapolisstpaul/event/500-pm-friday-bolder-older/
ATTACH;FMTTYPE=image/jpeg:https://chapters.theprimetimersww.com/minneapolisstpaul/wp-content/uploads/2019/10/PrimeTimers-Logo.jpg
END:VEVENT
BEGIN:VEVENT
DTSTART;TZID=America/Chicago:20230624T080000
DTEND;TZID=America/Chicago:20230624T180000
DTSTAMP:20260422T075708
CREATED:20230602T015108Z
LAST-MODIFIED:20230602T015108Z
UID:1551-1687593600-1687629600@chapters.theprimetimersww.com
SUMMARY:8:00 AM - Saturday - Twin Cities Pride
DESCRIPTION:2023 Twin Cities Pride Is Almost Here! \nAnd Now Is Your Chance to Spend Some Quality Time with Your Fellow Prime Timers and Folks from All Over the Country. \nEnjoy the Fantastic Event! \nThe 51st annual Twin Cities Pride Festival will be held at Loring Park and Parade Park in Minneapolis on June 23 – June 25. There will be 200+ vendors\, food Courts\, a beer garden and music stages. \nPrime Timers Minneapolis / St. Paul will be a part of the action\, with a new location in the park. And we would like you to join us on either Saturday or Sunday in our booth. \nPrime Timers MSP will have a booth at Twin Cities Pride this year. Location code is Y39e. \nMost guys share a two-hour shift with us on either the Saturday or Sunday of the festival. \nContact Michael regarding our booth by email here. \nWhen: Saturday\, June 24 8;00am to 6:00pm Sunday\, June 25 from 8:0am to 4:00pm \nWhere: Loring Park\, 1382 Willow Street Minneapolis\, MN 55403 \nParking: There is street parking available as well as city ramps. The college ramp on the west side of Hennepin is always a good choice.
URL:https://chapters.theprimetimersww.com/minneapolisstpaul/event/800-am-saturday-twin-cities-pride/
ATTACH;FMTTYPE=image/jpeg:https://chapters.theprimetimersww.com/minneapolisstpaul/wp-content/uploads/2019/10/PrimeTimers-Logo.jpg
END:VEVENT
END:VCALENDAR