BEGIN:VCALENDAR
VERSION:2.0
PRODID:-//Prime Timers Minneapolis - St. Paul - ECPv6.15.20//NONSGML v1.0//EN
CALSCALE:GREGORIAN
METHOD:PUBLISH
X-WR-CALNAME:Prime Timers Minneapolis - St. Paul
X-ORIGINAL-URL:https://chapters.theprimetimersww.com/minneapolisstpaul
X-WR-CALDESC:Events for Prime Timers Minneapolis - St. Paul
REFRESH-INTERVAL;VALUE=DURATION:PT1H
X-Robots-Tag:noindex
X-PUBLISHED-TTL:PT1H
BEGIN:VTIMEZONE
TZID:America/Chicago
BEGIN:DAYLIGHT
TZOFFSETFROM:-0600
TZOFFSETTO:-0500
TZNAME:CDT
DTSTART:20220313T080000
END:DAYLIGHT
BEGIN:STANDARD
TZOFFSETFROM:-0500
TZOFFSETTO:-0600
TZNAME:CST
DTSTART:20221106T070000
END:STANDARD
BEGIN:DAYLIGHT
TZOFFSETFROM:-0600
TZOFFSETTO:-0500
TZNAME:CDT
DTSTART:20230312T080000
END:DAYLIGHT
BEGIN:STANDARD
TZOFFSETFROM:-0500
TZOFFSETTO:-0600
TZNAME:CST
DTSTART:20231105T070000
END:STANDARD
BEGIN:DAYLIGHT
TZOFFSETFROM:-0600
TZOFFSETTO:-0500
TZNAME:CDT
DTSTART:20240310T080000
END:DAYLIGHT
BEGIN:STANDARD
TZOFFSETFROM:-0500
TZOFFSETTO:-0600
TZNAME:CST
DTSTART:20241103T070000
END:STANDARD
END:VTIMEZONE
BEGIN:VEVENT
DTSTART;TZID=America/Chicago:20230906T130000
DTEND;TZID=America/Chicago:20230906T150000
DTSTAMP:20260422T033030
CREATED:20230904T140855Z
LAST-MODIFIED:20230904T140855Z
UID:1703-1694005200-1694012400@chapters.theprimetimersww.com
SUMMARY:1:00 PM - Wednesday - Weekday Lunch Bonus
DESCRIPTION:A WEEKDAY LUNCH BONUS!\nOn Wednesday\, September 6th\, 2023\, at 1PM let’s meet at The Cardinal Restaurant & Bar – South Mpls; 2920 East 38th Street. It is next to the Blue Line Station (Hiawatha Av. & MTC # 14E\, 22 & 23) and has free off-street parking. \nFull lunch menu with a separate senior menu too. \nIf you are thinking of coming\, please text please contact Howard by email here.
URL:https://chapters.theprimetimersww.com/minneapolisstpaul/event/100-pm-wednesday-weekday-lunch-bonus-2/
LOCATION:Cardinal Restaurant & Bar\, 2920 East 38th Street\, Minneapolis\, MN\, United States
ATTACH;FMTTYPE=image/jpeg:https://chapters.theprimetimersww.com/minneapolisstpaul/wp-content/uploads/2019/10/Lunch.jpg
END:VEVENT
BEGIN:VEVENT
DTSTART;TZID=America/Chicago:20230907T173000
DTEND;TZID=America/Chicago:20230907T200000
DTSTAMP:20260422T033030
CREATED:20230904T135902Z
LAST-MODIFIED:20230904T135902Z
UID:1690-1694107800-1694116800@chapters.theprimetimersww.com
SUMMARY:5:30 PM - Thursday - Lavender's First Thursdays
DESCRIPTION:LavendEr’s First Thursdays\nThursday\, September 7\, 2023 • 5:30 – 8:00 PM\nJ.D. Hoyt’s Supper club\n301 N. Washington Ave.\nMinneapolis\, MN 55401 \nHost Partners: Ma’am – Quorum
URL:https://chapters.theprimetimersww.com/minneapolisstpaul/event/530-pm-thursday-lavenders-first-thursdays/
ATTACH;FMTTYPE=image/png:https://chapters.theprimetimersww.com/minneapolisstpaul/wp-content/uploads/2022/07/martini-g2d662732e_1280.png
END:VEVENT
END:VCALENDAR