BEGIN:VCALENDAR
VERSION:2.0
PRODID:-//Prime Timers Minneapolis - St. Paul - ECPv6.15.20//NONSGML v1.0//EN
CALSCALE:GREGORIAN
METHOD:PUBLISH
X-ORIGINAL-URL:https://chapters.theprimetimersww.com/minneapolisstpaul
X-WR-CALDESC:Events for Prime Timers Minneapolis - St. Paul
REFRESH-INTERVAL;VALUE=DURATION:PT1H
X-Robots-Tag:noindex
X-PUBLISHED-TTL:PT1H
BEGIN:VTIMEZONE
TZID:America/Chicago
BEGIN:DAYLIGHT
TZOFFSETFROM:-0600
TZOFFSETTO:-0500
TZNAME:CDT
DTSTART:20220313T080000
END:DAYLIGHT
BEGIN:STANDARD
TZOFFSETFROM:-0500
TZOFFSETTO:-0600
TZNAME:CST
DTSTART:20221106T070000
END:STANDARD
BEGIN:DAYLIGHT
TZOFFSETFROM:-0600
TZOFFSETTO:-0500
TZNAME:CDT
DTSTART:20230312T080000
END:DAYLIGHT
BEGIN:STANDARD
TZOFFSETFROM:-0500
TZOFFSETTO:-0600
TZNAME:CST
DTSTART:20231105T070000
END:STANDARD
BEGIN:DAYLIGHT
TZOFFSETFROM:-0600
TZOFFSETTO:-0500
TZNAME:CDT
DTSTART:20240310T080000
END:DAYLIGHT
BEGIN:STANDARD
TZOFFSETFROM:-0500
TZOFFSETTO:-0600
TZNAME:CST
DTSTART:20241103T070000
END:STANDARD
END:VTIMEZONE
BEGIN:VEVENT
DTSTART;TZID=America/Chicago:20231029T130000
DTEND;TZID=America/Chicago:20231029T160000
DTSTAMP:20260424T045323
CREATED:20231011T014253Z
LAST-MODIFIED:20231011T014712Z
UID:1748-1698584400-1698595200@chapters.theprimetimersww.com
SUMMARY:1:00 PM - Sunday - Halloween Potluck Costume Party
DESCRIPTION:Food … Fun … Prizes \nWhere: Harry’s Party Room\nSouth St. Paul \nWhen: Sunday\, October 29 1:00 to 4:00 pm \nCost: Potluck Event\nBeverages\, Brats and Buns Will Be Provided \nIt is suggested that you bring the following: \n▪ Last Name Starting with A – G Dessert to Share \n▪ Last Name Starting with H – M Appetizer to Share \n▪ Last Name Starting with N- Z Salad or Side Dish to Share \nCostumes are recommended for all attending as prizes will be awarded. \nPlease contact Bob by email here for more information and to RSVP.
URL:https://chapters.theprimetimersww.com/minneapolisstpaul/event/100-pm-sunday-halloween-potluck-costume-party/
ATTACH;FMTTYPE=image/jpeg:https://chapters.theprimetimersww.com/minneapolisstpaul/wp-content/uploads/2020/02/DiningTables.jpg
END:VEVENT
END:VCALENDAR