BEGIN:VCALENDAR
VERSION:2.0
PRODID:-//Prime Timers Minneapolis - St. Paul - ECPv6.15.20//NONSGML v1.0//EN
CALSCALE:GREGORIAN
METHOD:PUBLISH
X-ORIGINAL-URL:https://chapters.theprimetimersww.com/minneapolisstpaul
X-WR-CALDESC:Events for Prime Timers Minneapolis - St. Paul
REFRESH-INTERVAL;VALUE=DURATION:PT1H
X-Robots-Tag:noindex
X-PUBLISHED-TTL:PT1H
BEGIN:VTIMEZONE
TZID:America/Chicago
BEGIN:DAYLIGHT
TZOFFSETFROM:-0600
TZOFFSETTO:-0500
TZNAME:CDT
DTSTART:20230312T080000
END:DAYLIGHT
BEGIN:STANDARD
TZOFFSETFROM:-0500
TZOFFSETTO:-0600
TZNAME:CST
DTSTART:20231105T070000
END:STANDARD
BEGIN:DAYLIGHT
TZOFFSETFROM:-0600
TZOFFSETTO:-0500
TZNAME:CDT
DTSTART:20240310T080000
END:DAYLIGHT
BEGIN:STANDARD
TZOFFSETFROM:-0500
TZOFFSETTO:-0600
TZNAME:CST
DTSTART:20241103T070000
END:STANDARD
BEGIN:DAYLIGHT
TZOFFSETFROM:-0600
TZOFFSETTO:-0500
TZNAME:CDT
DTSTART:20250309T080000
END:DAYLIGHT
BEGIN:STANDARD
TZOFFSETFROM:-0500
TZOFFSETTO:-0600
TZNAME:CST
DTSTART:20251102T070000
END:STANDARD
END:VTIMEZONE
BEGIN:VEVENT
DTSTART;TZID=America/Chicago:20240101T123000
DTEND;TZID=America/Chicago:20240101T170000
DTSTAMP:20260423T072352
CREATED:20231207T201742Z
LAST-MODIFIED:20231207T201743Z
UID:1798-1704112200-1704128400@chapters.theprimetimersww.com
SUMMARY:12:30 PM - Monday - New Years Potluck
DESCRIPTION:Join Us on New Years Day to see Paul’s home decorated for the Holidays. \nAnother potluck event is presented for the Christmas – New Years Holiday. This is also another chance to enjoy one while learning\nabout the history and designation of the Henry E. Ladd House historic landmark. The residence at Oak Grove Street is historically significant for its representation of Loring Park’s tenure as Minneapolis home for upper class families. It is the embodiment of Richardsonian Romanesque architecture\, its association with master architect Harry Wild Jones and its association with Henry Ladd. These four areas of significance are interrelated. Paul Mittelstadt\, the current owner\, and our Prime Timers host has rehabilitated this home with great detail. And now you can hear the amazing story. \nWhen: Monday\, January 1st\, 2024\n12:30 pm – Social\, First Floor House Tour and Discussion\n1:00 pm – New Years Potluck Dinner\n– Turkey will be provided. \nWhere: Paul Mittelstadt’s Home\nMinneapolis\, MN 55403 \nFREE Street Parking and at Plymouth Congregational Church Lot – 3 blocks away at LaSalle and Franklin.\nCarpooling Is recommended.\nThere Will Be a Limit of 50 Attendees at This Event. To preserve the wood floor\, this will be a shoeless event. Leave Shoes at Front Entrance.\nPlease Wear Socks or Bring Slippers. \nA-G last names\, please bring a salad or side dish. H-M last names\, please bring a dessert.\nN-Z last names\, please bring an appetizer. \nContact Bob at info@primetimersmsp.com by December 26th if you plan on attending.
URL:https://chapters.theprimetimersww.com/minneapolisstpaul/event/1230-pm-monday-new-years-potluck/
ATTACH;FMTTYPE=image/jpeg:https://chapters.theprimetimersww.com/minneapolisstpaul/wp-content/uploads/2020/02/Apps.jpg
END:VEVENT
END:VCALENDAR