BEGIN:VCALENDAR
VERSION:2.0
PRODID:-//Prime Timers Minneapolis - St. Paul - ECPv6.15.20//NONSGML v1.0//EN
CALSCALE:GREGORIAN
METHOD:PUBLISH
X-ORIGINAL-URL:https://chapters.theprimetimersww.com/minneapolisstpaul
X-WR-CALDESC:Events for Prime Timers Minneapolis - St. Paul
REFRESH-INTERVAL;VALUE=DURATION:PT1H
X-Robots-Tag:noindex
X-PUBLISHED-TTL:PT1H
BEGIN:VTIMEZONE
TZID:America/Chicago
BEGIN:DAYLIGHT
TZOFFSETFROM:-0600
TZOFFSETTO:-0500
TZNAME:CDT
DTSTART:20230312T080000
END:DAYLIGHT
BEGIN:STANDARD
TZOFFSETFROM:-0500
TZOFFSETTO:-0600
TZNAME:CST
DTSTART:20231105T070000
END:STANDARD
BEGIN:DAYLIGHT
TZOFFSETFROM:-0600
TZOFFSETTO:-0500
TZNAME:CDT
DTSTART:20240310T080000
END:DAYLIGHT
BEGIN:STANDARD
TZOFFSETFROM:-0500
TZOFFSETTO:-0600
TZNAME:CST
DTSTART:20241103T070000
END:STANDARD
BEGIN:DAYLIGHT
TZOFFSETFROM:-0600
TZOFFSETTO:-0500
TZNAME:CDT
DTSTART:20250309T080000
END:DAYLIGHT
BEGIN:STANDARD
TZOFFSETFROM:-0500
TZOFFSETTO:-0600
TZNAME:CST
DTSTART:20251102T070000
END:STANDARD
END:VTIMEZONE
BEGIN:VEVENT
DTSTART;TZID=America/Chicago:20241027T183000
DTEND;TZID=America/Chicago:20241027T203000
DTSTAMP:20260420T032028
CREATED:20241002T014106Z
LAST-MODIFIED:20241002T014106Z
UID:2080-1730053800-1730061000@chapters.theprimetimersww.com
SUMMARY:6:30 PM - Sunday - A Night Out in October
DESCRIPTION:It is a night out and the date is Sunday\, October 27th at 6:30 pm at: \n\n\n\n\nMancini’s Char House\n531 – 7th Street West\nSt. Paul\, MN\n(at Goodhue St.\, MTC Route 54 & 74). \n\n\n\n\nSuperb Steaks with Amazing Atmosphere; Off- Street Parking\, too. Please txt Terry if you are attending; If over 29 individuals attend\, a private dining room will be ours. Again\, it is important to RSVP by contact Terry by email here \n\n\n\n\nIt permits the restaurant to properly prepare for our visit
URL:https://chapters.theprimetimersww.com/minneapolisstpaul/event/630-pm-sunday-a-night-out-in-october/
LOCATION:Mancini’s Char House\, 531 7th Street West\, St. Paul\, MN\, United States
ATTACH;FMTTYPE=image/jpeg:https://chapters.theprimetimersww.com/minneapolisstpaul/wp-content/uploads/2019/10/DineOut.jpg
END:VEVENT
BEGIN:VEVENT
DTSTART;TZID=America/Chicago:20241102T090000
DTEND;TZID=America/Chicago:20241102T110000
DTSTAMP:20260420T032028
CREATED:20200129T013252Z
LAST-MODIFIED:20241101T000641Z
UID:2031-1730538000-1730545200@chapters.theprimetimersww.com
SUMMARY:9:00AM - Saturday - Maple Grove Breakfast
DESCRIPTION:Let’s meet up on Saturday February 1st at 9:00am at the The Original Pancake House (6322 Vinewood Ln N\, Maple Grove\, MN 55311\, Phone: 763-383-0888). This long- standing classic location for breakfasts never disappoints. From their website: “The Original Pancake House was voted by James Beard as one of the nation’s “Ten Best” breakfast restaurants in the category of “American’s Regional Classic Award.” Please RSVP with Duane by email here.
URL:https://chapters.theprimetimersww.com/minneapolisstpaul/event/900am-saturday-maple-grove-breakfast-2024-11-02/
LOCATION:The Original Pancake House\, 6322 Vinewood Lane N\, Maple Grove\, MN\, 55311\, United States
CATEGORIES:Monthly Recurring Events
ATTACH;FMTTYPE=image/jpeg:https://chapters.theprimetimersww.com/minneapolisstpaul/wp-content/uploads/2019/10/Breakfast.jpg
END:VEVENT
END:VCALENDAR