BEGIN:VCALENDAR
VERSION:2.0
PRODID:-//Pittsburgh PrimeTimers® - ECPv6.15.20//NONSGML v1.0//EN
CALSCALE:GREGORIAN
METHOD:PUBLISH
X-ORIGINAL-URL:https://chapters.theprimetimersww.com/pittsburgh
X-WR-CALDESC:Events for Pittsburgh PrimeTimers®
REFRESH-INTERVAL;VALUE=DURATION:PT1H
X-Robots-Tag:noindex
X-PUBLISHED-TTL:PT1H
BEGIN:VTIMEZONE
TZID:America/New_York
BEGIN:DAYLIGHT
TZOFFSETFROM:-0500
TZOFFSETTO:-0400
TZNAME:EDT
DTSTART:20250309T070000
END:DAYLIGHT
BEGIN:STANDARD
TZOFFSETFROM:-0400
TZOFFSETTO:-0500
TZNAME:EST
DTSTART:20251102T060000
END:STANDARD
BEGIN:DAYLIGHT
TZOFFSETFROM:-0500
TZOFFSETTO:-0400
TZNAME:EDT
DTSTART:20260308T070000
END:DAYLIGHT
BEGIN:STANDARD
TZOFFSETFROM:-0400
TZOFFSETTO:-0500
TZNAME:EST
DTSTART:20261101T060000
END:STANDARD
BEGIN:DAYLIGHT
TZOFFSETFROM:-0500
TZOFFSETTO:-0400
TZNAME:EDT
DTSTART:20270314T070000
END:DAYLIGHT
BEGIN:STANDARD
TZOFFSETFROM:-0400
TZOFFSETTO:-0500
TZNAME:EST
DTSTART:20271107T060000
END:STANDARD
END:VTIMEZONE
BEGIN:VEVENT
DTSTART;TZID=America/New_York:20260503T110000
DTEND;TZID=America/New_York:20260503T143000
DTSTAMP:20260420T205520
CREATED:20260420T192802Z
LAST-MODIFIED:20260420T192802Z
UID:5860-1777806000-1777818600@chapters.theprimetimersww.com
SUMMARY:Bike Riding
DESCRIPTION:Adventure Group Bike Ride \nEvent Details: \n\nWhat: A bike ride from Pittsburgh to Homestead\nWhen: Sunday\, May 3rd\, 2026 \nWe will gather at 11:00 AM \nParking: Near the Hot Metal Bridge or the lot on the 376E side of the river (final parking details will be announced before May 2rd).\n\nAdditional Information: \n\nThis is the first of many adventures planned for the summer and fall.\nThe route may follow parts of the Great Allegheny Passage (GAP)\, a popular trail connecting Pittsburgh to various scenic and historical locations. \n\nSuggestions for Participants: \n\nDust off your bike and ensure it’s in good condition for the ride.\nStay tuned for updates on the confirmed date and parking arrangements.
URL:https://chapters.theprimetimersww.com/pittsburgh/event/bike-riding/
CATEGORIES:Bicycling
ATTACH;FMTTYPE=image/jpeg:https://chapters.theprimetimersww.com/pittsburgh/wp-content/uploads/2026/04/oldermanonbike.jpg
END:VEVENT
END:VCALENDAR