BEGIN:VCALENDAR
VERSION:2.0
PRODID:-//Pittsburgh PrimeTimers® - ECPv6.15.20//NONSGML v1.0//EN
CALSCALE:GREGORIAN
METHOD:PUBLISH
X-ORIGINAL-URL:https://chapters.theprimetimersww.com/pittsburgh
X-WR-CALDESC:Events for Pittsburgh PrimeTimers®
REFRESH-INTERVAL;VALUE=DURATION:PT1H
X-Robots-Tag:noindex
X-PUBLISHED-TTL:PT1H
BEGIN:VTIMEZONE
TZID:America/New_York
BEGIN:DAYLIGHT
TZOFFSETFROM:-0500
TZOFFSETTO:-0400
TZNAME:EDT
DTSTART:20250309T070000
END:DAYLIGHT
BEGIN:STANDARD
TZOFFSETFROM:-0400
TZOFFSETTO:-0500
TZNAME:EST
DTSTART:20251102T060000
END:STANDARD
BEGIN:DAYLIGHT
TZOFFSETFROM:-0500
TZOFFSETTO:-0400
TZNAME:EDT
DTSTART:20260308T070000
END:DAYLIGHT
BEGIN:STANDARD
TZOFFSETFROM:-0400
TZOFFSETTO:-0500
TZNAME:EST
DTSTART:20261101T060000
END:STANDARD
BEGIN:DAYLIGHT
TZOFFSETFROM:-0500
TZOFFSETTO:-0400
TZNAME:EDT
DTSTART:20270314T070000
END:DAYLIGHT
BEGIN:STANDARD
TZOFFSETFROM:-0400
TZOFFSETTO:-0500
TZNAME:EST
DTSTART:20271107T060000
END:STANDARD
END:VTIMEZONE
BEGIN:VEVENT
DTSTART;TZID=America/New_York:20260503T110000
DTEND;TZID=America/New_York:20260503T143000
DTSTAMP:20260421T004311
CREATED:20260420T192802Z
LAST-MODIFIED:20260420T192802Z
UID:5860-1777806000-1777818600@chapters.theprimetimersww.com
SUMMARY:Bike Riding
DESCRIPTION:The Man\, the Cars\, the Races\, and the personal and professional struggles of Enzo Ferrari\, the Italian founder of the car manufacturer Ferrari S.p.A.\, during the summer of 1957. Ferrari was selected to compete for the Golden Lion at the 80th Venice International Film Festival\, where it premiered on August 31\, 2023. It is scheduled to be released in the United States on December 25\, 2023\, by Neon.  Director: Michael MannStaring: Adam Driver and Penelope Cruz 								\n				\n					\n		\n				\n			\n						\n				\n																														\n				\n					\n		\n					\n		\n				\n						\n					\n			\n						\n				\n									AMC Waterfront 22300 W Waterfront Drive\, West Homestead\, PA 15120Purchase tickets for the 1:20 p.m. show in rows G or H so we can sit together.
URL:https://chapters.theprimetimersww.com/pittsburgh/event/bike-riding/
CATEGORIES:Bicycling
ATTACH;FMTTYPE=image/jpeg:https://chapters.theprimetimersww.com/pittsburgh/wp-content/uploads/2026/04/oldermanonbike.jpg
END:VEVENT
BEGIN:VEVENT
DTSTART;TZID=America/New_York:20260504T170000
DTEND;TZID=America/New_York:20260504T183000
DTSTAMP:20260421T004311
CREATED:20260405T222340Z
LAST-MODIFIED:20260405T222340Z
UID:5775-1777914000-1777919400@chapters.theprimetimersww.com
SUMMARY:Monday Night Bowling
DESCRIPTION:The Man\, the Cars\, the Races\, and the personal and professional struggles of Enzo Ferrari\, the Italian founder of the car manufacturer Ferrari S.p.A.\, during the summer of 1957. Ferrari was selected to compete for the Golden Lion at the 80th Venice International Film Festival\, where it premiered on August 31\, 2023. It is scheduled to be released in the United States on December 25\, 2023\, by Neon.  Director: Michael MannStaring: Adam Driver and Penelope Cruz 								\n				\n					\n		\n				\n			\n						\n				\n																														\n				\n					\n		\n					\n		\n				\n						\n					\n			\n						\n				\n									AMC Waterfront 22300 W Waterfront Drive\, West Homestead\, PA 15120Purchase tickets for the 1:20 p.m. show in rows G or H so we can sit together.
URL:https://chapters.theprimetimersww.com/pittsburgh/event/monday-night-bowling-4/
CATEGORIES:bowling
ATTACH;FMTTYPE=image/png:https://chapters.theprimetimersww.com/pittsburgh/wp-content/uploads/2025/09/bowling2.png
END:VEVENT
BEGIN:VEVENT
DTSTART;TZID=America/New_York:20260509T123000
DTEND;TZID=America/New_York:20260509T173000
DTSTAMP:20260421T004311
CREATED:20260407T222326Z
LAST-MODIFIED:20260407T222326Z
UID:5786-1778329800-1778347800@chapters.theprimetimersww.com
SUMMARY:May's PaintPark
DESCRIPTION:The Man\, the Cars\, the Races\, and the personal and professional struggles of Enzo Ferrari\, the Italian founder of the car manufacturer Ferrari S.p.A.\, during the summer of 1957. Ferrari was selected to compete for the Golden Lion at the 80th Venice International Film Festival\, where it premiered on August 31\, 2023. It is scheduled to be released in the United States on December 25\, 2023\, by Neon.  Director: Michael MannStaring: Adam Driver and Penelope Cruz 								\n				\n					\n		\n				\n			\n						\n				\n																														\n				\n					\n		\n					\n		\n				\n						\n					\n			\n						\n				\n									AMC Waterfront 22300 W Waterfront Drive\, West Homestead\, PA 15120Purchase tickets for the 1:20 p.m. show in rows G or H so we can sit together.
URL:https://chapters.theprimetimersww.com/pittsburgh/event/mays-paintpark/
LOCATION:Steeltown Paint Park\, 2 Willow Ave\, oakdale\, PA\, 15071\, United States
CATEGORIES:Special Event
ATTACH;FMTTYPE=image/webp:https://chapters.theprimetimersww.com/pittsburgh/wp-content/uploads/2025/12/Steeltown.webp
END:VEVENT
BEGIN:VEVENT
DTSTART;TZID=America/New_York:20260513T100000
DTEND;TZID=America/New_York:20260513T123000
DTSTAMP:20260421T004311
CREATED:20260215T172206Z
LAST-MODIFIED:20260215T172206Z
UID:5711-1778666400-1778675400@chapters.theprimetimersww.com
SUMMARY:May's Coffee Nook
DESCRIPTION:The Man\, the Cars\, the Races\, and the personal and professional struggles of Enzo Ferrari\, the Italian founder of the car manufacturer Ferrari S.p.A.\, during the summer of 1957. Ferrari was selected to compete for the Golden Lion at the 80th Venice International Film Festival\, where it premiered on August 31\, 2023. It is scheduled to be released in the United States on December 25\, 2023\, by Neon.  Director: Michael MannStaring: Adam Driver and Penelope Cruz 								\n				\n					\n		\n				\n			\n						\n				\n																														\n				\n					\n		\n					\n		\n				\n						\n					\n			\n						\n				\n									AMC Waterfront 22300 W Waterfront Drive\, West Homestead\, PA 15120Purchase tickets for the 1:20 p.m. show in rows G or H so we can sit together.
URL:https://chapters.theprimetimersww.com/pittsburgh/event/mays-coffee-nook/
LOCATION:Panera Bread Waterworks PA\, 942 Freeport Road\, Pittsburgh\, PA\, United States
CATEGORIES:coffee event
ATTACH;FMTTYPE=image/avif:https://chapters.theprimetimersww.com/pittsburgh/wp-content/uploads/2026/02/Panarabread.avif
END:VEVENT
BEGIN:VEVENT
DTSTART;TZID=America/New_York:20260516T113000
DTEND;TZID=America/New_York:20260516T143000
DTSTAMP:20260421T004311
CREATED:20260412T152606Z
LAST-MODIFIED:20260412T152606Z
UID:5816-1778931000-1778941800@chapters.theprimetimersww.com
SUMMARY:May's Walking Event
DESCRIPTION:The Man\, the Cars\, the Races\, and the personal and professional struggles of Enzo Ferrari\, the Italian founder of the car manufacturer Ferrari S.p.A.\, during the summer of 1957. Ferrari was selected to compete for the Golden Lion at the 80th Venice International Film Festival\, where it premiered on August 31\, 2023. It is scheduled to be released in the United States on December 25\, 2023\, by Neon.  Director: Michael MannStaring: Adam Driver and Penelope Cruz 								\n				\n					\n		\n				\n			\n						\n				\n																														\n				\n					\n		\n					\n		\n				\n						\n					\n			\n						\n				\n									AMC Waterfront 22300 W Waterfront Drive\, West Homestead\, PA 15120Purchase tickets for the 1:20 p.m. show in rows G or H so we can sit together.
URL:https://chapters.theprimetimersww.com/pittsburgh/event/mays-walking-event/
LOCATION:Roberto Clemente Bridge\, Sixth Street\, Pittsburgh\, United States
CATEGORIES:Walking
ATTACH;FMTTYPE=image/webp:https://chapters.theprimetimersww.com/pittsburgh/wp-content/uploads/2026/04/landpark.webp
END:VEVENT
BEGIN:VEVENT
DTSTART;TZID=America/New_York:20260519T173000
DTEND;TZID=America/New_York:20260519T190000
DTSTAMP:20260421T004311
CREATED:20260410T013146Z
LAST-MODIFIED:20260410T013146Z
UID:5810-1779211800-1779217200@chapters.theprimetimersww.com
SUMMARY:Happy Hour for May
DESCRIPTION:The Man\, the Cars\, the Races\, and the personal and professional struggles of Enzo Ferrari\, the Italian founder of the car manufacturer Ferrari S.p.A.\, during the summer of 1957. Ferrari was selected to compete for the Golden Lion at the 80th Venice International Film Festival\, where it premiered on August 31\, 2023. It is scheduled to be released in the United States on December 25\, 2023\, by Neon.  Director: Michael MannStaring: Adam Driver and Penelope Cruz 								\n				\n					\n		\n				\n			\n						\n				\n																														\n				\n					\n		\n					\n		\n				\n						\n					\n			\n						\n				\n									AMC Waterfront 22300 W Waterfront Drive\, West Homestead\, PA 15120Purchase tickets for the 1:20 p.m. show in rows G or H so we can sit together.
URL:https://chapters.theprimetimersww.com/pittsburgh/event/happy-hour-for-may/
LOCATION:Blue Moon\, 5115  Butler St\, Pittsburgh\, PA\, 15201\, United States
CATEGORIES:Bar/lounge
ATTACH;FMTTYPE=image/png:https://chapters.theprimetimersww.com/pittsburgh/wp-content/uploads/2025/04/blue-moon222.png
END:VEVENT
BEGIN:VEVENT
DTSTART;TZID=America/New_York:20260521T183000
DTEND;TZID=America/New_York:20260521T203000
DTSTAMP:20260421T004311
CREATED:20260418T022923Z
LAST-MODIFIED:20260418T022923Z
UID:5842-1779388200-1779395400@chapters.theprimetimersww.com
SUMMARY:Dine Out - Bravo! Italian Kitchen
DESCRIPTION:The Man\, the Cars\, the Races\, and the personal and professional struggles of Enzo Ferrari\, the Italian founder of the car manufacturer Ferrari S.p.A.\, during the summer of 1957. Ferrari was selected to compete for the Golden Lion at the 80th Venice International Film Festival\, where it premiered on August 31\, 2023. It is scheduled to be released in the United States on December 25\, 2023\, by Neon.  Director: Michael MannStaring: Adam Driver and Penelope Cruz 								\n				\n					\n		\n				\n			\n						\n				\n																														\n				\n					\n		\n					\n		\n				\n						\n					\n			\n						\n				\n									AMC Waterfront 22300 W Waterfront Drive\, West Homestead\, PA 15120Purchase tickets for the 1:20 p.m. show in rows G or H so we can sit together.
URL:https://chapters.theprimetimersww.com/pittsburgh/event/dine-out-bravo-italian-kitchen/
LOCATION:Bravo! Italian Kitchen\, 4976 McKnight Road\, Pittsburgh\, PA\, 15237
ATTACH;FMTTYPE=image/png:https://chapters.theprimetimersww.com/pittsburgh/wp-content/uploads/2022/10/Screenshot-2026-04-17-222252.png
ORGANIZER;CN="Ron S.":MAILTO:smutny7@aol.com
END:VEVENT
BEGIN:VEVENT
DTSTART;TZID=America/New_York:20260601T120000
DTEND;TZID=America/New_York:20260601T173000
DTSTAMP:20260421T004311
CREATED:20260420T192941Z
LAST-MODIFIED:20260420T204514Z
UID:5856-1780315200-1780335000@chapters.theprimetimersww.com
SUMMARY:White Water Rafting
DESCRIPTION:The Man\, the Cars\, the Races\, and the personal and professional struggles of Enzo Ferrari\, the Italian founder of the car manufacturer Ferrari S.p.A.\, during the summer of 1957. Ferrari was selected to compete for the Golden Lion at the 80th Venice International Film Festival\, where it premiered on August 31\, 2023. It is scheduled to be released in the United States on December 25\, 2023\, by Neon.  Director: Michael MannStaring: Adam Driver and Penelope Cruz 								\n				\n					\n		\n				\n			\n						\n				\n																														\n				\n					\n		\n					\n		\n				\n						\n					\n			\n						\n				\n									AMC Waterfront 22300 W Waterfront Drive\, West Homestead\, PA 15120Purchase tickets for the 1:20 p.m. show in rows G or H so we can sit together.
URL:https://chapters.theprimetimersww.com/pittsburgh/event/white-water-rafting/
LOCATION:Whitewater Adventure Inc.\, 6 Negley st\, Ohiopyle\, 15740\, United States
CATEGORIES:Special Event
ATTACH;FMTTYPE=image/jpeg:https://chapters.theprimetimersww.com/pittsburgh/wp-content/uploads/2026/04/whiewater.jpg
END:VEVENT
BEGIN:VEVENT
DTSTART;TZID=America/New_York:20260601T170000
DTEND;TZID=America/New_York:20260601T190000
DTSTAMP:20260421T004311
CREATED:20260414T200009Z
LAST-MODIFIED:20260414T200009Z
UID:5824-1780333200-1780340400@chapters.theprimetimersww.com
SUMMARY:Monday Night Bowling
DESCRIPTION:The Man\, the Cars\, the Races\, and the personal and professional struggles of Enzo Ferrari\, the Italian founder of the car manufacturer Ferrari S.p.A.\, during the summer of 1957. Ferrari was selected to compete for the Golden Lion at the 80th Venice International Film Festival\, where it premiered on August 31\, 2023. It is scheduled to be released in the United States on December 25\, 2023\, by Neon.  Director: Michael MannStaring: Adam Driver and Penelope Cruz 								\n				\n					\n		\n				\n			\n						\n				\n																														\n				\n					\n		\n					\n		\n				\n						\n					\n			\n						\n				\n									AMC Waterfront 22300 W Waterfront Drive\, West Homestead\, PA 15120Purchase tickets for the 1:20 p.m. show in rows G or H so we can sit together.
URL:https://chapters.theprimetimersww.com/pittsburgh/event/monday-night-bowling-9/
LOCATION:Crafton Ingram Bowling lanes\, 252 Crafton Ingram Shopping Center\, Pittsburgh\, PA\, 15205\, United States
CATEGORIES:bowling
END:VEVENT
BEGIN:VEVENT
DTSTART;TZID=America/New_York:20260605T110000
DTEND;TZID=America/New_York:20260605T170000
DTSTAMP:20260421T004311
CREATED:20260414T195917Z
LAST-MODIFIED:20260419T045837Z
UID:5826-1780657200-1780678800@chapters.theprimetimersww.com
SUMMARY:Day Trip to Newell WV
DESCRIPTION:The Man\, the Cars\, the Races\, and the personal and professional struggles of Enzo Ferrari\, the Italian founder of the car manufacturer Ferrari S.p.A.\, during the summer of 1957. Ferrari was selected to compete for the Golden Lion at the 80th Venice International Film Festival\, where it premiered on August 31\, 2023. It is scheduled to be released in the United States on December 25\, 2023\, by Neon.  Director: Michael MannStaring: Adam Driver and Penelope Cruz 								\n				\n					\n		\n				\n			\n						\n				\n																														\n				\n					\n		\n					\n		\n				\n						\n					\n			\n						\n				\n									AMC Waterfront 22300 W Waterfront Drive\, West Homestead\, PA 15120Purchase tickets for the 1:20 p.m. show in rows G or H so we can sit together.
URL:https://chapters.theprimetimersww.com/pittsburgh/event/day-trip-to-newell-wv/
LOCATION:Fiestaware Newell\, WV\, 672 Fiesta Drive\, Newell\, WV\, United States
CATEGORIES:Special Event
ATTACH;FMTTYPE=image/webp:https://chapters.theprimetimersww.com/pittsburgh/wp-content/uploads/2026/04/factory.webp
END:VEVENT
BEGIN:VEVENT
DTSTART;TZID=America/New_York:20260610T100000
DTEND;TZID=America/New_York:20260610T123000
DTSTAMP:20260421T004311
CREATED:20260301T183135Z
LAST-MODIFIED:20260301T183135Z
UID:5699-1781085600-1781094600@chapters.theprimetimersww.com
SUMMARY:June's Coffee Nook
DESCRIPTION:The Man\, the Cars\, the Races\, and the personal and professional struggles of Enzo Ferrari\, the Italian founder of the car manufacturer Ferrari S.p.A.\, during the summer of 1957. Ferrari was selected to compete for the Golden Lion at the 80th Venice International Film Festival\, where it premiered on August 31\, 2023. It is scheduled to be released in the United States on December 25\, 2023\, by Neon.  Director: Michael MannStaring: Adam Driver and Penelope Cruz 								\n				\n					\n		\n				\n			\n						\n				\n																														\n				\n					\n		\n					\n		\n				\n						\n					\n			\n						\n				\n									AMC Waterfront 22300 W Waterfront Drive\, West Homestead\, PA 15120Purchase tickets for the 1:20 p.m. show in rows G or H so we can sit together.
URL:https://chapters.theprimetimersww.com/pittsburgh/event/junes-coffee-nook/
LOCATION:Shibam  Coffee Co.\, 4630 Centre Ave\, Pittsburgh\, 15213\, United States
CATEGORIES:coffee event
ATTACH;FMTTYPE=image/webp:https://chapters.theprimetimersww.com/pittsburgh/wp-content/uploads/2026/02/Shibam.webp
END:VEVENT
BEGIN:VEVENT
DTSTART;TZID=America/New_York:20260613T123000
DTEND;TZID=America/New_York:20260613T163000
DTSTAMP:20260421T004311
CREATED:20260414T200142Z
LAST-MODIFIED:20260414T200142Z
UID:5821-1781353800-1781368200@chapters.theprimetimersww.com
SUMMARY:2026 Pride
DESCRIPTION:The Man\, the Cars\, the Races\, and the personal and professional struggles of Enzo Ferrari\, the Italian founder of the car manufacturer Ferrari S.p.A.\, during the summer of 1957. Ferrari was selected to compete for the Golden Lion at the 80th Venice International Film Festival\, where it premiered on August 31\, 2023. It is scheduled to be released in the United States on December 25\, 2023\, by Neon.  Director: Michael MannStaring: Adam Driver and Penelope Cruz 								\n				\n					\n		\n				\n			\n						\n				\n																														\n				\n					\n		\n					\n		\n				\n						\n					\n			\n						\n				\n									AMC Waterfront 22300 W Waterfront Drive\, West Homestead\, PA 15120Purchase tickets for the 1:20 p.m. show in rows G or H so we can sit together.
URL:https://chapters.theprimetimersww.com/pittsburgh/event/2026-pride/
LOCATION:Blue Moon Bar\, Blue Moon Gay Bar
CATEGORIES:festival
ATTACH;FMTTYPE=image/jpeg:https://chapters.theprimetimersww.com/pittsburgh/wp-content/uploads/2026/04/2026pride.jpg
END:VEVENT
BEGIN:VEVENT
DTSTART;TZID=America/New_York:20260618T183000
DTEND;TZID=America/New_York:20260618T190000
DTSTAMP:20260421T004311
CREATED:20260420T202606Z
LAST-MODIFIED:20260420T202931Z
UID:5836-1781807400-1781809200@chapters.theprimetimersww.com
SUMMARY:June's Dine Out
DESCRIPTION:The Man\, the Cars\, the Races\, and the personal and professional struggles of Enzo Ferrari\, the Italian founder of the car manufacturer Ferrari S.p.A.\, during the summer of 1957. Ferrari was selected to compete for the Golden Lion at the 80th Venice International Film Festival\, where it premiered on August 31\, 2023. It is scheduled to be released in the United States on December 25\, 2023\, by Neon.  Director: Michael MannStaring: Adam Driver and Penelope Cruz 								\n				\n					\n		\n				\n			\n						\n				\n																														\n				\n					\n		\n					\n		\n				\n						\n					\n			\n						\n				\n									AMC Waterfront 22300 W Waterfront Drive\, West Homestead\, PA 15120Purchase tickets for the 1:20 p.m. show in rows G or H so we can sit together.
URL:https://chapters.theprimetimersww.com/pittsburgh/event/junes-dine-out/
LOCATION:Noodlehead\, 242 South Highla2nd Ave\, Pittsburgh\, PA\, 15206\, United States
CATEGORIES:Dineout
END:VEVENT
BEGIN:VEVENT
DTSTART;TZID=America/New_York:20260725T100000
DTEND;TZID=America/New_York:20260725T120000
DTSTAMP:20260421T004311
CREATED:20221204T153129Z
LAST-MODIFIED:20260410T013401Z
UID:5794-1784973600-1784980800@chapters.theprimetimersww.com
SUMMARY:Breakfast at Ritter's
DESCRIPTION:The Man\, the Cars\, the Races\, and the personal and professional struggles of Enzo Ferrari\, the Italian founder of the car manufacturer Ferrari S.p.A.\, during the summer of 1957. Ferrari was selected to compete for the Golden Lion at the 80th Venice International Film Festival\, where it premiered on August 31\, 2023. It is scheduled to be released in the United States on December 25\, 2023\, by Neon.  Director: Michael MannStaring: Adam Driver and Penelope Cruz 								\n				\n					\n		\n				\n			\n						\n				\n																														\n				\n					\n		\n					\n		\n				\n						\n					\n			\n						\n				\n									AMC Waterfront 22300 W Waterfront Drive\, West Homestead\, PA 15120Purchase tickets for the 1:20 p.m. show in rows G or H so we can sit together.
URL:https://chapters.theprimetimersww.com/pittsburgh/event/breakfast-at-ritters-2026-07-25/
LOCATION:Ritter’s Diner\, 5221 Baum Boulevard\, Pittsburgh\, PA\, 15224\, United States
ATTACH;FMTTYPE=image/png:https://chapters.theprimetimersww.com/pittsburgh/wp-content/uploads/2022/12/breakfast.png
END:VEVENT
END:VCALENDAR