BEGIN:VCALENDAR
VERSION:2.0
PRODID:-//Pittsburgh PrimeTimers® - ECPv6.15.20//NONSGML v1.0//EN
CALSCALE:GREGORIAN
METHOD:PUBLISH
X-WR-CALNAME:Pittsburgh PrimeTimers®
X-ORIGINAL-URL:https://chapters.theprimetimersww.com/pittsburgh
X-WR-CALDESC:Events for Pittsburgh PrimeTimers®
REFRESH-INTERVAL;VALUE=DURATION:PT1H
X-Robots-Tag:noindex
X-PUBLISHED-TTL:PT1H
BEGIN:VTIMEZONE
TZID:UTC
BEGIN:STANDARD
TZOFFSETFROM:+0000
TZOFFSETTO:+0000
TZNAME:UTC
DTSTART:20180101T000000
END:STANDARD
END:VTIMEZONE
BEGIN:VTIMEZONE
TZID:America/New_York
BEGIN:DAYLIGHT
TZOFFSETFROM:-0500
TZOFFSETTO:-0400
TZNAME:EDT
DTSTART:20180311T070000
END:DAYLIGHT
BEGIN:STANDARD
TZOFFSETFROM:-0400
TZOFFSETTO:-0500
TZNAME:EST
DTSTART:20181104T060000
END:STANDARD
BEGIN:DAYLIGHT
TZOFFSETFROM:-0500
TZOFFSETTO:-0400
TZNAME:EDT
DTSTART:20190310T070000
END:DAYLIGHT
BEGIN:STANDARD
TZOFFSETFROM:-0400
TZOFFSETTO:-0500
TZNAME:EST
DTSTART:20191103T060000
END:STANDARD
BEGIN:DAYLIGHT
TZOFFSETFROM:-0500
TZOFFSETTO:-0400
TZNAME:EDT
DTSTART:20200308T070000
END:DAYLIGHT
BEGIN:STANDARD
TZOFFSETFROM:-0400
TZOFFSETTO:-0500
TZNAME:EST
DTSTART:20201101T060000
END:STANDARD
END:VTIMEZONE
BEGIN:VEVENT
DTSTART;VALUE=DATE:20191029
DTEND;VALUE=DATE:20191103
DTSTAMP:20260425T222238
CREATED:20191009T021619Z
LAST-MODIFIED:20191011T230832Z
UID:70-1572307200-1572739199@chapters.theprimetimersww.com
SUMMARY:Prime Timers World Wide Convention in San Antonio
DESCRIPTION:Pittsburgh PrimeTimers® is excited to extend an invitation to join us at The National Aviary\, located on the vibrant North Side of Pittsburgh. As the only independent indoor nonprofit aviary in the United States\, The National Aviary offers a unique and unforgettable experience for all visitors. 								\n				\n					\n		\n					\n		\n				\n						\n					\n			\n						\n				\n									The National Aviary holds a special place in the country’s avian conservation efforts. With its honorary “national” status bestowed by the United States Congress\, The Aviary proudly serves as the largest aviary in the nation. Offering unique and up-close experiences with over 500 birds\, visitors have the opportunity to fully immerse themselves in the beauty and diversity of avian life. We encourage you to join us at The National Aviary and discover the wonders of our feathered friends in a one-of-a-kind setting. Saturday\, February 3rd from 2:00PM – 4:00PM
URL:https://chapters.theprimetimersww.com/pittsburgh/event/prime-timers-world-wide-convention-in-san-antonio/
LOCATION:El Tropicano Riverwalk Hotel\, 110 Lexington Avenue\, San Antonio\, TX\, 78205\, United States
END:VEVENT
BEGIN:VEVENT
DTSTART;TZID=America/New_York:20191020T150000
DTEND;TZID=America/New_York:20191020T180000
DTSTAMP:20260425T222238
CREATED:20191009T020356Z
LAST-MODIFIED:20191012T205047Z
UID:65-1571583600-1571594400@chapters.theprimetimersww.com
SUMMARY:3:00 PM Potluck & a Movie at Persad Center - No RSVP
DESCRIPTION:Pittsburgh PrimeTimers® is excited to extend an invitation to join us at The National Aviary\, located on the vibrant North Side of Pittsburgh. As the only independent indoor nonprofit aviary in the United States\, The National Aviary offers a unique and unforgettable experience for all visitors. 								\n				\n					\n		\n					\n		\n				\n						\n					\n			\n						\n				\n									The National Aviary holds a special place in the country’s avian conservation efforts. With its honorary “national” status bestowed by the United States Congress\, The Aviary proudly serves as the largest aviary in the nation. Offering unique and up-close experiences with over 500 birds\, visitors have the opportunity to fully immerse themselves in the beauty and diversity of avian life. We encourage you to join us at The National Aviary and discover the wonders of our feathered friends in a one-of-a-kind setting. Saturday\, February 3rd from 2:00PM – 4:00PM
URL:https://chapters.theprimetimersww.com/pittsburgh/event/300pm-sunday-potluck-buffet-at-the-persad-center-no-rsvp/
LOCATION:Persad Center\, 5301 Butler Street\, Pittsburgh\, PA\, 15201\, United States
END:VEVENT
END:VCALENDAR