BEGIN:VCALENDAR
VERSION:2.0
PRODID:-//Pittsburgh PrimeTimers® - ECPv6.15.20//NONSGML v1.0//EN
CALSCALE:GREGORIAN
METHOD:PUBLISH
X-ORIGINAL-URL:https://chapters.theprimetimersww.com/pittsburgh
X-WR-CALDESC:Events for Pittsburgh PrimeTimers®
REFRESH-INTERVAL;VALUE=DURATION:PT1H
X-Robots-Tag:noindex
X-PUBLISHED-TTL:PT1H
BEGIN:VTIMEZONE
TZID:America/New_York
BEGIN:DAYLIGHT
TZOFFSETFROM:-0500
TZOFFSETTO:-0400
TZNAME:EDT
DTSTART:20180311T070000
END:DAYLIGHT
BEGIN:STANDARD
TZOFFSETFROM:-0400
TZOFFSETTO:-0500
TZNAME:EST
DTSTART:20181104T060000
END:STANDARD
BEGIN:DAYLIGHT
TZOFFSETFROM:-0500
TZOFFSETTO:-0400
TZNAME:EDT
DTSTART:20190310T070000
END:DAYLIGHT
BEGIN:STANDARD
TZOFFSETFROM:-0400
TZOFFSETTO:-0500
TZNAME:EST
DTSTART:20191103T060000
END:STANDARD
BEGIN:DAYLIGHT
TZOFFSETFROM:-0500
TZOFFSETTO:-0400
TZNAME:EDT
DTSTART:20200308T070000
END:DAYLIGHT
BEGIN:STANDARD
TZOFFSETFROM:-0400
TZOFFSETTO:-0500
TZNAME:EST
DTSTART:20201101T060000
END:STANDARD
BEGIN:DAYLIGHT
TZOFFSETFROM:-0500
TZOFFSETTO:-0400
TZNAME:EDT
DTSTART:20210314T070000
END:DAYLIGHT
BEGIN:STANDARD
TZOFFSETFROM:-0400
TZOFFSETTO:-0500
TZNAME:EST
DTSTART:20211107T060000
END:STANDARD
BEGIN:DAYLIGHT
TZOFFSETFROM:-0500
TZOFFSETTO:-0400
TZNAME:EDT
DTSTART:20220313T070000
END:DAYLIGHT
BEGIN:STANDARD
TZOFFSETFROM:-0400
TZOFFSETTO:-0500
TZNAME:EST
DTSTART:20221106T060000
END:STANDARD
BEGIN:DAYLIGHT
TZOFFSETFROM:-0500
TZOFFSETTO:-0400
TZNAME:EDT
DTSTART:20230312T070000
END:DAYLIGHT
BEGIN:STANDARD
TZOFFSETFROM:-0400
TZOFFSETTO:-0500
TZNAME:EST
DTSTART:20231105T060000
END:STANDARD
END:VTIMEZONE
BEGIN:VTIMEZONE
TZID:UTC
BEGIN:STANDARD
TZOFFSETFROM:+0000
TZOFFSETTO:+0000
TZNAME:UTC
DTSTART:20180101T000000
END:STANDARD
END:VTIMEZONE
BEGIN:VTIMEZONE
TZID:America/Halifax
BEGIN:DAYLIGHT
TZOFFSETFROM:-0400
TZOFFSETTO:-0300
TZNAME:ADT
DTSTART:20180311T060000
END:DAYLIGHT
BEGIN:STANDARD
TZOFFSETFROM:-0300
TZOFFSETTO:-0400
TZNAME:AST
DTSTART:20181104T050000
END:STANDARD
BEGIN:DAYLIGHT
TZOFFSETFROM:-0400
TZOFFSETTO:-0300
TZNAME:ADT
DTSTART:20190310T060000
END:DAYLIGHT
BEGIN:STANDARD
TZOFFSETFROM:-0300
TZOFFSETTO:-0400
TZNAME:AST
DTSTART:20191103T050000
END:STANDARD
BEGIN:DAYLIGHT
TZOFFSETFROM:-0400
TZOFFSETTO:-0300
TZNAME:ADT
DTSTART:20200308T060000
END:DAYLIGHT
BEGIN:STANDARD
TZOFFSETFROM:-0300
TZOFFSETTO:-0400
TZNAME:AST
DTSTART:20201101T050000
END:STANDARD
END:VTIMEZONE
BEGIN:VEVENT
DTSTART;TZID=America/New_York:20220821T120000
DTEND;TZID=America/New_York:20220821T180000
DTSTAMP:20260422T095227
CREATED:20220729T193039Z
LAST-MODIFIED:20220729T193039Z
UID:1326-1661083200-1661104800@chapters.theprimetimersww.com
SUMMARY:End-of-Summer Celebration
DESCRIPTION:Join us for a drop dead gorgeous Halloween celebration On October 28th\, 2023 from 5:00PM-7:00PM\, at The Blue Moon Bar in Lawrenceville. We’ll be doing something different this year and will have lots of activities planned such as karaoke\, a costume contest and games. Bring your favorite goblin hors d’oeuvres and wear your best Halloween costume. Let’s celebrate this spooky season together with some delicious fun\, drinks and friendly faces! 								\n				\n					\n		\n					\n		\n				\n						\n					\n			\n						\n				\n									The Blue Moon5115 Butler Street Pittsburgh\, PA 15201								\n				\n					\n		\n				\n			\n						\n				\n																														\n				\n					\n		\n					\n		\n				\n						\n					\n			\n						\n				\n					Happy Halloween!!!!
URL:https://chapters.theprimetimersww.com/pittsburgh/event/end-of-summer-celebration/
LOCATION:PA
END:VEVENT
BEGIN:VEVENT
DTSTART;TZID=America/New_York:20220816T120000
DTEND;TZID=America/New_York:20220816T133000
DTSTAMP:20260422T095227
CREATED:20220717T202928Z
LAST-MODIFIED:20220812T142509Z
UID:1120-1660651200-1660656600@chapters.theprimetimersww.com
SUMMARY:PrimeTimers® World Wide Chapter Visit
DESCRIPTION:Join us for a drop dead gorgeous Halloween celebration On October 28th\, 2023 from 5:00PM-7:00PM\, at The Blue Moon Bar in Lawrenceville. We’ll be doing something different this year and will have lots of activities planned such as karaoke\, a costume contest and games. Bring your favorite goblin hors d’oeuvres and wear your best Halloween costume. Let’s celebrate this spooky season together with some delicious fun\, drinks and friendly faces! 								\n				\n					\n		\n					\n		\n				\n						\n					\n			\n						\n				\n									The Blue Moon5115 Butler Street Pittsburgh\, PA 15201								\n				\n					\n		\n				\n			\n						\n				\n																														\n				\n					\n		\n					\n		\n				\n						\n					\n			\n						\n				\n					Happy Halloween!!!!
URL:https://chapters.theprimetimersww.com/pittsburgh/event/primetimers-world-wide-chapter-visit/
LOCATION:Persad Center\, 5301 Butler Street\, Pittsburgh\, PA\, 15201\, United States
CATEGORIES:Special Event
END:VEVENT
BEGIN:VEVENT
DTSTART;TZID=America/New_York:20220807T200000
DTEND;TZID=America/New_York:20220807T200000
DTSTAMP:20260422T095227
CREATED:20220729T180256Z
LAST-MODIFIED:20220729T180256Z
UID:1322-1659902400-1659902400@chapters.theprimetimersww.com
SUMMARY:BLUE MOON 20TH ANNIVERSARY
DESCRIPTION:Join us for a drop dead gorgeous Halloween celebration On October 28th\, 2023 from 5:00PM-7:00PM\, at The Blue Moon Bar in Lawrenceville. We’ll be doing something different this year and will have lots of activities planned such as karaoke\, a costume contest and games. Bring your favorite goblin hors d’oeuvres and wear your best Halloween costume. Let’s celebrate this spooky season together with some delicious fun\, drinks and friendly faces! 								\n				\n					\n		\n					\n		\n				\n						\n					\n			\n						\n				\n									The Blue Moon5115 Butler Street Pittsburgh\, PA 15201								\n				\n					\n		\n				\n			\n						\n				\n																														\n				\n					\n		\n					\n		\n				\n						\n					\n			\n						\n				\n					Happy Halloween!!!!
URL:https://chapters.theprimetimersww.com/pittsburgh/event/blue-moon-20th-anniversary/
LOCATION:PA
CATEGORIES:Bar/lounge
END:VEVENT
BEGIN:VEVENT
DTSTART;TZID=America/New_York:20220716T120000
DTEND;TZID=America/New_York:20220716T170000
DTSTAMP:20260422T095227
CREATED:20220613T195804Z
LAST-MODIFIED:20220711T122242Z
UID:908-1657972800-1657990800@chapters.theprimetimersww.com
SUMMARY:Pittsburgh PrimeTimers Summer Picnic
DESCRIPTION:Join us for a drop dead gorgeous Halloween celebration On October 28th\, 2023 from 5:00PM-7:00PM\, at The Blue Moon Bar in Lawrenceville. We’ll be doing something different this year and will have lots of activities planned such as karaoke\, a costume contest and games. Bring your favorite goblin hors d’oeuvres and wear your best Halloween costume. Let’s celebrate this spooky season together with some delicious fun\, drinks and friendly faces! 								\n				\n					\n		\n					\n		\n				\n						\n					\n			\n						\n				\n									The Blue Moon5115 Butler Street Pittsburgh\, PA 15201								\n				\n					\n		\n				\n			\n						\n				\n																														\n				\n					\n		\n					\n		\n				\n						\n					\n			\n						\n				\n					Happy Halloween!!!!
URL:https://chapters.theprimetimersww.com/pittsburgh/event/pittsburgh-primetimerssummer-picnic/
LOCATION:Schenley Park-Prospect Shelter\, Prospect Drive\, Pittsburgh\, PA\, 15217\, United States
CATEGORIES:Picnic
END:VEVENT
BEGIN:VEVENT
DTSTART;TZID=America/New_York:20220605T170000
DTEND;TZID=America/New_York:20220605T210000
DTSTAMP:20260422T095227
CREATED:20220522T163641Z
LAST-MODIFIED:20220522T163641Z
UID:898-1654448400-1654462800@chapters.theprimetimersww.com
SUMMARY:Pride Party 2022
DESCRIPTION:Join us for a drop dead gorgeous Halloween celebration On October 28th\, 2023 from 5:00PM-7:00PM\, at The Blue Moon Bar in Lawrenceville. We’ll be doing something different this year and will have lots of activities planned such as karaoke\, a costume contest and games. Bring your favorite goblin hors d’oeuvres and wear your best Halloween costume. Let’s celebrate this spooky season together with some delicious fun\, drinks and friendly faces! 								\n				\n					\n		\n					\n		\n				\n						\n					\n			\n						\n				\n									The Blue Moon5115 Butler Street Pittsburgh\, PA 15201								\n				\n					\n		\n				\n			\n						\n				\n																														\n				\n					\n		\n					\n		\n				\n						\n					\n			\n						\n				\n					Happy Halloween!!!!
URL:https://chapters.theprimetimersww.com/pittsburgh/event/pride-party-2022/
LOCATION:Blue Moon\, 5115  Butler St\, Pittsburgh\, PA\, 15201\, United States
CATEGORIES:Bar/lounge
END:VEVENT
BEGIN:VEVENT
DTSTART;TZID=America/New_York:20211219T130000
DTEND;TZID=America/New_York:20211219T140000
DTSTAMP:20260422T095227
CREATED:20211209T122312Z
LAST-MODIFIED:20211209T122312Z
UID:725-1639918800-1639922400@chapters.theprimetimersww.com
SUMMARY:PPT Monthly Zoom Call
DESCRIPTION:Join us for a drop dead gorgeous Halloween celebration On October 28th\, 2023 from 5:00PM-7:00PM\, at The Blue Moon Bar in Lawrenceville. We’ll be doing something different this year and will have lots of activities planned such as karaoke\, a costume contest and games. Bring your favorite goblin hors d’oeuvres and wear your best Halloween costume. Let’s celebrate this spooky season together with some delicious fun\, drinks and friendly faces! 								\n				\n					\n		\n					\n		\n				\n						\n					\n			\n						\n				\n									The Blue Moon5115 Butler Street Pittsburgh\, PA 15201								\n				\n					\n		\n				\n			\n						\n				\n																														\n				\n					\n		\n					\n		\n				\n						\n					\n			\n						\n				\n					Happy Halloween!!!!
URL:https://chapters.theprimetimersww.com/pittsburgh/event/ppt-monthly-zoom-call-2/
LOCATION:PA
CATEGORIES:Virtual Event
END:VEVENT
BEGIN:VEVENT
DTSTART;TZID=America/New_York:20211204T130000
DTEND;TZID=America/New_York:20211204T170000
DTSTAMP:20260422T095227
CREATED:20211124T140623Z
LAST-MODIFIED:20211124T140623Z
UID:709-1638622800-1638637200@chapters.theprimetimersww.com
SUMMARY:PPT Holiday Celebration
DESCRIPTION:Join us for a drop dead gorgeous Halloween celebration On October 28th\, 2023 from 5:00PM-7:00PM\, at The Blue Moon Bar in Lawrenceville. We’ll be doing something different this year and will have lots of activities planned such as karaoke\, a costume contest and games. Bring your favorite goblin hors d’oeuvres and wear your best Halloween costume. Let’s celebrate this spooky season together with some delicious fun\, drinks and friendly faces! 								\n				\n					\n		\n					\n		\n				\n						\n					\n			\n						\n				\n									The Blue Moon5115 Butler Street Pittsburgh\, PA 15201								\n				\n					\n		\n				\n			\n						\n				\n																														\n				\n					\n		\n					\n		\n				\n						\n					\n			\n						\n				\n					Happy Halloween!!!!
URL:https://chapters.theprimetimersww.com/pittsburgh/event/ppt-holiday-celebration/
LOCATION:PA
END:VEVENT
BEGIN:VEVENT
DTSTART;VALUE=DATE:20211120
DTEND;VALUE=DATE:20211121
DTSTAMP:20260422T095227
CREATED:20211108T021603Z
LAST-MODIFIED:20211108T021603Z
UID:703-1637366400-1637452799@chapters.theprimetimersww.com
SUMMARY:POMPEII
DESCRIPTION:Join us for a drop dead gorgeous Halloween celebration On October 28th\, 2023 from 5:00PM-7:00PM\, at The Blue Moon Bar in Lawrenceville. We’ll be doing something different this year and will have lots of activities planned such as karaoke\, a costume contest and games. Bring your favorite goblin hors d’oeuvres and wear your best Halloween costume. Let’s celebrate this spooky season together with some delicious fun\, drinks and friendly faces! 								\n				\n					\n		\n					\n		\n				\n						\n					\n			\n						\n				\n									The Blue Moon5115 Butler Street Pittsburgh\, PA 15201								\n				\n					\n		\n				\n			\n						\n				\n																														\n				\n					\n		\n					\n		\n				\n						\n					\n			\n						\n				\n					Happy Halloween!!!!
URL:https://chapters.theprimetimersww.com/pittsburgh/event/pompeii/
LOCATION:PA
END:VEVENT
BEGIN:VEVENT
DTSTART;TZID=UTC:20211114T160000
DTEND;TZID=UTC:20211114T183000
DTSTAMP:20260422T095227
CREATED:20211026T225834Z
LAST-MODIFIED:20211027T053636Z
UID:695-1636905600-1636914600@chapters.theprimetimersww.com
SUMMARY:PPT endorses P*Town Bar
DESCRIPTION:Join us for a drop dead gorgeous Halloween celebration On October 28th\, 2023 from 5:00PM-7:00PM\, at The Blue Moon Bar in Lawrenceville. We’ll be doing something different this year and will have lots of activities planned such as karaoke\, a costume contest and games. Bring your favorite goblin hors d’oeuvres and wear your best Halloween costume. Let’s celebrate this spooky season together with some delicious fun\, drinks and friendly faces! 								\n				\n					\n		\n					\n		\n				\n						\n					\n			\n						\n				\n									The Blue Moon5115 Butler Street Pittsburgh\, PA 15201								\n				\n					\n		\n				\n			\n						\n				\n																														\n				\n					\n		\n					\n		\n				\n						\n					\n			\n						\n				\n					Happy Halloween!!!!
URL:https://chapters.theprimetimersww.com/pittsburgh/event/ppt-endorses-ptown-bar/
LOCATION:P*Town Bar\, 4740 Baum Blvd\, Pittsburgh\, PA 15213
CATEGORIES:Bar/lounge
END:VEVENT
BEGIN:VEVENT
DTSTART;TZID=America/New_York:20211003T160000
DTEND;TZID=America/New_York:20211003T183000
DTSTAMP:20260422T095227
CREATED:20210913T021621Z
LAST-MODIFIED:20210917T165012Z
UID:652-1633276800-1633285800@chapters.theprimetimersww.com
SUMMARY:Oktoberfest 2021
DESCRIPTION:Join us for a drop dead gorgeous Halloween celebration On October 28th\, 2023 from 5:00PM-7:00PM\, at The Blue Moon Bar in Lawrenceville. We’ll be doing something different this year and will have lots of activities planned such as karaoke\, a costume contest and games. Bring your favorite goblin hors d’oeuvres and wear your best Halloween costume. Let’s celebrate this spooky season together with some delicious fun\, drinks and friendly faces! 								\n				\n					\n		\n					\n		\n				\n						\n					\n			\n						\n				\n									The Blue Moon5115 Butler Street Pittsburgh\, PA 15201								\n				\n					\n		\n				\n			\n						\n				\n																														\n				\n					\n		\n					\n		\n				\n						\n					\n			\n						\n				\n					Happy Halloween!!!!
URL:https://chapters.theprimetimersww.com/pittsburgh/event/oktoberfest-2021/
LOCATION:Blue Moon\, 5115  Butler St\, Pittsburgh\, PA\, 15201\, United States
CATEGORIES:Bar/lounge
END:VEVENT
BEGIN:VEVENT
DTSTART;TZID=UTC:20210910T181500
DTEND;TZID=UTC:20210910T203000
DTSTAMP:20260422T095227
CREATED:20210810T205455Z
LAST-MODIFIED:20210822T204138Z
UID:463-1631297700-1631305800@chapters.theprimetimersww.com
SUMMARY:Rivers of Steel Boat Trip
DESCRIPTION:Join us for a drop dead gorgeous Halloween celebration On October 28th\, 2023 from 5:00PM-7:00PM\, at The Blue Moon Bar in Lawrenceville. We’ll be doing something different this year and will have lots of activities planned such as karaoke\, a costume contest and games. Bring your favorite goblin hors d’oeuvres and wear your best Halloween costume. Let’s celebrate this spooky season together with some delicious fun\, drinks and friendly faces! 								\n				\n					\n		\n					\n		\n				\n						\n					\n			\n						\n				\n									The Blue Moon5115 Butler Street Pittsburgh\, PA 15201								\n				\n					\n		\n				\n			\n						\n				\n																														\n				\n					\n		\n					\n		\n				\n						\n					\n			\n						\n				\n					Happy Halloween!!!!
URL:https://chapters.theprimetimersww.com/pittsburgh/event/rivers-of-steel-boat-trip/
LOCATION:PA
CATEGORIES:Day Trips
END:VEVENT
BEGIN:VEVENT
DTSTART;TZID=UTC:20210807T130000
DTEND;TZID=UTC:20210807T170000
DTSTAMP:20260422T095227
CREATED:20210607T060006Z
LAST-MODIFIED:20210607T060026Z
UID:438-1628341200-1628355600@chapters.theprimetimersww.com
SUMMARY:PPT Annual Picnic
DESCRIPTION:Join us for a drop dead gorgeous Halloween celebration On October 28th\, 2023 from 5:00PM-7:00PM\, at The Blue Moon Bar in Lawrenceville. We’ll be doing something different this year and will have lots of activities planned such as karaoke\, a costume contest and games. Bring your favorite goblin hors d’oeuvres and wear your best Halloween costume. Let’s celebrate this spooky season together with some delicious fun\, drinks and friendly faces! 								\n				\n					\n		\n					\n		\n				\n						\n					\n			\n						\n				\n									The Blue Moon5115 Butler Street Pittsburgh\, PA 15201								\n				\n					\n		\n				\n			\n						\n				\n																														\n				\n					\n		\n					\n		\n				\n						\n					\n			\n						\n				\n					Happy Halloween!!!!
URL:https://chapters.theprimetimersww.com/pittsburgh/event/ppt-annual-picnic/
LOCATION:Schenley Park-Prospect Shelter\, Prospect Drive\, Pittsburgh\, PA\, 15217\, United States
CATEGORIES:Picnic
END:VEVENT
BEGIN:VEVENT
DTSTART;TZID=UTC:20210710T100000
DTEND;TZID=UTC:20210710T150000
DTSTAMP:20260422T095227
CREATED:20210524T191051Z
LAST-MODIFIED:20210525T093119Z
UID:381-1625911200-1625929200@chapters.theprimetimersww.com
SUMMARY:Scenic Train Trip
DESCRIPTION:Join us for a drop dead gorgeous Halloween celebration On October 28th\, 2023 from 5:00PM-7:00PM\, at The Blue Moon Bar in Lawrenceville. We’ll be doing something different this year and will have lots of activities planned such as karaoke\, a costume contest and games. Bring your favorite goblin hors d’oeuvres and wear your best Halloween costume. Let’s celebrate this spooky season together with some delicious fun\, drinks and friendly faces! 								\n				\n					\n		\n					\n		\n				\n						\n					\n			\n						\n				\n									The Blue Moon5115 Butler Street Pittsburgh\, PA 15201								\n				\n					\n		\n				\n			\n						\n				\n																														\n				\n					\n		\n					\n		\n				\n						\n					\n			\n						\n				\n					Happy Halloween!!!!
URL:https://chapters.theprimetimersww.com/pittsburgh/event/scenic-train-trip/
LOCATION:Elkins Depot\, 315 Railroad Avenue\, Elkins\, WV\, 26241\, United States
CATEGORIES:Day Trips
END:VEVENT
BEGIN:VEVENT
DTSTART;TZID=UTC:20210606T163000
DTEND;TZID=UTC:20210606T193000
DTSTAMP:20260422T095227
CREATED:20210526T062157Z
LAST-MODIFIED:20210526T062735Z
UID:400-1622997000-1623007800@chapters.theprimetimersww.com
SUMMARY:Pride Cookout at The Blue Moon
DESCRIPTION:Join us for a drop dead gorgeous Halloween celebration On October 28th\, 2023 from 5:00PM-7:00PM\, at The Blue Moon Bar in Lawrenceville. We’ll be doing something different this year and will have lots of activities planned such as karaoke\, a costume contest and games. Bring your favorite goblin hors d’oeuvres and wear your best Halloween costume. Let’s celebrate this spooky season together with some delicious fun\, drinks and friendly faces! 								\n				\n					\n		\n					\n		\n				\n						\n					\n			\n						\n				\n									The Blue Moon5115 Butler Street Pittsburgh\, PA 15201								\n				\n					\n		\n				\n			\n						\n				\n																														\n				\n					\n		\n					\n		\n				\n						\n					\n			\n						\n				\n					Happy Halloween!!!!
URL:https://chapters.theprimetimersww.com/pittsburgh/event/pride-cookout-at-the-blue-moon/
LOCATION:The Blue Moon\, 5115 Butler Street\, Pittsburgh\, PA\, 15201\, United States
END:VEVENT
BEGIN:VEVENT
DTSTART;TZID=UTC:20210527T200000
DTEND;TZID=UTC:20210527T213000
DTSTAMP:20260422T095227
CREATED:20210521T052431Z
LAST-MODIFIED:20210525T092317Z
UID:361-1622145600-1622151000@chapters.theprimetimersww.com
SUMMARY:Virtual Book Launch: Brian Malloy
DESCRIPTION:Join us for a drop dead gorgeous Halloween celebration On October 28th\, 2023 from 5:00PM-7:00PM\, at The Blue Moon Bar in Lawrenceville. We’ll be doing something different this year and will have lots of activities planned such as karaoke\, a costume contest and games. Bring your favorite goblin hors d’oeuvres and wear your best Halloween costume. Let’s celebrate this spooky season together with some delicious fun\, drinks and friendly faces! 								\n				\n					\n		\n					\n		\n				\n						\n					\n			\n						\n				\n									The Blue Moon5115 Butler Street Pittsburgh\, PA 15201								\n				\n					\n		\n				\n			\n						\n				\n																														\n				\n					\n		\n					\n		\n				\n						\n					\n			\n						\n				\n					Happy Halloween!!!!
URL:https://chapters.theprimetimersww.com/pittsburgh/event/virtual-book-launch-brian-malloy/
LOCATION:PA
CATEGORIES:Virtual Event
END:VEVENT
BEGIN:VEVENT
DTSTART;TZID=UTC:20200216T150000
DTEND;TZID=UTC:20200216T180000
DTSTAMP:20260422T095227
CREATED:20200209T050457Z
LAST-MODIFIED:20200209T051655Z
UID:242-1581865200-1581876000@chapters.theprimetimersww.com
SUMMARY:3:00 PM Winter Chili Blast at the Blue Moon
DESCRIPTION:Join us for a drop dead gorgeous Halloween celebration On October 28th\, 2023 from 5:00PM-7:00PM\, at The Blue Moon Bar in Lawrenceville. We’ll be doing something different this year and will have lots of activities planned such as karaoke\, a costume contest and games. Bring your favorite goblin hors d’oeuvres and wear your best Halloween costume. Let’s celebrate this spooky season together with some delicious fun\, drinks and friendly faces! 								\n				\n					\n		\n					\n		\n				\n						\n					\n			\n						\n				\n									The Blue Moon5115 Butler Street Pittsburgh\, PA 15201								\n				\n					\n		\n				\n			\n						\n				\n																														\n				\n					\n		\n					\n		\n				\n						\n					\n			\n						\n				\n					Happy Halloween!!!!
URL:https://chapters.theprimetimersww.com/pittsburgh/event/winter-chili-blast-at-the-blue-moon/
LOCATION:Blue Moon\, 5115  Butler St\, Pittsburgh\, PA\, 15201\, United States
END:VEVENT
BEGIN:VEVENT
DTSTART;TZID=America/Halifax:20191117T150000
DTEND;TZID=America/Halifax:20191117T180000
DTSTAMP:20260422T095227
CREATED:20191010T233306Z
LAST-MODIFIED:20191012T203729Z
UID:139-1574002800-1574013600@chapters.theprimetimersww.com
SUMMARY:3:00 PM Thanksgiving Potluck\, New Venue
DESCRIPTION:Join us for a drop dead gorgeous Halloween celebration On October 28th\, 2023 from 5:00PM-7:00PM\, at The Blue Moon Bar in Lawrenceville. We’ll be doing something different this year and will have lots of activities planned such as karaoke\, a costume contest and games. Bring your favorite goblin hors d’oeuvres and wear your best Halloween costume. Let’s celebrate this spooky season together with some delicious fun\, drinks and friendly faces! 								\n				\n					\n		\n					\n		\n				\n						\n					\n			\n						\n				\n									The Blue Moon5115 Butler Street Pittsburgh\, PA 15201								\n				\n					\n		\n				\n			\n						\n				\n																														\n				\n					\n		\n					\n		\n				\n						\n					\n			\n						\n				\n					Happy Halloween!!!!
URL:https://chapters.theprimetimersww.com/pittsburgh/event/thanksgiving-themed-potluck-new-venue/
LOCATION:East Liberty Presbyterian Church\, 116 S Highland Ave\, Pittsburgh\, PA\, 15206\, United States
ATTACH;FMTTYPE=image/png:https://chapters.theprimetimersww.com/pittsburgh/wp-content/uploads/2019/10/Thanksgiving-Potluck.png
END:VEVENT
BEGIN:VEVENT
DTSTART;VALUE=DATE:20191029
DTEND;VALUE=DATE:20191103
DTSTAMP:20260422T095227
CREATED:20191009T021619Z
LAST-MODIFIED:20191011T230832Z
UID:70-1572307200-1572739199@chapters.theprimetimersww.com
SUMMARY:Prime Timers World Wide Convention in San Antonio
DESCRIPTION:Join us for a drop dead gorgeous Halloween celebration On October 28th\, 2023 from 5:00PM-7:00PM\, at The Blue Moon Bar in Lawrenceville. We’ll be doing something different this year and will have lots of activities planned such as karaoke\, a costume contest and games. Bring your favorite goblin hors d’oeuvres and wear your best Halloween costume. Let’s celebrate this spooky season together with some delicious fun\, drinks and friendly faces! 								\n				\n					\n		\n					\n		\n				\n						\n					\n			\n						\n				\n									The Blue Moon5115 Butler Street Pittsburgh\, PA 15201								\n				\n					\n		\n				\n			\n						\n				\n																														\n				\n					\n		\n					\n		\n				\n						\n					\n			\n						\n				\n					Happy Halloween!!!!
URL:https://chapters.theprimetimersww.com/pittsburgh/event/prime-timers-world-wide-convention-in-san-antonio/
LOCATION:El Tropicano Riverwalk Hotel\, 110 Lexington Avenue\, San Antonio\, TX\, 78205\, United States
END:VEVENT
BEGIN:VEVENT
DTSTART;TZID=America/New_York:20191020T150000
DTEND;TZID=America/New_York:20191020T180000
DTSTAMP:20260422T095227
CREATED:20191009T020356Z
LAST-MODIFIED:20191012T205047Z
UID:65-1571583600-1571594400@chapters.theprimetimersww.com
SUMMARY:3:00 PM Potluck & a Movie at Persad Center - No RSVP
DESCRIPTION:Join us for a drop dead gorgeous Halloween celebration On October 28th\, 2023 from 5:00PM-7:00PM\, at The Blue Moon Bar in Lawrenceville. We’ll be doing something different this year and will have lots of activities planned such as karaoke\, a costume contest and games. Bring your favorite goblin hors d’oeuvres and wear your best Halloween costume. Let’s celebrate this spooky season together with some delicious fun\, drinks and friendly faces! 								\n				\n					\n		\n					\n		\n				\n						\n					\n			\n						\n				\n									The Blue Moon5115 Butler Street Pittsburgh\, PA 15201								\n				\n					\n		\n				\n			\n						\n				\n																														\n				\n					\n		\n					\n		\n				\n						\n					\n			\n						\n				\n					Happy Halloween!!!!
URL:https://chapters.theprimetimersww.com/pittsburgh/event/300pm-sunday-potluck-buffet-at-the-persad-center-no-rsvp/
LOCATION:Persad Center\, 5301 Butler Street\, Pittsburgh\, PA\, 15201\, United States
END:VEVENT
END:VCALENDAR