BEGIN:VCALENDAR
VERSION:2.0
PRODID:-//Pittsburgh PrimeTimers® - ECPv6.15.20//NONSGML v1.0//EN
CALSCALE:GREGORIAN
METHOD:PUBLISH
X-ORIGINAL-URL:https://chapters.theprimetimersww.com/pittsburgh
X-WR-CALDESC:Events for Pittsburgh PrimeTimers®
REFRESH-INTERVAL;VALUE=DURATION:PT1H
X-Robots-Tag:noindex
X-PUBLISHED-TTL:PT1H
BEGIN:VTIMEZONE
TZID:America/New_York
BEGIN:DAYLIGHT
TZOFFSETFROM:-0500
TZOFFSETTO:-0400
TZNAME:EDT
DTSTART:20220313T070000
END:DAYLIGHT
BEGIN:STANDARD
TZOFFSETFROM:-0400
TZOFFSETTO:-0500
TZNAME:EST
DTSTART:20221106T060000
END:STANDARD
BEGIN:DAYLIGHT
TZOFFSETFROM:-0500
TZOFFSETTO:-0400
TZNAME:EDT
DTSTART:20230312T070000
END:DAYLIGHT
BEGIN:STANDARD
TZOFFSETFROM:-0400
TZOFFSETTO:-0500
TZNAME:EST
DTSTART:20231105T060000
END:STANDARD
BEGIN:DAYLIGHT
TZOFFSETFROM:-0500
TZOFFSETTO:-0400
TZNAME:EDT
DTSTART:20240310T070000
END:DAYLIGHT
BEGIN:STANDARD
TZOFFSETFROM:-0400
TZOFFSETTO:-0500
TZNAME:EST
DTSTART:20241103T060000
END:STANDARD
END:VTIMEZONE
BEGIN:VTIMEZONE
TZID:America/Halifax
BEGIN:DAYLIGHT
TZOFFSETFROM:-0400
TZOFFSETTO:-0300
TZNAME:ADT
DTSTART:20180311T060000
END:DAYLIGHT
BEGIN:STANDARD
TZOFFSETFROM:-0300
TZOFFSETTO:-0400
TZNAME:AST
DTSTART:20181104T050000
END:STANDARD
BEGIN:DAYLIGHT
TZOFFSETFROM:-0400
TZOFFSETTO:-0300
TZNAME:ADT
DTSTART:20190310T060000
END:DAYLIGHT
BEGIN:STANDARD
TZOFFSETFROM:-0300
TZOFFSETTO:-0400
TZNAME:AST
DTSTART:20191103T050000
END:STANDARD
BEGIN:DAYLIGHT
TZOFFSETFROM:-0400
TZOFFSETTO:-0300
TZNAME:ADT
DTSTART:20200308T060000
END:DAYLIGHT
BEGIN:STANDARD
TZOFFSETFROM:-0300
TZOFFSETTO:-0400
TZNAME:AST
DTSTART:20201101T050000
END:STANDARD
END:VTIMEZONE
BEGIN:VEVENT
DTSTART;TZID=America/New_York:20230611T160000
DTEND;TZID=America/New_York:20230611T183000
DTSTAMP:20260421T135928
CREATED:20230527T190307Z
LAST-MODIFIED:20230604T063559Z
UID:2664-1686499200-1686508200@chapters.theprimetimersww.com
SUMMARY:Renaissance City Choir Concert
DESCRIPTION:Join us for this very special RCC concert on Sunday\, June 11 at 4:00 p.m. Michael G. has reserved us seats so we can all sit together\, but you must buy your ticket in advance and meet Michael at the entrance at 3:30. He’s has to leave at 3:35 so don’t miss it! After the concert we’ll meet for dinner in East Liberty and try to shake the earworms from our heads. \nPlease email Michael at jmg121867@yahoo.com to let him know you’re going — or if you have any questions.
URL:https://chapters.theprimetimersww.com/pittsburgh/event/renaissance-city-choir-concert/
LOCATION:East Liberty Presbyterian Church\, 116 S Highland Ave\, Pittsburgh\, PA\, 15206\, United States
END:VEVENT
BEGIN:VEVENT
DTSTART;TZID=America/Halifax:20191117T150000
DTEND;TZID=America/Halifax:20191117T180000
DTSTAMP:20260421T135928
CREATED:20191010T233306Z
LAST-MODIFIED:20191012T203729Z
UID:139-1574002800-1574013600@chapters.theprimetimersww.com
SUMMARY:3:00 PM Thanksgiving Potluck\, New Venue
DESCRIPTION:Save the date for a special November potluck on Sunday\, November 17 at 3:00 p.m. \nThis event will be held in the Good Samaritan Room (with adjacent kitchen) at the historic landmark\, East Liberty Presbyterian Church. Easily accessible with plenty of parking! \nPPT provides the turkey — you provide the sides and desserts. \nTo avoid duplication\, you will be asked to let us know what you plan to bring. More on that later. \n 
URL:https://chapters.theprimetimersww.com/pittsburgh/event/thanksgiving-themed-potluck-new-venue/
LOCATION:East Liberty Presbyterian Church\, 116 S Highland Ave\, Pittsburgh\, PA\, 15206\, United States
ATTACH;FMTTYPE=image/png:https://chapters.theprimetimersww.com/pittsburgh/wp-content/uploads/2019/10/Thanksgiving-Potluck.png
END:VEVENT
END:VCALENDAR