BEGIN:VCALENDAR
VERSION:2.0
PRODID:-//Pittsburgh PrimeTimers® - ECPv6.15.20//NONSGML v1.0//EN
CALSCALE:GREGORIAN
METHOD:PUBLISH
X-WR-CALNAME:Pittsburgh PrimeTimers®
X-ORIGINAL-URL:https://chapters.theprimetimersww.com/pittsburgh
X-WR-CALDESC:Events for Pittsburgh PrimeTimers®
REFRESH-INTERVAL;VALUE=DURATION:PT1H
X-Robots-Tag:noindex
X-PUBLISHED-TTL:PT1H
BEGIN:VTIMEZONE
TZID:America/New_York
BEGIN:DAYLIGHT
TZOFFSETFROM:-0500
TZOFFSETTO:-0400
TZNAME:EDT
DTSTART:20220313T070000
END:DAYLIGHT
BEGIN:STANDARD
TZOFFSETFROM:-0400
TZOFFSETTO:-0500
TZNAME:EST
DTSTART:20221106T060000
END:STANDARD
BEGIN:DAYLIGHT
TZOFFSETFROM:-0500
TZOFFSETTO:-0400
TZNAME:EDT
DTSTART:20230312T070000
END:DAYLIGHT
BEGIN:STANDARD
TZOFFSETFROM:-0400
TZOFFSETTO:-0500
TZNAME:EST
DTSTART:20231105T060000
END:STANDARD
BEGIN:DAYLIGHT
TZOFFSETFROM:-0500
TZOFFSETTO:-0400
TZNAME:EDT
DTSTART:20240310T070000
END:DAYLIGHT
BEGIN:STANDARD
TZOFFSETFROM:-0400
TZOFFSETTO:-0500
TZNAME:EST
DTSTART:20241103T060000
END:STANDARD
BEGIN:DAYLIGHT
TZOFFSETFROM:-0500
TZOFFSETTO:-0400
TZNAME:EDT
DTSTART:20250309T070000
END:DAYLIGHT
BEGIN:STANDARD
TZOFFSETFROM:-0400
TZOFFSETTO:-0500
TZNAME:EST
DTSTART:20251102T060000
END:STANDARD
BEGIN:DAYLIGHT
TZOFFSETFROM:-0500
TZOFFSETTO:-0400
TZNAME:EDT
DTSTART:20260308T070000
END:DAYLIGHT
BEGIN:STANDARD
TZOFFSETFROM:-0400
TZOFFSETTO:-0500
TZNAME:EST
DTSTART:20261101T060000
END:STANDARD
END:VTIMEZONE
BEGIN:VEVENT
DTSTART;TZID=America/New_York:20251115T120000
DTEND;TZID=America/New_York:20251115T153000
DTSTAMP:20260422T012009
CREATED:20250811T190256Z
LAST-MODIFIED:20251019T061815Z
UID:5300-1763208000-1763220600@chapters.theprimetimersww.com
SUMMARY:Thanksgiving Potluck
DESCRIPTION:Saturday\, November 15: Thanksgiving Potluck\nSave the date for our Thanksgiving potluck on Saturday\, November 15. It will start at Noon in the Good Samaritan Room of East Liberty Presbyterian Church. PPT provides the turkey and members round out the feast. Sign up here.\nOnce again\, we will support the LGBTQ community during the Thanksgiving season by collecting non-perishable food items and personal care items to benefit clients of Persad Center. Such assistance is greatly needed and appreciated. Please bring your donations to the Thanksgiving potluck. If that is not possible\, Jeff Raines will also accept your items at other early November events. Many thanks!
URL:https://chapters.theprimetimersww.com/pittsburgh/event/thanksgiving-potluck-2/
LOCATION:East Liberty Presbyterian Church\, 116 S Highland Ave\, Pittsburgh\, PA\, 15206\, United States
END:VEVENT
BEGIN:VEVENT
DTSTART;TZID=America/New_York:20240310T150000
DTEND;TZID=America/New_York:20240310T150000
DTSTAMP:20260422T012009
CREATED:20240209T195502Z
LAST-MODIFIED:20240303T200901Z
UID:4031-1710082800-1710082800@chapters.theprimetimersww.com
SUMMARY:“Coming Home” The Mendelssohn!
DESCRIPTION:Sunday\, March 10\, 2024 at 3:00 PM\nEast Liberty Presbyterian Church\n116 S. Highland Avenue\nPittsburgh\, PA 15206\n \nPittsburgh PrimeTimers will attend the Mendelssohn Choir of Pittsburgh’s “Coming Home” performance when the choir welcomes its new musical director\, Daniel Singer. In 2023\, Daniel was appointed Robert Page Music Director of the Mendelssohn Choir of Pittsburgh (MCP)\, the “chorus of choice” of the Pittsburgh Symphony Orchestra (PSO). \nKeith P. informed our group that he has acquired ten tickets to the free concert and kindly requested that the group RSVP to Pittsburgh_Pt@yahoo.com in order to secure the tickets he has obtained. However\, he also informed everyone that in the event that more than ten people were interested in attending\, additional tickets could be purchased for free through the Mendelssohn website or through Keith. Please RSVP by March 4th. It is sure to be a memorable and enjoyable event\, thanks to Keith’s thoughtfulness and the Mendelssohn Choir’s talented new music director. \nWe will meet 15–30 minutes before the show at the main entrance\, 116 S. Highland Avenue\, Pittsburgh\, PA 15206. This entrance is specially designed to be wheelchair accessible\, with no steps. It provides easy access for individuals with disabilities. \nThe elevator is located near the sanctuary\, toward the south end of the building. It provides access to different levels within the church\, ensuring that everyone can move around comfortably. \nOn-street parking is available around the church building at no charge on Sunday. \nBus Route: PRT 82 Lincoln from downtown; or if you are traveling on the East Busway\, it is a 7-minute walk from East Liberty Station D.
URL:https://chapters.theprimetimersww.com/pittsburgh/event/coming-home-the-mendelssohn/
LOCATION:East Liberty Presbyterian Church\, 116 S Highland Ave\, Pittsburgh\, PA\, 15206\, United States
CATEGORIES:Special Event
END:VEVENT
BEGIN:VEVENT
DTSTART;TZID=America/New_York:20231209T193000
DTEND;TZID=America/New_York:20231209T213000
DTSTAMP:20260422T012009
CREATED:20230923T235632Z
LAST-MODIFIED:20231109T062127Z
UID:3066-1702150200-1702157400@chapters.theprimetimersww.com
SUMMARY:Renaissance City Choir
DESCRIPTION:Save the date!\nJoin us for a festive holiday concert by the Renaissance City Choir on Saturday\, December 9 at 7:30 PM.  \nEast Liberty Presbyterian Church\n116 South Highland Avenue\nPittsburgh\, PA 15206
URL:https://chapters.theprimetimersww.com/pittsburgh/event/renaissance-city-choir/
LOCATION:East Liberty Presbyterian Church\, 116 S Highland Ave\, Pittsburgh\, PA\, 15206\, United States
CATEGORIES:Special Event
END:VEVENT
END:VCALENDAR