BEGIN:VCALENDAR
VERSION:2.0
PRODID:-//Pittsburgh PrimeTimers® - ECPv6.15.20//NONSGML v1.0//EN
CALSCALE:GREGORIAN
METHOD:PUBLISH
X-WR-CALNAME:Pittsburgh PrimeTimers®
X-ORIGINAL-URL:https://chapters.theprimetimersww.com/pittsburgh
X-WR-CALDESC:Events for Pittsburgh PrimeTimers®
REFRESH-INTERVAL;VALUE=DURATION:PT1H
X-Robots-Tag:noindex
X-PUBLISHED-TTL:PT1H
BEGIN:VTIMEZONE
TZID:America/New_York
BEGIN:DAYLIGHT
TZOFFSETFROM:-0500
TZOFFSETTO:-0400
TZNAME:EDT
DTSTART:20250309T070000
END:DAYLIGHT
BEGIN:STANDARD
TZOFFSETFROM:-0400
TZOFFSETTO:-0500
TZNAME:EST
DTSTART:20251102T060000
END:STANDARD
BEGIN:DAYLIGHT
TZOFFSETFROM:-0500
TZOFFSETTO:-0400
TZNAME:EDT
DTSTART:20260308T070000
END:DAYLIGHT
BEGIN:STANDARD
TZOFFSETFROM:-0400
TZOFFSETTO:-0500
TZNAME:EST
DTSTART:20261101T060000
END:STANDARD
BEGIN:DAYLIGHT
TZOFFSETFROM:-0500
TZOFFSETTO:-0400
TZNAME:EDT
DTSTART:20270314T070000
END:DAYLIGHT
BEGIN:STANDARD
TZOFFSETFROM:-0400
TZOFFSETTO:-0500
TZNAME:EST
DTSTART:20271107T060000
END:STANDARD
END:VTIMEZONE
BEGIN:VEVENT
DTSTART;TZID=America/New_York:20260618T183000
DTEND;TZID=America/New_York:20260618T190000
DTSTAMP:20260424T223551
CREATED:20260420T202606Z
LAST-MODIFIED:20260420T202931Z
UID:5836-1781807400-1781809200@chapters.theprimetimersww.com
SUMMARY:June's Dine Out
DESCRIPTION:June’s Dine Out \nNoodlehead \nJune 18th 6:30 PM \n242 South Highland Ave\, Pittsburgh\, PA 15206 \nfeaturing tasty noodle dishes inspired by the street markets of Thailand\nRSVP before June 15:  pittsburgh_pt@yahoo.com or Jeff R peteycat.raines@gmail.com\nWe hope you plan on attending. We have such a nice time getting together!
URL:https://chapters.theprimetimersww.com/pittsburgh/event/junes-dine-out/
LOCATION:Noodlehead\, 242 South Highla2nd Ave\, Pittsburgh\, PA\, 15206\, United States
CATEGORIES:Dineout
END:VEVENT
END:VCALENDAR