BEGIN:VCALENDAR
VERSION:2.0
PRODID:-//Pittsburgh PrimeTimers® - ECPv6.15.20//NONSGML v1.0//EN
CALSCALE:GREGORIAN
METHOD:PUBLISH
X-ORIGINAL-URL:https://chapters.theprimetimersww.com/pittsburgh
X-WR-CALDESC:Events for Pittsburgh PrimeTimers®
REFRESH-INTERVAL;VALUE=DURATION:PT1H
X-Robots-Tag:noindex
X-PUBLISHED-TTL:PT1H
BEGIN:VTIMEZONE
TZID:America/New_York
BEGIN:DAYLIGHT
TZOFFSETFROM:-0500
TZOFFSETTO:-0400
TZNAME:EDT
DTSTART:20210314T070000
END:DAYLIGHT
BEGIN:STANDARD
TZOFFSETFROM:-0400
TZOFFSETTO:-0500
TZNAME:EST
DTSTART:20211107T060000
END:STANDARD
BEGIN:DAYLIGHT
TZOFFSETFROM:-0500
TZOFFSETTO:-0400
TZNAME:EDT
DTSTART:20220313T070000
END:DAYLIGHT
BEGIN:STANDARD
TZOFFSETFROM:-0400
TZOFFSETTO:-0500
TZNAME:EST
DTSTART:20221106T060000
END:STANDARD
BEGIN:DAYLIGHT
TZOFFSETFROM:-0500
TZOFFSETTO:-0400
TZNAME:EDT
DTSTART:20230312T070000
END:DAYLIGHT
BEGIN:STANDARD
TZOFFSETFROM:-0400
TZOFFSETTO:-0500
TZNAME:EST
DTSTART:20231105T060000
END:STANDARD
END:VTIMEZONE
BEGIN:VEVENT
DTSTART;VALUE=DATE:20221021
DTEND;VALUE=DATE:20221022
DTSTAMP:20260421T052052
CREATED:20220731T183757Z
LAST-MODIFIED:20220803T212907Z
UID:1374-1666310400-1666396799@chapters.theprimetimersww.com
SUMMARY:Steam Locomotive Train Trip
DESCRIPTION:Don’t miss the breathtaking fall foliage as the steam engine-powered train makes its way from Cumberland\, Maryland to Frostburg through the scenic Allegheny Mountains. We’ll depart at 11:30 Friday morning\, October 21 for this very popular 4-1/2 hour train trip. More information here. Please email with any questions.
URL:https://chapters.theprimetimersww.com/pittsburgh/event/steam-locomotive-train-trip/
LOCATION:Western Maryland Scenic Railroad\, 13 Canal Street\, Cumberland\, MD\, 21502
CATEGORIES:Special Event
END:VEVENT
BEGIN:VEVENT
DTSTART;VALUE=DATE:20220906
DTEND;VALUE=DATE:20220907
DTSTAMP:20260421T052052
CREATED:20220805T220016Z
LAST-MODIFIED:20220809T161556Z
UID:1406-1662422400-1662508799@chapters.theprimetimersww.com
SUMMARY:Don't get shut out!
DESCRIPTION:If you haven’t bought your ticket for the Western Maryland Scenic Railroad trip on October 21 yet\, better head over to the WMSR website now and choo-choo-choose your seat! These tickets will sell out soon. Click here for details.
URL:https://chapters.theprimetimersww.com/pittsburgh/event/dont-get-shut-out/
LOCATION:Western Maryland Scenic Railroad\, 13 Canal Street\, Cumberland\, MD\, 21502
END:VEVENT
END:VCALENDAR