BEGIN:VCALENDAR
VERSION:2.0
PRODID:-//Pittsburgh PrimeTimers® - ECPv6.15.20//NONSGML v1.0//EN
CALSCALE:GREGORIAN
METHOD:PUBLISH
X-ORIGINAL-URL:https://chapters.theprimetimersww.com/pittsburgh
X-WR-CALDESC:Events for Pittsburgh PrimeTimers®
REFRESH-INTERVAL;VALUE=DURATION:PT1H
X-Robots-Tag:noindex
X-PUBLISHED-TTL:PT1H
BEGIN:VTIMEZONE
TZID:America/New_York
BEGIN:DAYLIGHT
TZOFFSETFROM:-0500
TZOFFSETTO:-0400
TZNAME:EDT
DTSTART:20250309T070000
END:DAYLIGHT
BEGIN:STANDARD
TZOFFSETFROM:-0400
TZOFFSETTO:-0500
TZNAME:EST
DTSTART:20251102T060000
END:STANDARD
BEGIN:DAYLIGHT
TZOFFSETFROM:-0500
TZOFFSETTO:-0400
TZNAME:EDT
DTSTART:20260308T070000
END:DAYLIGHT
BEGIN:STANDARD
TZOFFSETFROM:-0400
TZOFFSETTO:-0500
TZNAME:EST
DTSTART:20261101T060000
END:STANDARD
BEGIN:DAYLIGHT
TZOFFSETFROM:-0500
TZOFFSETTO:-0400
TZNAME:EDT
DTSTART:20270314T070000
END:DAYLIGHT
BEGIN:STANDARD
TZOFFSETFROM:-0400
TZOFFSETTO:-0500
TZNAME:EST
DTSTART:20271107T060000
END:STANDARD
END:VTIMEZONE
BEGIN:VEVENT
DTSTART;TZID=America/New_York:20260601T120000
DTEND;TZID=America/New_York:20260601T173000
DTSTAMP:20260425T064815
CREATED:20260420T192941Z
LAST-MODIFIED:20260420T204514Z
UID:5856-1780315200-1780335000@chapters.theprimetimersww.com
SUMMARY:White Water Rafting
DESCRIPTION:White Water Rafting Adventure Details\nThe Adventure Group is gearing up for a thrilling White Water Rafting trip on the Upper Youghiogheny River! Here’s all the important information you need to know:\n \nTrip Details\n\nActivity: White Water Rafting\, \nLocation: Whitewater Adventure Inc.\nDate: Monday\, June 1st\, 2026\nTime: 12:00 PM\n\n\nCost\n\nSigh up. For the Upper Youghiogheny River experience.\nFee: $167.94 per person\nWhat’s included: The fee covers everything needed for the adventure.\n\n\nCancellation Policy\n\nCancel anytime before May 18th\, 2026 for a 90% refund.\nIf the trip is canceled due to weather\, the company will reschedule for another time.\n\n\nHow to Book\n\nBook your trip via:\n\nWebsite: Email at info@wwaraft.com\n\n\n\n\nConfirmation Emails\nAfter booking\, you will receive two emails: \n\nA waiver that must be signed.\nDetails about the trip\, including what to bring (e.g.\, change of clothes\, shoes).\n\n\nFor Questions\nIf you have any questions\, text 443-904-0988.
URL:https://chapters.theprimetimersww.com/pittsburgh/event/white-water-rafting/
LOCATION:Whitewater Adventure Inc.\, 6 Negley st\, Ohiopyle\, 15740\, United States
CATEGORIES:Special Event
ATTACH;FMTTYPE=image/jpeg:https://chapters.theprimetimersww.com/pittsburgh/wp-content/uploads/2026/04/whiewater.jpg
END:VEVENT
END:VCALENDAR