BEGIN:VCALENDAR
VERSION:2.0
PRODID:-//South Texas Prime Timers - ECPv6.15.20//NONSGML v1.0//EN
CALSCALE:GREGORIAN
METHOD:PUBLISH
X-ORIGINAL-URL:https://chapters.theprimetimersww.com/riogrande
X-WR-CALDESC:Events for South Texas Prime Timers
REFRESH-INTERVAL;VALUE=DURATION:PT1H
X-Robots-Tag:noindex
X-PUBLISHED-TTL:PT1H
BEGIN:VTIMEZONE
TZID:America/Chicago
BEGIN:DAYLIGHT
TZOFFSETFROM:-0600
TZOFFSETTO:-0500
TZNAME:CDT
DTSTART:20240310T080000
END:DAYLIGHT
BEGIN:STANDARD
TZOFFSETFROM:-0500
TZOFFSETTO:-0600
TZNAME:CST
DTSTART:20241103T070000
END:STANDARD
BEGIN:DAYLIGHT
TZOFFSETFROM:-0600
TZOFFSETTO:-0500
TZNAME:CDT
DTSTART:20250309T080000
END:DAYLIGHT
BEGIN:STANDARD
TZOFFSETFROM:-0500
TZOFFSETTO:-0600
TZNAME:CST
DTSTART:20251102T070000
END:STANDARD
BEGIN:DAYLIGHT
TZOFFSETFROM:-0600
TZOFFSETTO:-0500
TZNAME:CDT
DTSTART:20260308T080000
END:DAYLIGHT
BEGIN:STANDARD
TZOFFSETFROM:-0500
TZOFFSETTO:-0600
TZNAME:CST
DTSTART:20261101T070000
END:STANDARD
END:VTIMEZONE
BEGIN:VEVENT
DTSTART;TZID=America/Chicago:20251105T170000
DTEND;TZID=America/Chicago:20251105T183000
DTSTAMP:20260425T120916
CREATED:20231223T042428Z
LAST-MODIFIED:20240525T001755Z
UID:10000284-1762362000-1762367400@chapters.theprimetimersww.com
SUMMARY:Every WED 5:00 PM - Flamingo Bowl
DESCRIPTION:Join us every Wednesday afternoon at 5:00 for our Prime Timers weekly Bowling Social.  If you are not a bowler\, no worries\, there is also a large arcade room as well as multiple pool tables.  If you just want to relax\, socialize\, and take it easy there is a beautiful bar/lounge area and food service.  All are welcome!  For more information or questions please email southtxprimetimers@gmail.com. 
URL:https://chapters.theprimetimersww.com/riogrande/event/every-wed-500-pm-flamingo-bowl-3-2/2025-11-05/
LOCATION:Flamingo Bowl\, 3301 North 23rd Street\, McAllen\, TX\, 75801\, United States
ATTACH;FMTTYPE=image/jpeg:https://chapters.theprimetimersww.com/riogrande/wp-content/uploads/2019/07/flamingo-bowl.jpg
END:VEVENT
BEGIN:VEVENT
DTSTART;TZID=America/Chicago:20251111T110000
DTEND;TZID=America/Chicago:20251111T123000
DTSTAMP:20260425T120916
CREATED:20251102T191102Z
LAST-MODIFIED:20251102T191102Z
UID:10000531-1762858800-1762864200@chapters.theprimetimersww.com
SUMMARY:Tuesday - 11am. Lunch at Uncle Chop's please RSVP
DESCRIPTION:Prime Timers ROMEO (retired old men eating out) lunch will be in Weslaco at Uncle Chop’s Food Cort. They offer fantastic ground brisket burgers\, Tacos\, and other unique gourmet items.  Please RSVP to southtxprimetimers@gmail.com if you plan to attend.
URL:https://chapters.theprimetimersww.com/riogrande/event/tuesday-11am-lunch-at-uncle-chops-please-rsvp/
LOCATION:Uncle Chops – Weslaco\, 200 South Border Ave\, Weslaco\, TX\, 78596\, United States
ATTACH;FMTTYPE=image/png:https://chapters.theprimetimersww.com/riogrande/wp-content/uploads/2025/06/uncleChop.png
END:VEVENT
BEGIN:VEVENT
DTSTART;TZID=America/Chicago:20251112T170000
DTEND;TZID=America/Chicago:20251112T183000
DTSTAMP:20260425T120916
CREATED:20231223T042428Z
LAST-MODIFIED:20240525T001755Z
UID:10000285-1762966800-1762972200@chapters.theprimetimersww.com
SUMMARY:Every WED 5:00 PM - Flamingo Bowl
DESCRIPTION:Join us every Wednesday afternoon at 5:00 for our Prime Timers weekly Bowling Social.  If you are not a bowler\, no worries\, there is also a large arcade room as well as multiple pool tables.  If you just want to relax\, socialize\, and take it easy there is a beautiful bar/lounge area and food service.  All are welcome!  For more information or questions please email southtxprimetimers@gmail.com. 
URL:https://chapters.theprimetimersww.com/riogrande/event/every-wed-500-pm-flamingo-bowl-3-2/2025-11-12/
LOCATION:Flamingo Bowl\, 3301 North 23rd Street\, McAllen\, TX\, 75801\, United States
ATTACH;FMTTYPE=image/jpeg:https://chapters.theprimetimersww.com/riogrande/wp-content/uploads/2019/07/flamingo-bowl.jpg
END:VEVENT
BEGIN:VEVENT
DTSTART;TZID=America/Chicago:20251115T140000
DTEND;TZID=America/Chicago:20251115T153000
DTSTAMP:20260425T120916
CREATED:20251102T192408Z
LAST-MODIFIED:20251102T192408Z
UID:10000532-1763215200-1763220600@chapters.theprimetimersww.com
SUMMARY:Saturday 2pm - Annual Membership Meeting
DESCRIPTION:Save the date…South Texas Prime Timers annual membership meeting and 2025 officer elections. Please consider volunteering to participate in the administration of this club. It takes very little time. Also\, bring your ideas for future activities and if there is anything you wish to have on the agenda for discussion\, let us know.\nThe location was emailed to members but if you missed it\, feel free to contact us at southtxprimetimers@gmail.com for more information.
URL:https://chapters.theprimetimersww.com/riogrande/event/saturday-2pm-annual-membership-meeting/
ATTACH;FMTTYPE=image/png:https://chapters.theprimetimersww.com/riogrande/wp-content/uploads/2024/08/vote.png
END:VEVENT
BEGIN:VEVENT
DTSTART;TZID=America/Chicago:20251119T170000
DTEND;TZID=America/Chicago:20251119T183000
DTSTAMP:20260425T120916
CREATED:20231223T042428Z
LAST-MODIFIED:20240525T001755Z
UID:10000286-1763571600-1763577000@chapters.theprimetimersww.com
SUMMARY:Every WED 5:00 PM - Flamingo Bowl
DESCRIPTION:Join us every Wednesday afternoon at 5:00 for our Prime Timers weekly Bowling Social.  If you are not a bowler\, no worries\, there is also a large arcade room as well as multiple pool tables.  If you just want to relax\, socialize\, and take it easy there is a beautiful bar/lounge area and food service.  All are welcome!  For more information or questions please email southtxprimetimers@gmail.com. 
URL:https://chapters.theprimetimersww.com/riogrande/event/every-wed-500-pm-flamingo-bowl-3-2/2025-11-19/
LOCATION:Flamingo Bowl\, 3301 North 23rd Street\, McAllen\, TX\, 75801\, United States
ATTACH;FMTTYPE=image/jpeg:https://chapters.theprimetimersww.com/riogrande/wp-content/uploads/2019/07/flamingo-bowl.jpg
END:VEVENT
BEGIN:VEVENT
DTSTART;TZID=America/Chicago:20251122T130000
DTEND;TZID=America/Chicago:20251122T143000
DTSTAMP:20260425T120916
CREATED:20251102T192755Z
LAST-MODIFIED:20251102T192755Z
UID:10000533-1763816400-1763821800@chapters.theprimetimersww.com
SUMMARY:Saturday 1 pm - Lunch at Cheddars RSVP please.
DESCRIPTION:Prime Timers monthly lunch for November is at Cheddar’s Scratch Kitchen in McAllen.  Please RSVP to southtxprimetimers@gmail.com if you plan to attend.
URL:https://chapters.theprimetimersww.com/riogrande/event/saturday-1-pm-lunch-at-cheddars-rsvp-please-2/
LOCATION:Cheddars McAllen\, 3020 W Expressway 83\, McAllen\, TX\, 78501\, United States
ATTACH;FMTTYPE=image/png:https://chapters.theprimetimersww.com/riogrande/wp-content/uploads/2025/05/cheddars-logo.png
END:VEVENT
BEGIN:VEVENT
DTSTART;TZID=America/Chicago:20251126T170000
DTEND;TZID=America/Chicago:20251126T183000
DTSTAMP:20260425T120916
CREATED:20231223T042428Z
LAST-MODIFIED:20240525T001755Z
UID:10000287-1764176400-1764181800@chapters.theprimetimersww.com
SUMMARY:Every WED 5:00 PM - Flamingo Bowl
DESCRIPTION:Join us every Wednesday afternoon at 5:00 for our Prime Timers weekly Bowling Social.  If you are not a bowler\, no worries\, there is also a large arcade room as well as multiple pool tables.  If you just want to relax\, socialize\, and take it easy there is a beautiful bar/lounge area and food service.  All are welcome!  For more information or questions please email southtxprimetimers@gmail.com. 
URL:https://chapters.theprimetimersww.com/riogrande/event/every-wed-500-pm-flamingo-bowl-3-2/2025-11-26/
LOCATION:Flamingo Bowl\, 3301 North 23rd Street\, McAllen\, TX\, 75801\, United States
ATTACH;FMTTYPE=image/jpeg:https://chapters.theprimetimersww.com/riogrande/wp-content/uploads/2019/07/flamingo-bowl.jpg
END:VEVENT
BEGIN:VEVENT
DTSTART;TZID=America/Chicago:20251130T130000
DTEND;TZID=America/Chicago:20251130T160000
DTSTAMP:20260425T120916
CREATED:20251102T194935Z
LAST-MODIFIED:20251128T171928Z
UID:10000534-1764507600-1764518400@chapters.theprimetimersww.com
SUMMARY:Sunday 3pm - Movie Matinee
DESCRIPTION:We will meet at Cinemark Pharr Town Center at 3pm to see Wicked: For Good. Get your seats in advance through the theater.\n 
URL:https://chapters.theprimetimersww.com/riogrande/event/sunday-early-afternoon-movie-matinee-please-rsvp/
LOCATION:Cinemark Pharr Town Center\, 600 N Jackson Rd\, Pharr\, TX\, 78577\, United States
ATTACH;FMTTYPE=image/png:https://chapters.theprimetimersww.com/riogrande/wp-content/uploads/2025/01/movie.png
END:VEVENT
END:VCALENDAR