BEGIN:VCALENDAR
VERSION:2.0
PRODID:-//South Texas Prime Timers - ECPv6.15.20//NONSGML v1.0//EN
CALSCALE:GREGORIAN
METHOD:PUBLISH
X-ORIGINAL-URL:https://chapters.theprimetimersww.com/riogrande
X-WR-CALDESC:Events for South Texas Prime Timers
REFRESH-INTERVAL;VALUE=DURATION:PT1H
X-Robots-Tag:noindex
X-PUBLISHED-TTL:PT1H
BEGIN:VTIMEZONE
TZID:America/Chicago
BEGIN:DAYLIGHT
TZOFFSETFROM:-0600
TZOFFSETTO:-0500
TZNAME:CDT
DTSTART:20250309T080000
END:DAYLIGHT
BEGIN:STANDARD
TZOFFSETFROM:-0500
TZOFFSETTO:-0600
TZNAME:CST
DTSTART:20251102T070000
END:STANDARD
BEGIN:DAYLIGHT
TZOFFSETFROM:-0600
TZOFFSETTO:-0500
TZNAME:CDT
DTSTART:20260308T080000
END:DAYLIGHT
BEGIN:STANDARD
TZOFFSETFROM:-0500
TZOFFSETTO:-0600
TZNAME:CST
DTSTART:20261101T070000
END:STANDARD
BEGIN:DAYLIGHT
TZOFFSETFROM:-0600
TZOFFSETTO:-0500
TZNAME:CDT
DTSTART:20270314T080000
END:DAYLIGHT
BEGIN:STANDARD
TZOFFSETFROM:-0500
TZOFFSETTO:-0600
TZNAME:CST
DTSTART:20271107T070000
END:STANDARD
END:VTIMEZONE
BEGIN:VEVENT
DTSTART;TZID=America/Chicago:20260107T170000
DTEND;TZID=America/Chicago:20260107T183000
DTSTAMP:20260424T110520
CREATED:20260102T165253Z
LAST-MODIFIED:20260102T170339Z
UID:10000538-1767805200-1767810600@chapters.theprimetimersww.com
SUMMARY:Wednesday 5:00 PM - Flamingo Bowl
DESCRIPTION:Join us every Wednesday at 5:00pm for our Prime Timers weekly Bowling Social. If you are not a bowler\, come as a spectator to relax\, socialize\, and have a drink. Flamingo Bowl has a beautiful bar/lounge area\, food service\, pool tables\, darts\, and a large arcade room. All are welcome! For more information or questions please email southtxprimetimers@gmail.com. 
URL:https://chapters.theprimetimersww.com/riogrande/event/every-wed-500-pm-flamingo-bowl-3-2-2-2/2026-01-07/
LOCATION:Flamingo Bowl\, 3301 North 23rd Street\, McAllen\, TX\, 75801\, United States
ATTACH;FMTTYPE=image/jpeg:https://chapters.theprimetimersww.com/riogrande/wp-content/uploads/2019/07/flamingo-bowl.jpg
END:VEVENT
BEGIN:VEVENT
DTSTART;TZID=America/Chicago:20260110T140000
DTEND;TZID=America/Chicago:20260110T153000
DTSTAMP:20260424T110520
CREATED:20260102T161020Z
LAST-MODIFIED:20260102T161020Z
UID:10000539-1768053600-1768059000@chapters.theprimetimersww.com
SUMMARY:Saturday 2pm Lunch at University Draft House (RSVP please)
DESCRIPTION:Join the South Texas Prime Timers for lunch in McAllen at the University Draft House in McAllen. This location is right by the tracks along old 83 inside a repurposed water plant. We are meeting at 2pm to get their regular menu. Last month at 1pm they were serving a brunch menu. Please RSVP if you wish to attend to southtxprimetimers@gmail.com.
URL:https://chapters.theprimetimersww.com/riogrande/event/saturday-2pm-lunch-at-university-draft-house-rsvp-please/
LOCATION:University Draft House\, 100 W Business 83\, McAllen\, TX\, 78501\, United States
ATTACH;FMTTYPE=image/png:https://chapters.theprimetimersww.com/riogrande/wp-content/uploads/2025/12/UnivDHlogo.png
END:VEVENT
BEGIN:VEVENT
DTSTART;TZID=America/Chicago:20260114T170000
DTEND;TZID=America/Chicago:20260114T183000
DTSTAMP:20260424T110520
CREATED:20260102T165253Z
LAST-MODIFIED:20260102T170339Z
UID:10000540-1768410000-1768415400@chapters.theprimetimersww.com
SUMMARY:Wednesday 5:00 PM - Flamingo Bowl
DESCRIPTION:Join us every Wednesday at 5:00pm for our Prime Timers weekly Bowling Social. If you are not a bowler\, come as a spectator to relax\, socialize\, and have a drink. Flamingo Bowl has a beautiful bar/lounge area\, food service\, pool tables\, darts\, and a large arcade room. All are welcome! For more information or questions please email southtxprimetimers@gmail.com. 
URL:https://chapters.theprimetimersww.com/riogrande/event/every-wed-500-pm-flamingo-bowl-3-2-2-2/2026-01-14/
LOCATION:Flamingo Bowl\, 3301 North 23rd Street\, McAllen\, TX\, 75801\, United States
ATTACH;FMTTYPE=image/jpeg:https://chapters.theprimetimersww.com/riogrande/wp-content/uploads/2019/07/flamingo-bowl.jpg
END:VEVENT
BEGIN:VEVENT
DTSTART;TZID=America/Chicago:20260121T170000
DTEND;TZID=America/Chicago:20260121T183000
DTSTAMP:20260424T110520
CREATED:20260102T165253Z
LAST-MODIFIED:20260102T170339Z
UID:10000541-1769014800-1769020200@chapters.theprimetimersww.com
SUMMARY:Wednesday 5:00 PM - Flamingo Bowl
DESCRIPTION:Join us every Wednesday at 5:00pm for our Prime Timers weekly Bowling Social. If you are not a bowler\, come as a spectator to relax\, socialize\, and have a drink. Flamingo Bowl has a beautiful bar/lounge area\, food service\, pool tables\, darts\, and a large arcade room. All are welcome! For more information or questions please email southtxprimetimers@gmail.com. 
URL:https://chapters.theprimetimersww.com/riogrande/event/every-wed-500-pm-flamingo-bowl-3-2-2-2/2026-01-21/
LOCATION:Flamingo Bowl\, 3301 North 23rd Street\, McAllen\, TX\, 75801\, United States
ATTACH;FMTTYPE=image/jpeg:https://chapters.theprimetimersww.com/riogrande/wp-content/uploads/2019/07/flamingo-bowl.jpg
END:VEVENT
BEGIN:VEVENT
DTSTART;TZID=America/Chicago:20260122T111500
DTEND;TZID=America/Chicago:20260122T150000
DTSTAMP:20260424T110520
CREATED:20260102T185029Z
LAST-MODIFIED:20260115T164800Z
UID:10000800-1769080500-1769094000@chapters.theprimetimersww.com
SUMMARY:Friday 11:15am Lunch and Trolley Tour RSVP please
DESCRIPTION:South Texas Prime Timers are planning a Historical Tour of Rio Grande City with Bessie III Trolley Tours on January 22 at 1:30 pm. The tour is 1.5 hours long and is $10.00 per person cash or check only. (Veterans are free) Reservations must be made 1 day in advance. We plan to meet first at 11:15am for lunch at Caro’s Mexican Restaurant. Their address is 607 W 2nd Street in Rio Grande City. If you plan to attend please RSVP by Jan. 20 to southtxprimetimers@gmail.com
URL:https://chapters.theprimetimersww.com/riogrande/event/friday-1115am-lunch-and-trolley-tour-rsvp-please/
LOCATION:Bessie Trolley\, 406 E. Main Street\, Rio Grande City\, TX\, 78582\, United States
ATTACH;FMTTYPE=image/png:https://chapters.theprimetimersww.com/riogrande/wp-content/uploads/2026/01/bessie3.png
END:VEVENT
BEGIN:VEVENT
DTSTART;TZID=America/Chicago:20260125T130000
DTEND;TZID=America/Chicago:20260125T160000
DTSTAMP:20260424T110520
CREATED:20260102T191231Z
LAST-MODIFIED:20260102T191330Z
UID:10000801-1769346000-1769356800@chapters.theprimetimersww.com
SUMMARY:Sunday afternoon - Movie Matinee
DESCRIPTION:We will meet at Cinemark Pharr Town Center Sunday afternoon to see a yet to be determined movie. Get your seats in advance through the theater.\n 
URL:https://chapters.theprimetimersww.com/riogrande/event/sunday-afternoon-movie-matinee-2/
LOCATION:Cinemark Pharr Town Center\, 600 N Jackson Rd\, Pharr\, TX\, 78577\, United States
ATTACH;FMTTYPE=image/png:https://chapters.theprimetimersww.com/riogrande/wp-content/uploads/2025/01/movie.png
END:VEVENT
BEGIN:VEVENT
DTSTART;TZID=America/Chicago:20260128T170000
DTEND;TZID=America/Chicago:20260128T183000
DTSTAMP:20260424T110520
CREATED:20260102T165253Z
LAST-MODIFIED:20260102T170339Z
UID:10000542-1769619600-1769625000@chapters.theprimetimersww.com
SUMMARY:Wednesday 5:00 PM - Flamingo Bowl
DESCRIPTION:Join us every Wednesday at 5:00pm for our Prime Timers weekly Bowling Social. If you are not a bowler\, come as a spectator to relax\, socialize\, and have a drink. Flamingo Bowl has a beautiful bar/lounge area\, food service\, pool tables\, darts\, and a large arcade room. All are welcome! For more information or questions please email southtxprimetimers@gmail.com. 
URL:https://chapters.theprimetimersww.com/riogrande/event/every-wed-500-pm-flamingo-bowl-3-2-2-2/2026-01-28/
LOCATION:Flamingo Bowl\, 3301 North 23rd Street\, McAllen\, TX\, 75801\, United States
ATTACH;FMTTYPE=image/jpeg:https://chapters.theprimetimersww.com/riogrande/wp-content/uploads/2019/07/flamingo-bowl.jpg
END:VEVENT
END:VCALENDAR