BEGIN:VCALENDAR
VERSION:2.0
PRODID:-//South Texas Prime Timers - ECPv6.15.20//NONSGML v1.0//EN
CALSCALE:GREGORIAN
METHOD:PUBLISH
X-ORIGINAL-URL:https://chapters.theprimetimersww.com/riogrande
X-WR-CALDESC:Events for South Texas Prime Timers
REFRESH-INTERVAL;VALUE=DURATION:PT1H
X-Robots-Tag:noindex
X-PUBLISHED-TTL:PT1H
BEGIN:VTIMEZONE
TZID:America/Chicago
BEGIN:DAYLIGHT
TZOFFSETFROM:-0600
TZOFFSETTO:-0500
TZNAME:CDT
DTSTART:20250309T080000
END:DAYLIGHT
BEGIN:STANDARD
TZOFFSETFROM:-0500
TZOFFSETTO:-0600
TZNAME:CST
DTSTART:20251102T070000
END:STANDARD
BEGIN:DAYLIGHT
TZOFFSETFROM:-0600
TZOFFSETTO:-0500
TZNAME:CDT
DTSTART:20260308T080000
END:DAYLIGHT
BEGIN:STANDARD
TZOFFSETFROM:-0500
TZOFFSETTO:-0600
TZNAME:CST
DTSTART:20261101T070000
END:STANDARD
BEGIN:DAYLIGHT
TZOFFSETFROM:-0600
TZOFFSETTO:-0500
TZNAME:CDT
DTSTART:20270314T080000
END:DAYLIGHT
BEGIN:STANDARD
TZOFFSETFROM:-0500
TZOFFSETTO:-0600
TZNAME:CST
DTSTART:20271107T070000
END:STANDARD
END:VTIMEZONE
BEGIN:VEVENT
DTSTART;TZID=America/Chicago:20260204T170000
DTEND;TZID=America/Chicago:20260204T183000
DTSTAMP:20260423T235020
CREATED:20260102T165253Z
LAST-MODIFIED:20260102T170339Z
UID:10000543-1770224400-1770229800@chapters.theprimetimersww.com
SUMMARY:Wednesday 5:00 PM - Flamingo Bowl
DESCRIPTION:Join us every Wednesday at 5:00pm for our Prime Timers weekly Bowling Social. If you are not a bowler\, come as a spectator to relax\, socialize\, and have a drink. Flamingo Bowl has a beautiful bar/lounge area\, food service\, pool tables\, darts\, and a large arcade room. All are welcome! For more information or questions please email southtxprimetimers@gmail.com. 
URL:https://chapters.theprimetimersww.com/riogrande/event/every-wed-500-pm-flamingo-bowl-3-2-2-2/2026-02-04/
LOCATION:Flamingo Bowl\, 3301 North 23rd Street\, McAllen\, TX\, 75801\, United States
ATTACH;FMTTYPE=image/jpeg:https://chapters.theprimetimersww.com/riogrande/wp-content/uploads/2019/07/flamingo-bowl.jpg
END:VEVENT
BEGIN:VEVENT
DTSTART;TZID=America/Chicago:20260207T100000
DTEND;TZID=America/Chicago:20260207T113000
DTSTAMP:20260423T235020
CREATED:20260202T180349Z
LAST-MODIFIED:20260202T180349Z
UID:10000802-1770458400-1770463800@chapters.theprimetimersww.com
SUMMARY:Saturday 10 am - Harlingen Market Days
DESCRIPTION:Monthly\, on the first Saturday\, Harlingen holds their Market Days street fair on Jackson street between 4th and Commerce. Live music\, good food\, antiques\, and locally created arts and crafts are featured at this event. Afterwards join us at La Playa for lunch.
URL:https://chapters.theprimetimersww.com/riogrande/event/saturday-10-am-harlingen-market-days/
LOCATION:Market Days Harlingen\, 214 W Jackson Street\, Harlingen\, TX\, 78550\, United States
ATTACH;FMTTYPE=image/png:https://chapters.theprimetimersww.com/riogrande/wp-content/uploads/2023/12/marketDay.png
END:VEVENT
BEGIN:VEVENT
DTSTART;TZID=America/Chicago:20260207T113000
DTEND;TZID=America/Chicago:20260207T133000
DTSTAMP:20260423T235020
CREATED:20260202T181814Z
LAST-MODIFIED:20260202T181814Z
UID:10000803-1770463800-1770471000@chapters.theprimetimersww.com
SUMMARY:Saturday 11:30am - Lunch at La Playa - please RSVP
DESCRIPTION:Join us for February’s Lunch at La Playa Mexican Cafe in Harlingen. Please RSVP to southtxprimetimers@gmail.com if you plan to attend.
URL:https://chapters.theprimetimersww.com/riogrande/event/saturday-1130am-lunch-at-la-playa-please-rsvp/
LOCATION:La Playa Mexican Restaurant\, 502 South 77 Sunshine Strip\, Harlingen\, TX\, 78550\, United States
ATTACH;FMTTYPE=image/jpeg:https://chapters.theprimetimersww.com/riogrande/wp-content/uploads/2022/08/La-Playa-logo-e1659492043644.jpg
END:VEVENT
BEGIN:VEVENT
DTSTART;TZID=America/Chicago:20260211T170000
DTEND;TZID=America/Chicago:20260211T183000
DTSTAMP:20260423T235020
CREATED:20260102T165253Z
LAST-MODIFIED:20260102T170339Z
UID:10000544-1770829200-1770834600@chapters.theprimetimersww.com
SUMMARY:Wednesday 5:00 PM - Flamingo Bowl
DESCRIPTION:Join us every Wednesday at 5:00pm for our Prime Timers weekly Bowling Social. If you are not a bowler\, come as a spectator to relax\, socialize\, and have a drink. Flamingo Bowl has a beautiful bar/lounge area\, food service\, pool tables\, darts\, and a large arcade room. All are welcome! For more information or questions please email southtxprimetimers@gmail.com. 
URL:https://chapters.theprimetimersww.com/riogrande/event/every-wed-500-pm-flamingo-bowl-3-2-2-2/2026-02-11/
LOCATION:Flamingo Bowl\, 3301 North 23rd Street\, McAllen\, TX\, 75801\, United States
ATTACH;FMTTYPE=image/jpeg:https://chapters.theprimetimersww.com/riogrande/wp-content/uploads/2019/07/flamingo-bowl.jpg
END:VEVENT
BEGIN:VEVENT
DTSTART;TZID=America/Chicago:20260213T130000
DTEND;TZID=America/Chicago:20260213T150000
DTSTAMP:20260423T235020
CREATED:20260202T182519Z
LAST-MODIFIED:20260202T182519Z
UID:10000804-1770987600-1770994800@chapters.theprimetimersww.com
SUMMARY:Friday 1:00pm - Lunch at The Blue Onion - RSVP please
DESCRIPTION:February’s ROMEO Lunch is at The Blue Onion in Weslaco. Join us in enjoying their unique menu. Please RSVP to southtxprimetimers@gmail.com if you plan to attend.
URL:https://chapters.theprimetimersww.com/riogrande/event/friday-100pm-lunch-at-the-blue-onion-rsvp-please/
LOCATION:Blue Onion – Weslaco\, 423 South International Blvd.\, Weslaco\, TX\, 78596\, United States
ATTACH;FMTTYPE=image/jpeg:https://chapters.theprimetimersww.com/riogrande/wp-content/uploads/2022/01/Blue-Onion-logo.jpg
END:VEVENT
BEGIN:VEVENT
DTSTART;TZID=America/Chicago:20260215T140000
DTEND;TZID=America/Chicago:20260215T160000
DTSTAMP:20260423T235020
CREATED:20260202T185255Z
LAST-MODIFIED:20260202T190031Z
UID:10000805-1771164000-1771171200@chapters.theprimetimersww.com
SUMMARY:Sunday 2 pm - Game Day at Ray & Gabe's (RSVP please)
DESCRIPTION:Join us in Weslaco for an afternoon of games like Mexican Train Dominoes or Rummikub. We’ll have homemade pizza to snack on. BYOB. Please RSVP to southtxprimetimers@gmail.com if you wish to attend.
URL:https://chapters.theprimetimersww.com/riogrande/event/sunday-2-pm-game-day-at-ray-gabes-rsvp-please/
ATTACH;FMTTYPE=image/png:https://chapters.theprimetimersww.com/riogrande/wp-content/uploads/2024/03/train-domino.png
END:VEVENT
BEGIN:VEVENT
DTSTART;TZID=America/Chicago:20260218T170000
DTEND;TZID=America/Chicago:20260218T183000
DTSTAMP:20260423T235020
CREATED:20260102T165253Z
LAST-MODIFIED:20260102T170339Z
UID:10000545-1771434000-1771439400@chapters.theprimetimersww.com
SUMMARY:Wednesday 5:00 PM - Flamingo Bowl
DESCRIPTION:Join us every Wednesday at 5:00pm for our Prime Timers weekly Bowling Social. If you are not a bowler\, come as a spectator to relax\, socialize\, and have a drink. Flamingo Bowl has a beautiful bar/lounge area\, food service\, pool tables\, darts\, and a large arcade room. All are welcome! For more information or questions please email southtxprimetimers@gmail.com. 
URL:https://chapters.theprimetimersww.com/riogrande/event/every-wed-500-pm-flamingo-bowl-3-2-2-2/2026-02-18/
LOCATION:Flamingo Bowl\, 3301 North 23rd Street\, McAllen\, TX\, 75801\, United States
ATTACH;FMTTYPE=image/jpeg:https://chapters.theprimetimersww.com/riogrande/wp-content/uploads/2019/07/flamingo-bowl.jpg
END:VEVENT
BEGIN:VEVENT
DTSTART;TZID=America/Chicago:20260222T130000
DTEND;TZID=America/Chicago:20260222T160000
DTSTAMP:20260423T235020
CREATED:20260202T190239Z
LAST-MODIFIED:20260221T172643Z
UID:10000806-1771765200-1771776000@chapters.theprimetimersww.com
SUMMARY:Sunday 12:15pm - Movie Matinee
DESCRIPTION:We will meet at Cinemark Pharr Town Center Sunday afternoon to see Crime 101.\n 
URL:https://chapters.theprimetimersww.com/riogrande/event/sunday-afternoon-movie-matinee-3/
LOCATION:Cinemark Pharr Town Center\, 600 N Jackson Rd\, Pharr\, TX\, 78577\, United States
ATTACH;FMTTYPE=image/png:https://chapters.theprimetimersww.com/riogrande/wp-content/uploads/2025/01/movie.png
END:VEVENT
BEGIN:VEVENT
DTSTART;TZID=America/Chicago:20260225T170000
DTEND;TZID=America/Chicago:20260225T183000
DTSTAMP:20260423T235020
CREATED:20260102T165253Z
LAST-MODIFIED:20260102T170339Z
UID:10000546-1772038800-1772044200@chapters.theprimetimersww.com
SUMMARY:Wednesday 5:00 PM - Flamingo Bowl
DESCRIPTION:Join us every Wednesday at 5:00pm for our Prime Timers weekly Bowling Social. If you are not a bowler\, come as a spectator to relax\, socialize\, and have a drink. Flamingo Bowl has a beautiful bar/lounge area\, food service\, pool tables\, darts\, and a large arcade room. All are welcome! For more information or questions please email southtxprimetimers@gmail.com. 
URL:https://chapters.theprimetimersww.com/riogrande/event/every-wed-500-pm-flamingo-bowl-3-2-2-2/2026-02-25/
LOCATION:Flamingo Bowl\, 3301 North 23rd Street\, McAllen\, TX\, 75801\, United States
ATTACH;FMTTYPE=image/jpeg:https://chapters.theprimetimersww.com/riogrande/wp-content/uploads/2019/07/flamingo-bowl.jpg
END:VEVENT
END:VCALENDAR