BEGIN:VCALENDAR
VERSION:2.0
PRODID:-//South Texas Prime Timers - ECPv6.15.20//NONSGML v1.0//EN
CALSCALE:GREGORIAN
METHOD:PUBLISH
X-ORIGINAL-URL:https://chapters.theprimetimersww.com/riogrande
X-WR-CALDESC:Events for South Texas Prime Timers
REFRESH-INTERVAL;VALUE=DURATION:PT1H
X-Robots-Tag:noindex
X-PUBLISHED-TTL:PT1H
BEGIN:VTIMEZONE
TZID:America/Chicago
BEGIN:DAYLIGHT
TZOFFSETFROM:-0600
TZOFFSETTO:-0500
TZNAME:CDT
DTSTART:20280312T080000
END:DAYLIGHT
BEGIN:STANDARD
TZOFFSETFROM:-0500
TZOFFSETTO:-0600
TZNAME:CST
DTSTART:20281105T070000
END:STANDARD
BEGIN:DAYLIGHT
TZOFFSETFROM:-0600
TZOFFSETTO:-0500
TZNAME:CDT
DTSTART:20290311T080000
END:DAYLIGHT
BEGIN:STANDARD
TZOFFSETFROM:-0500
TZOFFSETTO:-0600
TZNAME:CST
DTSTART:20291104T070000
END:STANDARD
BEGIN:DAYLIGHT
TZOFFSETFROM:-0600
TZOFFSETTO:-0500
TZNAME:CDT
DTSTART:20300310T080000
END:DAYLIGHT
BEGIN:STANDARD
TZOFFSETFROM:-0500
TZOFFSETTO:-0600
TZNAME:CST
DTSTART:20301103T070000
END:STANDARD
END:VTIMEZONE
BEGIN:VEVENT
DTSTART;TZID=America/Chicago:20290502T170000
DTEND;TZID=America/Chicago:20290502T183000
DTSTAMP:20260423T205958
CREATED:20260102T165253Z
LAST-MODIFIED:20260102T170339Z
UID:10000712-1872435600-1872441000@chapters.theprimetimersww.com
SUMMARY:Wednesday 5:00 PM - Flamingo Bowl
DESCRIPTION:Join us every Wednesday at 5:00pm for our Prime Timers weekly Bowling Social. If you are not a bowler\, come as a spectator to relax\, socialize\, and have a drink. Flamingo Bowl has a beautiful bar/lounge area\, food service\, pool tables\, darts\, and a large arcade room. All are welcome! For more information or questions please email southtxprimetimers@gmail.com. 
URL:https://chapters.theprimetimersww.com/riogrande/event/every-wed-500-pm-flamingo-bowl-3-2-2-2/2029-05-02/
LOCATION:Flamingo Bowl\, 3301 North 23rd Street\, McAllen\, TX\, 75801\, United States
ATTACH;FMTTYPE=image/jpeg:https://chapters.theprimetimersww.com/riogrande/wp-content/uploads/2019/07/flamingo-bowl.jpg
END:VEVENT
BEGIN:VEVENT
DTSTART;TZID=America/Chicago:20290509T170000
DTEND;TZID=America/Chicago:20290509T183000
DTSTAMP:20260423T205958
CREATED:20260102T165253Z
LAST-MODIFIED:20260102T170339Z
UID:10000713-1873040400-1873045800@chapters.theprimetimersww.com
SUMMARY:Wednesday 5:00 PM - Flamingo Bowl
DESCRIPTION:Join us every Wednesday at 5:00pm for our Prime Timers weekly Bowling Social. If you are not a bowler\, come as a spectator to relax\, socialize\, and have a drink. Flamingo Bowl has a beautiful bar/lounge area\, food service\, pool tables\, darts\, and a large arcade room. All are welcome! For more information or questions please email southtxprimetimers@gmail.com. 
URL:https://chapters.theprimetimersww.com/riogrande/event/every-wed-500-pm-flamingo-bowl-3-2-2-2/2029-05-09/
LOCATION:Flamingo Bowl\, 3301 North 23rd Street\, McAllen\, TX\, 75801\, United States
ATTACH;FMTTYPE=image/jpeg:https://chapters.theprimetimersww.com/riogrande/wp-content/uploads/2019/07/flamingo-bowl.jpg
END:VEVENT
BEGIN:VEVENT
DTSTART;TZID=America/Chicago:20290516T170000
DTEND;TZID=America/Chicago:20290516T183000
DTSTAMP:20260423T205958
CREATED:20260102T165253Z
LAST-MODIFIED:20260102T170339Z
UID:10000714-1873645200-1873650600@chapters.theprimetimersww.com
SUMMARY:Wednesday 5:00 PM - Flamingo Bowl
DESCRIPTION:Join us every Wednesday at 5:00pm for our Prime Timers weekly Bowling Social. If you are not a bowler\, come as a spectator to relax\, socialize\, and have a drink. Flamingo Bowl has a beautiful bar/lounge area\, food service\, pool tables\, darts\, and a large arcade room. All are welcome! For more information or questions please email southtxprimetimers@gmail.com. 
URL:https://chapters.theprimetimersww.com/riogrande/event/every-wed-500-pm-flamingo-bowl-3-2-2-2/2029-05-16/
LOCATION:Flamingo Bowl\, 3301 North 23rd Street\, McAllen\, TX\, 75801\, United States
ATTACH;FMTTYPE=image/jpeg:https://chapters.theprimetimersww.com/riogrande/wp-content/uploads/2019/07/flamingo-bowl.jpg
END:VEVENT
BEGIN:VEVENT
DTSTART;TZID=America/Chicago:20290523T170000
DTEND;TZID=America/Chicago:20290523T183000
DTSTAMP:20260423T205958
CREATED:20260102T165253Z
LAST-MODIFIED:20260102T170339Z
UID:10000715-1874250000-1874255400@chapters.theprimetimersww.com
SUMMARY:Wednesday 5:00 PM - Flamingo Bowl
DESCRIPTION:Join us every Wednesday at 5:00pm for our Prime Timers weekly Bowling Social. If you are not a bowler\, come as a spectator to relax\, socialize\, and have a drink. Flamingo Bowl has a beautiful bar/lounge area\, food service\, pool tables\, darts\, and a large arcade room. All are welcome! For more information or questions please email southtxprimetimers@gmail.com. 
URL:https://chapters.theprimetimersww.com/riogrande/event/every-wed-500-pm-flamingo-bowl-3-2-2-2/2029-05-23/
LOCATION:Flamingo Bowl\, 3301 North 23rd Street\, McAllen\, TX\, 75801\, United States
ATTACH;FMTTYPE=image/jpeg:https://chapters.theprimetimersww.com/riogrande/wp-content/uploads/2019/07/flamingo-bowl.jpg
END:VEVENT
BEGIN:VEVENT
DTSTART;TZID=America/Chicago:20290530T170000
DTEND;TZID=America/Chicago:20290530T183000
DTSTAMP:20260423T205958
CREATED:20260102T165253Z
LAST-MODIFIED:20260102T170339Z
UID:10000716-1874854800-1874860200@chapters.theprimetimersww.com
SUMMARY:Wednesday 5:00 PM - Flamingo Bowl
DESCRIPTION:Join us every Wednesday at 5:00pm for our Prime Timers weekly Bowling Social. If you are not a bowler\, come as a spectator to relax\, socialize\, and have a drink. Flamingo Bowl has a beautiful bar/lounge area\, food service\, pool tables\, darts\, and a large arcade room. All are welcome! For more information or questions please email southtxprimetimers@gmail.com. 
URL:https://chapters.theprimetimersww.com/riogrande/event/every-wed-500-pm-flamingo-bowl-3-2-2-2/2029-05-30/
LOCATION:Flamingo Bowl\, 3301 North 23rd Street\, McAllen\, TX\, 75801\, United States
ATTACH;FMTTYPE=image/jpeg:https://chapters.theprimetimersww.com/riogrande/wp-content/uploads/2019/07/flamingo-bowl.jpg
END:VEVENT
END:VCALENDAR