BEGIN:VCALENDAR
VERSION:2.0
PRODID:-//South Texas Prime Timers - ECPv6.15.20//NONSGML v1.0//EN
CALSCALE:GREGORIAN
METHOD:PUBLISH
X-ORIGINAL-URL:https://chapters.theprimetimersww.com/riogrande
X-WR-CALDESC:Events for South Texas Prime Timers
REFRESH-INTERVAL;VALUE=DURATION:PT1H
X-Robots-Tag:noindex
X-PUBLISHED-TTL:PT1H
BEGIN:VTIMEZONE
TZID:America/Chicago
BEGIN:DAYLIGHT
TZOFFSETFROM:-0600
TZOFFSETTO:-0500
TZNAME:CDT
DTSTART:20220313T080000
END:DAYLIGHT
BEGIN:STANDARD
TZOFFSETFROM:-0500
TZOFFSETTO:-0600
TZNAME:CST
DTSTART:20221106T070000
END:STANDARD
BEGIN:DAYLIGHT
TZOFFSETFROM:-0600
TZOFFSETTO:-0500
TZNAME:CDT
DTSTART:20230312T080000
END:DAYLIGHT
BEGIN:STANDARD
TZOFFSETFROM:-0500
TZOFFSETTO:-0600
TZNAME:CST
DTSTART:20231105T070000
END:STANDARD
BEGIN:DAYLIGHT
TZOFFSETFROM:-0600
TZOFFSETTO:-0500
TZNAME:CDT
DTSTART:20240310T080000
END:DAYLIGHT
BEGIN:STANDARD
TZOFFSETFROM:-0500
TZOFFSETTO:-0600
TZNAME:CST
DTSTART:20241103T070000
END:STANDARD
END:VTIMEZONE
BEGIN:VEVENT
DTSTART;TZID=America/Chicago:20230513T103000
DTEND;TZID=America/Chicago:20230513T113000
DTSTAMP:20260424T020106
CREATED:20230503T005452Z
LAST-MODIFIED:20230514T144509Z
UID:10000108-1683973800-1683977400@chapters.theprimetimersww.com
SUMMARY:SAT 10:30 AM - Coffee Social - East RGV Option at Bandera Coffee
DESCRIPTION:
URL:https://chapters.theprimetimersww.com/riogrande/event/sat-1030-am-coffee-social-at-bandera-coffee/
LOCATION:Bandera Coffee\, 415 Van Buren\, Harlingen\, TX\, 78550\, United States
ATTACH;FMTTYPE=image/jpeg:https://chapters.theprimetimersww.com/riogrande/wp-content/uploads/2023/05/logo-Bandera-Coffee-e1683079799171.jpg
END:VEVENT
END:VCALENDAR